BEGIN:VCALENDAR
VERSION:2.0
PRODID:-//Dokkan - ECPv6.15.17//NONSGML v1.0//EN
CALSCALE:GREGORIAN
METHOD:PUBLISH
X-WR-CALNAME:Dokkan
X-ORIGINAL-URL:https://dokkan.is
X-WR-CALDESC:Events for Dokkan
REFRESH-INTERVAL;VALUE=DURATION:PT1H
X-Robots-Tag:noindex
X-PUBLISHED-TTL:PT1H
BEGIN:VTIMEZONE
TZID:Atlantic/Reykjavik
BEGIN:STANDARD
TZOFFSETFROM:+0000
TZOFFSETTO:+0000
TZNAME:GMT
DTSTART:20170101T000000
END:STANDARD
END:VTIMEZONE
BEGIN:VEVENT
DTSTART;TZID=Atlantic/Reykjavik:20181102T100000
DTEND;TZID=Atlantic/Reykjavik:20181102T110000
DTSTAMP:20260423T190401
CREATED:20200815T123244Z
LAST-MODIFIED:20200815T175617Z
UID:3366-1541152800-1541156400@dokkan.is
SUMMARY:Eru til eitraðir vinnustaðir? Einkenni og afleiðingar
DESCRIPTION:Við fáum hana Þórkötlu Aðalsteinsdóttur til að segja okkur allt um það.Fjölmargir vinnustaðir standa frammi fyrir verulegum vanda vegna “óheilbrigðar” fyrirtækjamenningar og starfsanda\, sem bitnar síðan á rekstri fyrirtækisins og líðan og heilbrigði starfsfólks. Við ætlum að skyggnast inn í veröld vinnusálfræðinnar og leita svara og lausa með reynsluboltanum Þórkötlu.Hver verður með okkur?Þórkatla Aðalsteinsdóttir\, sálfræðingur hjá Líf og sálHvar verðum
URL:https://dokkan.is/fundur/eru-til-eitradir-vinnustadir-einkenni-og-afleidingar/
LOCATION:Dokkan\, Iceland
CATEGORIES:Dokkufundir - fyrir þau sem vita að framtíðin bíður ekki eftir þeim sem bíða...
END:VEVENT
BEGIN:VEVENT
DTSTART;TZID=Atlantic/Reykjavik:20181102T100000
DTEND;TZID=Atlantic/Reykjavik:20181102T110000
DTSTAMP:20260423T190401
CREATED:20200815T123244Z
LAST-MODIFIED:20200815T175618Z
UID:3367-1541152800-1541156400@dokkan.is
SUMMARY:Hvernig hámörkum við orku og skilvirkni í vinnu og daglegu lífi?
DESCRIPTION:Á þessum Dokkufundi verður yfir þá þætti sem mikilvægastir eru til að hámarka orku og skilvirkni\, bæði þegar kemur að vinnu og einkalífi. Fjallað verður um svefn\, hreyfingu\, kulnun og líkamleg álagseinkenni. Einnig verður farið yfir líkamsbeitingu og líkamsstöður í og við vinnu (“ekki vera rækja”) og hvernig hægt er að leggja sitt af mörkum til að koma í veg fyrir álagseinkenni í til dæmis mjöðmum\, mjóbaki\, hálsi og herðum.Ásamt því að fjalla um þessa þætti munum við ræða lausnir og
URL:https://dokkan.is/fundur/hvernig-hamorkum-vid-orku-og-skilvirkni-i-vinnu-og-daglegu-lifi/
LOCATION:Dokkan\, Iceland
CATEGORIES:Dokkufundir - fyrir þau sem vita að framtíðin bíður ekki eftir þeim sem bíða...
END:VEVENT
END:VCALENDAR