BEGIN:VCALENDAR
VERSION:2.0
PRODID:-//Dokkan - ECPv6.15.17//NONSGML v1.0//EN
CALSCALE:GREGORIAN
METHOD:PUBLISH
X-ORIGINAL-URL:https://dokkan.is
X-WR-CALDESC:Events for Dokkan
REFRESH-INTERVAL;VALUE=DURATION:PT1H
X-Robots-Tag:noindex
X-PUBLISHED-TTL:PT1H
BEGIN:VTIMEZONE
TZID:Atlantic/Reykjavik
BEGIN:STANDARD
TZOFFSETFROM:+0000
TZOFFSETTO:+0000
TZNAME:GMT
DTSTART:20170101T000000
END:STANDARD
END:VTIMEZONE
BEGIN:VEVENT
DTSTART;TZID=Atlantic/Reykjavik:20181101T100000
DTEND;TZID=Atlantic/Reykjavik:20181101T110000
DTSTAMP:20260423T192449
CREATED:20200815T123244Z
LAST-MODIFIED:20200815T175620Z
UID:3368-1541066400-1541070000@dokkan.is
SUMMARY:Bylting í stjórnun - líka á Íslandi? Hamingjan "rules"
DESCRIPTION:Á Dokkufundinum fáum við yfirlit yfir það helsta sem kom fram á ráðstefunni “Bylting í stjórnun”\, sem haldin var á vegum Manino á Hilton Nordia í sept. sl.Á ráðstefunni komu fram 5 erlendir framsögumenn með athyglisverðar kenningar um hvað væri framundan á sviði stjórnunar. Er bylting í kortunum\, þurfum við að bregðast við og þá hvernig? Hvernig er staðan í stjórnun á Íslandi miðað við það sem fram kom á ráðstefnunni?Eins og nafn ráðstefnunnar gefur til kynna var fjallað um
URL:https://dokkan.is/fundur/bylting-i-stjornun-lika-a-islandi-hamingjan-rules/
LOCATION:Dokkan\, Iceland
CATEGORIES:Dokkufundir - fyrir þau sem vita að framtíðin bíður ekki eftir þeim sem bíða...
END:VEVENT
BEGIN:VEVENT
DTSTART;TZID=Atlantic/Reykjavik:20181101T100000
DTEND;TZID=Atlantic/Reykjavik:20181101T110000
DTSTAMP:20260423T192449
CREATED:20200815T123244Z
LAST-MODIFIED:20200815T175622Z
UID:3369-1541066400-1541070000@dokkan.is
SUMMARY:Sveigjanleiki í starfi í fjölmörgum myndum
DESCRIPTION:Spurningar sem við ætlum að leita svara við á fundinum eru ma.: Hvað felst í sveigjanleika í starfi? Hvernig er hægt að vinna sveigjanlega? Hvernig getum við gert vinnustaði sveigjanlegri? Að hverju þarf að huga? Hvaða græða fyrirtæki og starfsfólk á auknum sveigjanleika?Raddir sem krefjast styttingar vinnuvikunnar hafa orðið æ háværari undanfarna mánuði. Stytting vinnuvikunnar er aðeins ein af fjölmörgu lausnum til að gera
URL:https://dokkan.is/fundur/sveigjanleiki-i-starfi-i-fjolmorgum-myndum/
LOCATION:Dokkan\, Iceland
CATEGORIES:Dokkufundir - fyrir þau sem vita að framtíðin bíður ekki eftir þeim sem bíða...
END:VEVENT
END:VCALENDAR