BEGIN:VCALENDAR
VERSION:2.0
PRODID:-//Dokkan - ECPv6.15.17//NONSGML v1.0//EN
CALSCALE:GREGORIAN
METHOD:PUBLISH
X-ORIGINAL-URL:https://dokkan.is
X-WR-CALDESC:Events for Dokkan
REFRESH-INTERVAL;VALUE=DURATION:PT1H
X-Robots-Tag:noindex
X-PUBLISHED-TTL:PT1H
BEGIN:VTIMEZONE
TZID:Atlantic/Reykjavik
BEGIN:STANDARD
TZOFFSETFROM:+0000
TZOFFSETTO:+0000
TZNAME:GMT
DTSTART:20170101T000000
END:STANDARD
END:VTIMEZONE
BEGIN:VEVENT
DTSTART;TZID=Atlantic/Reykjavik:20180925T100000
DTEND;TZID=Atlantic/Reykjavik:20180925T110000
DTSTAMP:20260423T224948
CREATED:20200815T123245Z
LAST-MODIFIED:20200815T175641Z
UID:3371-1537869600-1537873200@dokkan.is
SUMMARY:Þjónustustjórnun; áherslur\, sérstaða og þróun
DESCRIPTION:Þjónusta og þjónustustjórnun hefur fengið aukna athygli undanfarin ár. Er það bæði vegna þess að skilningur stjórnenda á viðfangsefninu hefur vaxið en ekki síður vegna þess að kröfur samfélagsins hafa aukist. Þannig eru notendur þjónustu gjarnan meðvitaðri um rétti sinn og valkosti en áður\, m.a. vegna betra aðgengis að upplýsingum samfara almennri netnotkun.En hvað er þjónusta\, hvernig er hún frábrugðin öðrum lausnum sem í boði er og hvaða sérstöku áskoranir eru það sem stjórnendur
URL:https://dokkan.is/fundur/thjonustustjornun-aherslur-serstada-og-throun/
LOCATION:Dokkan\, Iceland
CATEGORIES:Dokkufundir - fyrir þau sem vita að framtíðin bíður ekki eftir þeim sem bíða...
END:VEVENT
END:VCALENDAR