BEGIN:VCALENDAR
VERSION:2.0
PRODID:-//Dokkan - ECPv6.15.17//NONSGML v1.0//EN
CALSCALE:GREGORIAN
METHOD:PUBLISH
X-ORIGINAL-URL:https://dokkan.is
X-WR-CALDESC:Events for Dokkan
REFRESH-INTERVAL;VALUE=DURATION:PT1H
X-Robots-Tag:noindex
X-PUBLISHED-TTL:PT1H
BEGIN:VTIMEZONE
TZID:Atlantic/Reykjavik
BEGIN:STANDARD
TZOFFSETFROM:+0000
TZOFFSETTO:+0000
TZNAME:GMT
DTSTART:20170101T000000
END:STANDARD
END:VTIMEZONE
BEGIN:VEVENT
DTSTART;TZID=Atlantic/Reykjavik:20180918T100000
DTEND;TZID=Atlantic/Reykjavik:20180918T110000
DTSTAMP:20260423T224947
CREATED:20200815T123245Z
LAST-MODIFIED:20200815T175641Z
UID:3373-1537264800-1537268400@dokkan.is
SUMMARY:Skjalastjórnun: Móttaka og afgreiðsla pappíra
DESCRIPTION:Hjá Sjóvá er starfrækt skjalaver þar sem þrír starfsmenn starfa við móttöku og skráningu gagna. Farið verður yfir helstu verkefni deildarinnar og sérstök áhersla lögð á hvernig pappír er meðhöndlaður allt frá móttöku til eyðingar.Við beinum sjónum okkar sérstaklega að: Móttökuferlinu Skönnun og vistun   Aðstöðu\, tækjum og tólum    Pökkun og frágangi Tiltækileika FörgunAð lokum verða gömul og ný
URL:https://dokkan.is/fundur/skjalastjornun-mottaka-og-afgreidsla-pappira/
LOCATION:Dokkan\, Iceland
CATEGORIES:Dokkufundir - fyrir þau sem vita að framtíðin bíður ekki eftir þeim sem bíða...
END:VEVENT
END:VCALENDAR