BEGIN:VCALENDAR
VERSION:2.0
PRODID:-//Dokkan - ECPv6.15.17//NONSGML v1.0//EN
CALSCALE:GREGORIAN
METHOD:PUBLISH
X-WR-CALNAME:Dokkan
X-ORIGINAL-URL:https://dokkan.is
X-WR-CALDESC:Events for Dokkan
REFRESH-INTERVAL;VALUE=DURATION:PT1H
X-Robots-Tag:noindex
X-PUBLISHED-TTL:PT1H
BEGIN:VTIMEZONE
TZID:Atlantic/Reykjavik
BEGIN:STANDARD
TZOFFSETFROM:+0000
TZOFFSETTO:+0000
TZNAME:GMT
DTSTART:20170101T000000
END:STANDARD
END:VTIMEZONE
BEGIN:VEVENT
DTSTART;TZID=Atlantic/Reykjavik:20180831T100000
DTEND;TZID=Atlantic/Reykjavik:20180831T110000
DTSTAMP:20260423T225634
CREATED:20200815T123246Z
LAST-MODIFIED:20200815T175642Z
UID:3379-1535709600-1535713200@dokkan.is
SUMMARY:Hátæknivöruhús: Framtíðin. sjálfvirkni og innleiðing
DESCRIPTION:Innnes ehf hefur undanfarin misseri unnið að hönnun á nýju hátæknivöruhúsi sem mun vera það fyrsta sinnar tegundar á Íslandi m.t.t. hönnunar\, sjálfvirkni og tækni.Vöruhúsið mun hýsa frysti\, kæli og þurrvörur og er hver eining hönnuð með mismunandi tækni til að tryggja sem besta vörumeðhöndlun m.t.t gæða.Hver verður með okkur?Jóhanna þ. Jónsdóttir\, framkvæmdastjóri aðfangakeðju InnnesJóhanna ætlar að fara yfir hönnunina\, segja frá undirbúningi
URL:https://dokkan.is/fundur/hataeknivoruhus-framtidin-sjalfvirkni-og-innleiding/
LOCATION:Dokkan\, Iceland
CATEGORIES:Dokkufundir - fyrir þau sem vita að framtíðin bíður ekki eftir þeim sem bíða...
END:VEVENT
END:VCALENDAR