BEGIN:VCALENDAR
VERSION:2.0
PRODID:-//Dokkan - ECPv6.15.17//NONSGML v1.0//EN
CALSCALE:GREGORIAN
METHOD:PUBLISH
X-ORIGINAL-URL:https://dokkan.is
X-WR-CALDESC:Events for Dokkan
REFRESH-INTERVAL;VALUE=DURATION:PT1H
X-Robots-Tag:noindex
X-PUBLISHED-TTL:PT1H
BEGIN:VTIMEZONE
TZID:Atlantic/Reykjavik
BEGIN:STANDARD
TZOFFSETFROM:+0000
TZOFFSETTO:+0000
TZNAME:GMT
DTSTART:20170101T000000
END:STANDARD
END:VTIMEZONE
BEGIN:VEVENT
DTSTART;TZID=Atlantic/Reykjavik:20180821T100000
DTEND;TZID=Atlantic/Reykjavik:20180821T110000
DTSTAMP:20260424T002540
CREATED:20200815T123246Z
LAST-MODIFIED:20200815T175642Z
UID:3380-1534845600-1534849200@dokkan.is
SUMMARY:Styrkleikamiðuð stefnumótun - öðruvísi áherslur
DESCRIPTION:Á þessum Dokkufundi verður kynnt ný aðferð til að vinna með við stefnumótun\, þar sem fókusinn er settur á hið öfluga og sterka innan fyrirtæksins. Styrkleikamiðuð stefnumótun  AI (e.g. Appreciative Inquiry) er leið til að  ná fram styrkleikum og röddum allra starfsmanna\, skýra eignarhald og ýta undir lausnamiðaða hugsun. Þetta er gert með því að spyrja áhrifamikilla spurninga\, safna saman reynslu hópsins og aðgerðabinda óskir. Aðferðin hefur verið notuð á heimsvísu í yfir 30 ár með góðum
URL:https://dokkan.is/fundur/styrkleikamidud-stefnumotun-odruvisi-aherslur/
LOCATION:Dokkan\, Iceland
CATEGORIES:Dokkufundir - fyrir þau sem vita að framtíðin bíður ekki eftir þeim sem bíða...
END:VEVENT
BEGIN:VEVENT
DTSTART;TZID=Atlantic/Reykjavik:20180821T100000
DTEND;TZID=Atlantic/Reykjavik:20180821T110000
DTSTAMP:20260424T002540
CREATED:20200815T123246Z
LAST-MODIFIED:20200815T175642Z
UID:3381-1534845600-1534849200@dokkan.is
SUMMARY:Hvernig getum við einfaldað skipulag og aukið fagmennsku og árangur í eigin starfi með aðferðum Lean
DESCRIPTION:Því miður er fullbókað á þennan Dokkufund- erum að kanna möguleika á öðrum fundi.Á Dokkufundinum verður farið yfir í stuttu máli\, hvernig hægt er að bæta eigið skipulag með 5S\, kennd er einföld aðferð við að halda allri vinnu í réttu ferli\, hvernig á að skipuleggja verkefni\, hvernig á að losna við áreiti\, hvernig á að meðhöndla t-póstinn sinn og hvernig er hægt með einföldum hætti að skipuleggja sig í dagatali.Áherslur fundarins: Kortlagning á eigin starfi
URL:https://dokkan.is/fundur/hvernig-getum-vid-einfaldad-skipulag-og-aukid-fagmennsku-og-arangur-i-eigin-starfi-med-adferdum-lean/
LOCATION:Dokkan\, Iceland
CATEGORIES:Dokkufundir - fyrir þau sem vita að framtíðin bíður ekki eftir þeim sem bíða...
END:VEVENT
END:VCALENDAR