BEGIN:VCALENDAR
VERSION:2.0
PRODID:-//Dokkan - ECPv6.15.17//NONSGML v1.0//EN
CALSCALE:GREGORIAN
METHOD:PUBLISH
X-WR-CALNAME:Dokkan
X-ORIGINAL-URL:https://dokkan.is
X-WR-CALDESC:Events for Dokkan
REFRESH-INTERVAL;VALUE=DURATION:PT1H
X-Robots-Tag:noindex
X-PUBLISHED-TTL:PT1H
BEGIN:VTIMEZONE
TZID:Atlantic/Reykjavik
BEGIN:STANDARD
TZOFFSETFROM:+0000
TZOFFSETTO:+0000
TZNAME:GMT
DTSTART:20170101T000000
END:STANDARD
END:VTIMEZONE
BEGIN:VEVENT
DTSTART;TZID=Atlantic/Reykjavik:20180816T100000
DTEND;TZID=Atlantic/Reykjavik:20180816T110000
DTSTAMP:20260424T002541
CREATED:20200815T123247Z
LAST-MODIFIED:20200815T175642Z
UID:3382-1534413600-1534417200@dokkan.is
SUMMARY:Unlocking the Mind - Dokkufundur 1
DESCRIPTION:Við erum að reyna að semja við hana Öldu Karen um að halda fyrirlesturinn tvisvar þarna uað morgni 12. sept. – auglýsum um leið og við vitum meira.LífslyklarAlda Karen ætlar í þessum fyrirlestri að fara yfir nokkra vel valda lífslykla til að fylgja okkur inn í veturinn. Alda ætlar sér að endurforrita í okkur hugann með því að gera okkur meðvitaðri hvað er að gerast í heilanum þegar við hugsum\, finnum tilfinningar og gerum hlutina. Hvaða leiðir hugsanir og tilfinningar fara í
URL:https://dokkan.is/fundur/unlocking-the-mind-dokkufundur-1/
LOCATION:Dokkan\, Iceland
CATEGORIES:Dokkufundir - fyrir þau sem vita að framtíðin bíður ekki eftir þeim sem bíða...
END:VEVENT
END:VCALENDAR