BEGIN:VCALENDAR
VERSION:2.0
PRODID:-//Dokkan - ECPv6.15.17//NONSGML v1.0//EN
CALSCALE:GREGORIAN
METHOD:PUBLISH
X-WR-CALNAME:Dokkan
X-ORIGINAL-URL:https://dokkan.is
X-WR-CALDESC:Events for Dokkan
REFRESH-INTERVAL;VALUE=DURATION:PT1H
X-Robots-Tag:noindex
X-PUBLISHED-TTL:PT1H
BEGIN:VTIMEZONE
TZID:Atlantic/Reykjavik
BEGIN:STANDARD
TZOFFSETFROM:+0000
TZOFFSETTO:+0000
TZNAME:GMT
DTSTART:20170101T000000
END:STANDARD
END:VTIMEZONE
BEGIN:VEVENT
DTSTART;TZID=Atlantic/Reykjavik:20180811T100000
DTEND;TZID=Atlantic/Reykjavik:20180811T110000
DTSTAMP:20260424T002541
CREATED:20200815T123247Z
LAST-MODIFIED:20200815T175642Z
UID:3384-1533981600-1533985200@dokkan.is
SUMMARY:Ert þú næsta fórnarlamb netárásar? Fólk og ferlar - ekki bara UT
DESCRIPTION:Það eru algeng mistök hjá stjórnendum að halda að netöryggi snúist eingöngu um tækni og því eigi tölvudeildin ein að bera ábyrgð á netöryggi. Það er staðreynd að fólk og ferlar eru ekki síður mikilvægir þættir í netöryggi og það er þörf á samhentum aðgerðum hinna ýmsu deilda til að auka upplýsinga- og netöryggi. Í þessum fyrirlestri mun Þorvaldur m.a. ræða um ábyrgð og hlutverk stjórnenda varðandi netöryggi og netvarnir. Fjallað verður um algengar leiðir til að stela upplýsingum og brjótast
URL:https://dokkan.is/fundur/ert-thu-naesta-fornarlamb-netarasar-folk-og-ferlar-ekki-bara-ut/
LOCATION:Dokkan\, Iceland
CATEGORIES:Dokkufundir - fyrir þau sem vita að framtíðin bíður ekki eftir þeim sem bíða...
END:VEVENT
END:VCALENDAR