BEGIN:VCALENDAR
VERSION:2.0
PRODID:-//Dokkan - ECPv6.15.17//NONSGML v1.0//EN
CALSCALE:GREGORIAN
METHOD:PUBLISH
X-ORIGINAL-URL:https://dokkan.is
X-WR-CALDESC:Events for Dokkan
REFRESH-INTERVAL;VALUE=DURATION:PT1H
X-Robots-Tag:noindex
X-PUBLISHED-TTL:PT1H
BEGIN:VTIMEZONE
TZID:Atlantic/Reykjavik
BEGIN:STANDARD
TZOFFSETFROM:+0000
TZOFFSETTO:+0000
TZNAME:GMT
DTSTART:20170101T000000
END:STANDARD
END:VTIMEZONE
BEGIN:VEVENT
DTSTART;TZID=Atlantic/Reykjavik:20180426T100000
DTEND;TZID=Atlantic/Reykjavik:20180426T110000
DTSTAMP:20260424T065820
CREATED:20200815T123247Z
LAST-MODIFIED:20200815T175642Z
UID:3385-1524736800-1524740400@dokkan.is
SUMMARY:Hæfni; fræðsla og þjálfun - verðlaun
DESCRIPTION:Við ætlum að heimsækja ferðaskrifstofuna Iceland Travel sem hlaut Menntaverðlaun atvinnulífsins í febrúar sl.Iceland Travel er leiðandi ferðaskrifstofa í móttöku erlendra ferðamanna sem byggir á áratuga reynslu. Ársveltan stefnir í 14 milljarða og farþegar sem koma til Íslands á vegum Iceland Travel eru eitt hundrað og fimmtíu þúsund. Átta af hverjum tíu starfsmanna fyrirtækisins hafa lokið háskólaprófi\, flestir af viðskipta\, ferðamála- eða tungumálabrautum.„Þekking og færni
URL:https://dokkan.is/fundur/haefni-fraedsla-og-thjalfun-verdlaun/
LOCATION:Dokkan\, Iceland
CATEGORIES:Dokkufundir - fyrir þau sem vita að framtíðin bíður ekki eftir þeim sem bíða...
END:VEVENT
END:VCALENDAR