BEGIN:VCALENDAR
VERSION:2.0
PRODID:-//Dokkan - ECPv6.15.17//NONSGML v1.0//EN
CALSCALE:GREGORIAN
METHOD:PUBLISH
X-WR-CALNAME:Dokkan
X-ORIGINAL-URL:https://dokkan.is
X-WR-CALDESC:Events for Dokkan
REFRESH-INTERVAL;VALUE=DURATION:PT1H
X-Robots-Tag:noindex
X-PUBLISHED-TTL:PT1H
BEGIN:VTIMEZONE
TZID:Atlantic/Reykjavik
BEGIN:STANDARD
TZOFFSETFROM:+0000
TZOFFSETTO:+0000
TZNAME:GMT
DTSTART:20170101T000000
END:STANDARD
END:VTIMEZONE
BEGIN:VEVENT
DTSTART;TZID=Atlantic/Reykjavik:20180326T100000
DTEND;TZID=Atlantic/Reykjavik:20180326T110000
DTSTAMP:20260424T065821
CREATED:20200815T123249Z
LAST-MODIFIED:20200815T175642Z
UID:3391-1522058400-1522062000@dokkan.is
SUMMARY:Hlutverk leiðtogans í síbreytilegum tækniheimi
DESCRIPTION:Við fáum margfróða framsögumenn\, sem ætla að fara í gegnum eitt og annað sem tengist framtíðinni.
URL:https://dokkan.is/fundur/hlutverk-leidtogans-i-sibreytilegum-taekniheimi/
LOCATION:Dokkan\, Iceland
CATEGORIES:Dokkufundir - fyrir þau sem vita að framtíðin bíður ekki eftir þeim sem bíða...
END:VEVENT
END:VCALENDAR