BEGIN:VCALENDAR
VERSION:2.0
PRODID:-//Dokkan - ECPv6.15.17//NONSGML v1.0//EN
CALSCALE:GREGORIAN
METHOD:PUBLISH
X-ORIGINAL-URL:https://dokkan.is
X-WR-CALDESC:Events for Dokkan
REFRESH-INTERVAL;VALUE=DURATION:PT1H
X-Robots-Tag:noindex
X-PUBLISHED-TTL:PT1H
BEGIN:VTIMEZONE
TZID:Atlantic/Reykjavik
BEGIN:STANDARD
TZOFFSETFROM:+0000
TZOFFSETTO:+0000
TZNAME:GMT
DTSTART:20170101T000000
END:STANDARD
END:VTIMEZONE
BEGIN:VEVENT
DTSTART;TZID=Atlantic/Reykjavik:20180305T100000
DTEND;TZID=Atlantic/Reykjavik:20180305T110000
DTSTAMP:20260424T085026
CREATED:20200815T123249Z
LAST-MODIFIED:20200815T175642Z
UID:3392-1520244000-1520247600@dokkan.is
SUMMARY:Um GDPR - Deloitte
DESCRIPTION:Þann 25. maí 2018 mun ný reglugerð um vernd einstaklinga í tengslum við vinnslu persónuupplýsinga og um frjálsa miðlun slíkra upplýsinga taka gildi í Evrópu. Frá þeim degi munu fyrirtæki þurfa að sýna fram á að þau geti verndað persónugreinalegar upplýsingar einstaklinga\, auk þess að vera í stakk búin til að upplýsa einstaklinga um vinnslu og meðferð persónuupplýsinga þeirra\, sé eftir því leitað. Þetta kallar á miklar breytingar í upplýsingakerfum og ferlum. Ný löggjöf mun kalla á
URL:https://dokkan.is/fundur/um-gdpr-deloitte/
LOCATION:Dokkan\, Iceland
CATEGORIES:Dokkufundir - fyrir þau sem vita að framtíðin bíður ekki eftir þeim sem bíða...
END:VEVENT
END:VCALENDAR