BEGIN:VCALENDAR
VERSION:2.0
PRODID:-//Dokkan - ECPv6.15.17//NONSGML v1.0//EN
CALSCALE:GREGORIAN
METHOD:PUBLISH
X-ORIGINAL-URL:https://dokkan.is
X-WR-CALDESC:Events for Dokkan
REFRESH-INTERVAL;VALUE=DURATION:PT1H
X-Robots-Tag:noindex
X-PUBLISHED-TTL:PT1H
BEGIN:VTIMEZONE
TZID:Atlantic/Reykjavik
BEGIN:STANDARD
TZOFFSETFROM:+0000
TZOFFSETTO:+0000
TZNAME:GMT
DTSTART:20170101T000000
END:STANDARD
END:VTIMEZONE
BEGIN:VEVENT
DTSTART;TZID=Atlantic/Reykjavik:20180221T100000
DTEND;TZID=Atlantic/Reykjavik:20180221T110000
DTSTAMP:20260424T103315
CREATED:20200815T123249Z
LAST-MODIFIED:20200815T175642Z
UID:3394-1519207200-1519210800@dokkan.is
SUMMARY:Jafnlaunaferlið hjá Olís
DESCRIPTION:Vinna vegna jafnlaunavottunar skv jafnlaunastaðlinum ÍST 85:2012 hófst formlega hjá Olís í lok janúar á þessu ári. Samhliða var ákveðið að taka til endurskoðunar frammistöðumat\, einföldun starfslýsinga\, endurskoðun ferla og ýmsar stefnur tengdar mannauðsmálum. Áður hafði Olís fengið gullmerki PWC vegna jafnlaunaúttektar.Olís gekk til samstarfs við ráðgjafafyrirtækið Strategíu varðandi þetta verkefni og hefur Margrét Sanders ráðgjafi leitt það í samvinnu við Ragnheiði Björk
URL:https://dokkan.is/fundur/jafnlaunaferlid-hja-olis/
LOCATION:Dokkan\, Iceland
CATEGORIES:Dokkufundir - fyrir þau sem vita að framtíðin bíður ekki eftir þeim sem bíða...
END:VEVENT
END:VCALENDAR