BEGIN:VCALENDAR
VERSION:2.0
PRODID:-//Dokkan - ECPv6.15.17//NONSGML v1.0//EN
CALSCALE:GREGORIAN
METHOD:PUBLISH
X-WR-CALNAME:Dokkan
X-ORIGINAL-URL:https://dokkan.is
X-WR-CALDESC:Events for Dokkan
REFRESH-INTERVAL;VALUE=DURATION:PT1H
X-Robots-Tag:noindex
X-PUBLISHED-TTL:PT1H
BEGIN:VTIMEZONE
TZID:Atlantic/Reykjavik
BEGIN:STANDARD
TZOFFSETFROM:+0000
TZOFFSETTO:+0000
TZNAME:GMT
DTSTART:20170101T000000
END:STANDARD
END:VTIMEZONE
BEGIN:VEVENT
DTSTART;TZID=Atlantic/Reykjavik:20180130T100000
DTEND;TZID=Atlantic/Reykjavik:20180130T110000
DTSTAMP:20260424T102436
CREATED:20200815T123250Z
LAST-MODIFIED:20200815T175642Z
UID:3398-1517306400-1517310000@dokkan.is
SUMMARY:Innri markaðssetning - vinnan að baki sameiningu 3 fyrirtækja
DESCRIPTION:Nýherji\, Applicon og TM Software sameinuðu krafta sína sem eitt öflugt upplýsingatækni við upphaf árs 2018 undir nafinu Origo. Unnið hafði verið að sameiningunni meðal stjórnenda samstæðunnar um nokkrun tíma en í lok maí 2017 var verkefnið kynnt fyrir starfsfólki og samhliða því voru stofnaðir þrír vinnuhópar stjórnenda og starfsfólks sem höfðu það verkefni að undirbúa sameininguna.Það er að ýmsu að hyggja í sameiningarferli fyrirtækja og óhætt að segja að verkefnalisti þeirra sem
URL:https://dokkan.is/fundur/innri-markadssetning-vinnan-ad-baki-sameiningu-3-fyrirtaekja/
LOCATION:Dokkan\, Iceland
CATEGORIES:Dokkufundir - fyrir þau sem vita að framtíðin bíður ekki eftir þeim sem bíða...
END:VEVENT
END:VCALENDAR