BEGIN:VCALENDAR
VERSION:2.0
PRODID:-//Dokkan - ECPv6.15.17//NONSGML v1.0//EN
CALSCALE:GREGORIAN
METHOD:PUBLISH
X-ORIGINAL-URL:https://dokkan.is
X-WR-CALDESC:Events for Dokkan
REFRESH-INTERVAL;VALUE=DURATION:PT1H
X-Robots-Tag:noindex
X-PUBLISHED-TTL:PT1H
BEGIN:VTIMEZONE
TZID:Atlantic/Reykjavik
BEGIN:STANDARD
TZOFFSETFROM:+0000
TZOFFSETTO:+0000
TZNAME:GMT
DTSTART:20170101T000000
END:STANDARD
END:VTIMEZONE
BEGIN:VEVENT
DTSTART;TZID=Atlantic/Reykjavik:20180124T100000
DTEND;TZID=Atlantic/Reykjavik:20180124T110000
DTSTAMP:20260424T134915
CREATED:20200815T123250Z
LAST-MODIFIED:20200815T175642Z
UID:3399-1516788000-1516791600@dokkan.is
SUMMARY:Verkefnastjórnun í Fintech
DESCRIPTION:Undanfarin misseri hefur Reiknistofa Bankanna unnið að aðlögun og innleiðingu á nýju innlána og greiðslukerfi í samstarfi við tvo af eigendum sínum og helstu viðskiptavinum\, Landsbanka og Íslandsbanka.  Kerfið leysir af hólmi áratugagömul heimasmíðuð kerfi sem þjónað hafa þessum grunnþáttum fjármálaþjónustu\, og eru því – eðli málsins samkvæmt – vandlega samofin í daglega vinnslu tölvukerfa bankanna. Á fundinum\, sem er samstarfsverkefni Dokkunnar og Verkefnastjórnunarfélagsins\, fáum við
URL:https://dokkan.is/fundur/verkefnastjornun-i-fintech/
LOCATION:Dokkan\, Iceland
CATEGORIES:Dokkufundir - fyrir þau sem vita að framtíðin bíður ekki eftir þeim sem bíða...
END:VEVENT
END:VCALENDAR