BEGIN:VCALENDAR
VERSION:2.0
PRODID:-//Dokkan - ECPv6.15.17//NONSGML v1.0//EN
CALSCALE:GREGORIAN
METHOD:PUBLISH
X-WR-CALNAME:Dokkan
X-ORIGINAL-URL:https://dokkan.is
X-WR-CALDESC:Events for Dokkan
REFRESH-INTERVAL;VALUE=DURATION:PT1H
X-Robots-Tag:noindex
X-PUBLISHED-TTL:PT1H
BEGIN:VTIMEZONE
TZID:Atlantic/Reykjavik
BEGIN:STANDARD
TZOFFSETFROM:+0000
TZOFFSETTO:+0000
TZNAME:GMT
DTSTART:20170101T000000
END:STANDARD
END:VTIMEZONE
BEGIN:VEVENT
DTSTART;TZID=Atlantic/Reykjavik:20180116T100000
DTEND;TZID=Atlantic/Reykjavik:20180116T110000
DTSTAMP:20260424T121152
CREATED:20200815T123250Z
LAST-MODIFIED:20200815T175642Z
UID:3401-1516096800-1516100400@dokkan.is
SUMMARY:Hvaða áhrif hefur stafræna byltingin á stefnumótun og innleiðingu stefnu?
DESCRIPTION:Ath. Fundurinn er kl. 15.00 til 16.15.Á fundinum verður fjallað um hvaða áhrif stafræna byltingin er að hafa á hvernig fyrirtæki og stofnanir þurfa að nálgast stefnumótun og innleiðingu stefnunnar til framtíðar.Í gegnum tíðina hefur áherslan verið á að verja góðum tíma við að greina annars vegar innri styrkleika og veikleika fyrirtækja og stofnana og hins vegar ógnanir og tækifæri í ytra umhverfinu. Sú aðferðafræði mun duga skammt í framtíðinni þar sem hraðinn
URL:https://dokkan.is/fundur/hvada-ahrif-hefur-stafraena-byltingin-a-stefnumotun-og-innleidingu-stefnu/
LOCATION:Dokkan\, Iceland
CATEGORIES:Dokkufundir - fyrir þau sem vita að framtíðin bíður ekki eftir þeim sem bíða...
END:VEVENT
END:VCALENDAR