BEGIN:VCALENDAR
VERSION:2.0
PRODID:-//Dokkan - ECPv6.15.17//NONSGML v1.0//EN
CALSCALE:GREGORIAN
METHOD:PUBLISH
X-WR-CALNAME:Dokkan
X-ORIGINAL-URL:https://dokkan.is
X-WR-CALDESC:Events for Dokkan
REFRESH-INTERVAL;VALUE=DURATION:PT1H
X-Robots-Tag:noindex
X-PUBLISHED-TTL:PT1H
BEGIN:VTIMEZONE
TZID:Atlantic/Reykjavik
BEGIN:STANDARD
TZOFFSETFROM:+0000
TZOFFSETTO:+0000
TZNAME:GMT
DTSTART:20170101T000000
END:STANDARD
END:VTIMEZONE
BEGIN:VEVENT
DTSTART;TZID=Atlantic/Reykjavik:20180111T100000
DTEND;TZID=Atlantic/Reykjavik:20180111T110000
DTSTAMP:20260424T121152
CREATED:20200815T123250Z
LAST-MODIFIED:20200815T175642Z
UID:3402-1515664800-1515668400@dokkan.is
SUMMARY:Sjálfvirkni í ákvarðanatökum
DESCRIPTION:Í þessum fyrirlestri mun Gunnar fara yfir það hvernig fyrirtæki geta leyst gögn úr læðingi og látið þau vinna fyrir sig. Farið verður yfir þá þætti sem vinna saman til þess að hægt sé að taka sjálfvirkar ákvarðanir ásamt því að skoða raundæmi. Kastað verður ljósi á hvernig sjálfvirk ákvarðanataka getur minnkað kostnað\, aukið hraða og bætt þjónustu.Hver verður með okkur?Gunnar Gunnarsson\, forstöðumaður hjá CreditinfoGunnar Gunnarsson er forstöðumaður fyrir Greiningu og
URL:https://dokkan.is/fundur/sjalfvirkni-i-akvardanatokum/
LOCATION:Dokkan\, Iceland
CATEGORIES:Dokkufundir - fyrir þau sem vita að framtíðin bíður ekki eftir þeim sem bíða...
END:VEVENT
END:VCALENDAR