BEGIN:VCALENDAR
VERSION:2.0
PRODID:-//Dokkan - ECPv6.15.17//NONSGML v1.0//EN
CALSCALE:GREGORIAN
METHOD:PUBLISH
X-WR-CALNAME:Dokkan
X-ORIGINAL-URL:https://dokkan.is
X-WR-CALDESC:Events for Dokkan
REFRESH-INTERVAL;VALUE=DURATION:PT1H
X-Robots-Tag:noindex
X-PUBLISHED-TTL:PT1H
BEGIN:VTIMEZONE
TZID:Atlantic/Reykjavik
BEGIN:STANDARD
TZOFFSETFROM:+0000
TZOFFSETTO:+0000
TZNAME:GMT
DTSTART:20160101T000000
END:STANDARD
END:VTIMEZONE
BEGIN:VEVENT
DTSTART;TZID=Atlantic/Reykjavik:20171215T100000
DTEND;TZID=Atlantic/Reykjavik:20171215T110000
DTSTAMP:20260424T135840
CREATED:20200815T123251Z
LAST-MODIFIED:20200815T175642Z
UID:3408-1513332000-1513335600@dokkan.is
SUMMARY:Hvaða eiginleikar eru og verða eftirsóttir á komandi árum?
DESCRIPTION:Talið er að um 60% af störfum barnanna okkar séu óþekkt. Sum störf sem við þekkjum í dag munu hverfa og tæknibyltingin mun hafa áhrif á allt atvinnulífið. Það er því mikilvægt að setja framtíðina á dagskrá og leika sér með tímaflakk til þess að reyna að fá einhver svör. Það ætlum við að gera á þessum Dokkufundi.Hver verður með okkur?Stefanía Halldórsdóttir\, framtíðarspegúlantHvar verðum við?Í viðburðasal Arion banka\, Kringlunni – verslunarmiðstöð\, í útibúinu á
URL:https://dokkan.is/fundur/hvada-eiginleikar-eru-og-verda-eftirsottir-a-komandi-arum/
LOCATION:Dokkan\, Iceland
CATEGORIES:Dokkufundir - fyrir þau sem vita að framtíðin bíður ekki eftir þeim sem bíða...
END:VEVENT
END:VCALENDAR