BEGIN:VCALENDAR
VERSION:2.0
PRODID:-//Dokkan - ECPv6.15.17//NONSGML v1.0//EN
CALSCALE:GREGORIAN
METHOD:PUBLISH
X-ORIGINAL-URL:https://dokkan.is
X-WR-CALDESC:Events for Dokkan
REFRESH-INTERVAL;VALUE=DURATION:PT1H
X-Robots-Tag:noindex
X-PUBLISHED-TTL:PT1H
BEGIN:VTIMEZONE
TZID:Atlantic/Reykjavik
BEGIN:STANDARD
TZOFFSETFROM:+0000
TZOFFSETTO:+0000
TZNAME:GMT
DTSTART:20160101T000000
END:STANDARD
END:VTIMEZONE
BEGIN:VEVENT
DTSTART;TZID=Atlantic/Reykjavik:20171213T100000
DTEND;TZID=Atlantic/Reykjavik:20171213T110000
DTSTAMP:20260424T135906
CREATED:20200815T123252Z
LAST-MODIFIED:20200815T175642Z
UID:3409-1513159200-1513162800@dokkan.is
SUMMARY:Hvernig tengist GDPR og ISO 27001?
DESCRIPTION:ISO 27001 er upplýsingaöryggiskerfi og samkvæmt GDPR (A Risk Manager’s Guide To The General Data Protection Regulation) kemur fram að persónuupplýsingar séu krítískar upplýsingar sem öllum fyrirtækjum ber að vernda. Það eru þó nokkur ákvæði í GDPR sem ISO 27001 tekur EKKI beint fyrir. Má þar nefna eins og að styðja við réttindi þeirra einstaklinga sem persónuupplýsingar varða\, réttinn til að vera upplýstur um vinnslu persónuupplýsinga\, rétturinn til að gleymast og flutning
URL:https://dokkan.is/fundur/hvernig-tengist-gdpr-og-iso-27001/
LOCATION:Dokkan\, Iceland
CATEGORIES:Dokkufundir - fyrir þau sem vita að framtíðin bíður ekki eftir þeim sem bíða...
END:VEVENT
BEGIN:VEVENT
DTSTART;TZID=Atlantic/Reykjavik:20171213T100000
DTEND;TZID=Atlantic/Reykjavik:20171213T110000
DTSTAMP:20260424T135906
CREATED:20200815T123252Z
LAST-MODIFIED:20200815T175642Z
UID:3410-1513159200-1513162800@dokkan.is
SUMMARY:Project portfolio management - PPM
DESCRIPTION:Því miður þá er fullt út úr dyrum hjá Sjóvá!Flest fyrirtæki og stofnanir kannast við langa lista verkefna sem bíða þess að vera unnir. Bæði tækni- og lagaumhverfi verður flóknara með hverju árinu sem líður sem veldur því að verkefnalistarnir lengjast og flækjast og sífellt verður erfiðara að forgangsraða. Í síbreytilegu og kviku umhverfi nútímans er afar mikilvægt að forgangsraða verkefnum með skilvirkum hætti út frá stefnu
URL:https://dokkan.is/fundur/project-portfolio-management-ppm/
LOCATION:Dokkan\, Iceland
CATEGORIES:Dokkufundir - fyrir þau sem vita að framtíðin bíður ekki eftir þeim sem bíða...
END:VEVENT
END:VCALENDAR