BEGIN:VCALENDAR
VERSION:2.0
PRODID:-//Dokkan - ECPv6.15.17//NONSGML v1.0//EN
CALSCALE:GREGORIAN
METHOD:PUBLISH
X-WR-CALNAME:Dokkan
X-ORIGINAL-URL:https://dokkan.is
X-WR-CALDESC:Events for Dokkan
REFRESH-INTERVAL;VALUE=DURATION:PT1H
X-Robots-Tag:noindex
X-PUBLISHED-TTL:PT1H
BEGIN:VTIMEZONE
TZID:Atlantic/Reykjavik
BEGIN:STANDARD
TZOFFSETFROM:+0000
TZOFFSETTO:+0000
TZNAME:GMT
DTSTART:20160101T000000
END:STANDARD
END:VTIMEZONE
BEGIN:VEVENT
DTSTART;TZID=Atlantic/Reykjavik:20171031T100000
DTEND;TZID=Atlantic/Reykjavik:20171031T110000
DTSTAMP:20260424T153546
CREATED:20200815T123252Z
LAST-MODIFIED:20200815T175642Z
UID:3413-1509444000-1509447600@dokkan.is
SUMMARY:Síðasta „tabúið  á vinnumarkaði: Uppbygging geðheilbrigðs vinnustaðar
DESCRIPTION:Síðasta „tabúið  á vinnumarkaðiHvernig birtast geðsjúkdómar á vinnustaðnum? Er kvíði fyrir verkefnum eða daglegum störfum? Er kvíði fyrir að mæta í vinnuna? Hvernig getum við hjálpað hvert öðru\, hvað geta stjórnendur gert og hvernig getum við öll byggt upp geðheilbrigða vinnustaði?Við fáum sérfræðinga frá Geðhjálp til að fjalla um þetta viðkvæma en mikilvæga málefni.Áherslur fundarins: Um Geðhjálp og hvernig þau geta aðstoðað (mjög stutt)
URL:https://dokkan.is/fundur/sidasta-tabuid-a-vinnumarkadi-uppbygging-gedheilbrigds-vinnustadar/
LOCATION:Dokkan\, Iceland
CATEGORIES:Dokkufundir - fyrir þau sem vita að framtíðin bíður ekki eftir þeim sem bíða...
END:VEVENT
BEGIN:VEVENT
DTSTART;TZID=Atlantic/Reykjavik:20171031T100000
DTEND;TZID=Atlantic/Reykjavik:20171031T110000
DTSTAMP:20260424T153546
CREATED:20200815T123252Z
LAST-MODIFIED:20200815T175642Z
UID:3412-1509444000-1509447600@dokkan.is
SUMMARY:Öryggismálin hjá Landsneti: Persónuöryggi\, rekstraröryggi\, neyðarstjórn og neyðarsamstarf innan raforkugeirans NSR
DESCRIPTION:Landsnet leggur mikla áherslu á að fyllsta öryggis sé gætt í allri starfsemi fyrirtækisins. Settar hafa verið reglur sem stuðla að öruggu og heilsusamlegu starfsumhverfi og engar málamiðlanir gerðar þegar kemur að öryggmálum.”Okkar sýn er að ekkert slys verði í starfseminni og því eru öryggismál mikilvæg í okkar augum og ávallt í forgangi\, enda ekkert mikilvægara en að starfsmenn komist heilir heim frá vinnu”.Á fundinum mun öryggisstjóri Landsnets kynna áherslur varðandi
URL:https://dokkan.is/fundur/oryggismalin-hja-landsneti-personuoryggi-rekstraroryggi-neydarstjorn-og-neydarsamstarf-innan-raforkugeirans-nsr/
LOCATION:Dokkan\, Iceland
CATEGORIES:Dokkufundir - fyrir þau sem vita að framtíðin bíður ekki eftir þeim sem bíða...
END:VEVENT
END:VCALENDAR