BEGIN:VCALENDAR
VERSION:2.0
PRODID:-//Dokkan - ECPv6.15.17//NONSGML v1.0//EN
CALSCALE:GREGORIAN
METHOD:PUBLISH
X-WR-CALNAME:Dokkan
X-ORIGINAL-URL:https://dokkan.is
X-WR-CALDESC:Events for Dokkan
REFRESH-INTERVAL;VALUE=DURATION:PT1H
X-Robots-Tag:noindex
X-PUBLISHED-TTL:PT1H
BEGIN:VTIMEZONE
TZID:Atlantic/Reykjavik
BEGIN:STANDARD
TZOFFSETFROM:+0000
TZOFFSETTO:+0000
TZNAME:GMT
DTSTART:20160101T000000
END:STANDARD
END:VTIMEZONE
BEGIN:VEVENT
DTSTART;TZID=Atlantic/Reykjavik:20170901T100000
DTEND;TZID=Atlantic/Reykjavik:20170901T110000
DTSTAMP:20260424T185746
CREATED:20200815T123254Z
LAST-MODIFIED:20200815T175658Z
UID:3424-1504260000-1504263600@dokkan.is
SUMMARY:Er verið að spá í Workplace by Facebook á þínum vinnustað?
DESCRIPTION:Er verið er að spá í Workplace by Facebook á þínum vinnustað ættir þú ekki að missa af þessum fundi.Við fáum góðan gest\, sem er mikill samfélagsmiðlahugsuður\, til að ræða nokkur atriði sem vert er að skoða áður en haldið er af stað í innleiðingu á Facebook fyrir vinnustaðinn. Hægt er að ná fram mörgum jákvæðum breytingum\, ef rétt er staðið að undirbúningi þess að taka í gangið Facebook fyrir vinnustaðinn. Upplýsingaflæði innanhúss verður auðveldara\, starfsfólk er betur upplýst og
URL:https://dokkan.is/fundur/er-verid-ad-spa-i-workplace-by-facebook-a-thinum-vinnustad/
LOCATION:Dokkan\, Iceland
CATEGORIES:Dokkufundir - fyrir þau sem vita að framtíðin bíður ekki eftir þeim sem bíða...
END:VEVENT
END:VCALENDAR