BEGIN:VCALENDAR
VERSION:2.0
PRODID:-//Dokkan - ECPv6.15.17//NONSGML v1.0//EN
CALSCALE:GREGORIAN
METHOD:PUBLISH
X-ORIGINAL-URL:https://dokkan.is
X-WR-CALDESC:Events for Dokkan
REFRESH-INTERVAL;VALUE=DURATION:PT1H
X-Robots-Tag:noindex
X-PUBLISHED-TTL:PT1H
BEGIN:VTIMEZONE
TZID:Atlantic/Reykjavik
BEGIN:STANDARD
TZOFFSETFROM:+0000
TZOFFSETTO:+0000
TZNAME:GMT
DTSTART:20160101T000000
END:STANDARD
END:VTIMEZONE
BEGIN:VEVENT
DTSTART;TZID=Atlantic/Reykjavik:20170820T100000
DTEND;TZID=Atlantic/Reykjavik:20170820T110000
DTSTAMP:20260424T204624
CREATED:20200815T123255Z
LAST-MODIFIED:20200815T175658Z
UID:3428-1503223200-1503226800@dokkan.is
SUMMARY:Viltu fylla á sjálfstraustið fyrir veturinn?
DESCRIPTION:Dokkan byrjar veturinn með Bjarti Guðmundssyni\, sem farið hefur eins og eldur í sinu um borgina undanfarna mánuði og fyllt á sjálfstraustið okkar!Óstöðvandi – í topp tilfinningalegu ástandi!Hefur þú upplifað stund þar sem þú lékst á als oddi? Jafnvel dag sem þú varst upp á þitt allra besta. Samskipti gengu frábærlega\, hugmyndaauðgi í hámarki\, hugrekki\, orka\, og ástríða alls ráðandi. Þetta tilfinningalega ástand sem sumir kalla „sónið  þar sem við erum óstöðvandi.Getur
URL:https://dokkan.is/fundur/viltu-fylla-a-sjalfstraustid-fyrir-veturinn/
LOCATION:Dokkan\, Iceland
CATEGORIES:Dokkufundir - fyrir þau sem vita að framtíðin bíður ekki eftir þeim sem bíða...
END:VEVENT
BEGIN:VEVENT
DTSTART;TZID=Atlantic/Reykjavik:20170820T100000
DTEND;TZID=Atlantic/Reykjavik:20170820T110000
DTSTAMP:20260424T204624
CREATED:20200815T123255Z
LAST-MODIFIED:20200815T175658Z
UID:3429-1503223200-1503226800@dokkan.is
SUMMARY:Kynningar og framsögur sem skila árangri
DESCRIPTION: Að halda fyrirlestur\, hvort sem það er kynning á vöru eða innblásin ræða er mikil kúnst og margar spurningar sem vakna í undirbúningnum: Hvert er markmiðið með  framkomunni? Á ég að nota glærur – er það kannski úrelt? Skiptir máli hvergir eru að hlusta? Er eitthvað nýtt trend sem “allir” eru að nota? Ofl. ofl.Hver verður með okkur?Lára ÓskarsdóttirHvar verðum við?Á Nýsköpunarmiðstöð Íslands\, Árleyni
URL:https://dokkan.is/fundur/kynningar-og-framsogur-sem-skila-arangri/
LOCATION:Dokkan\, Iceland
CATEGORIES:Dokkufundir - fyrir þau sem vita að framtíðin bíður ekki eftir þeim sem bíða...
END:VEVENT
END:VCALENDAR