BEGIN:VCALENDAR
VERSION:2.0
PRODID:-//Dokkan - ECPv6.15.17//NONSGML v1.0//EN
CALSCALE:GREGORIAN
METHOD:PUBLISH
X-ORIGINAL-URL:https://dokkan.is
X-WR-CALDESC:Events for Dokkan
REFRESH-INTERVAL;VALUE=DURATION:PT1H
X-Robots-Tag:noindex
X-PUBLISHED-TTL:PT1H
BEGIN:VTIMEZONE
TZID:Atlantic/Reykjavik
BEGIN:STANDARD
TZOFFSETFROM:+0000
TZOFFSETTO:+0000
TZNAME:GMT
DTSTART:20150101T000000
END:STANDARD
END:VTIMEZONE
BEGIN:VEVENT
DTSTART;TZID=Atlantic/Reykjavik:20161113T100000
DTEND;TZID=Atlantic/Reykjavik:20161113T110000
DTSTAMP:20260425T141717
CREATED:20200815T123302Z
LAST-MODIFIED:20200815T175658Z
UID:3462-1479031200-1479034800@dokkan.is
SUMMARY:The Testing Model at GTE\, Sabre & Managing Test Environments
DESCRIPTION:The Testing Model at GTE\, Sabre & Managing Test Environments
URL:https://dokkan.is/fundur/the-testing-model-at-gte-sabre-managing-test-environments/
LOCATION:Dokkan\, Iceland
CATEGORIES:Dokkufundir - fyrir þau sem vita að framtíðin bíður ekki eftir þeim sem bíða...
END:VEVENT
BEGIN:VEVENT
DTSTART;TZID=Atlantic/Reykjavik:20161113T100000
DTEND;TZID=Atlantic/Reykjavik:20161113T110000
DTSTAMP:20260425T141717
CREATED:20200815T123302Z
LAST-MODIFIED:20200815T175658Z
UID:3463-1479031200-1479034800@dokkan.is
SUMMARY:Sucess factors for international projects
DESCRIPTION:Sucess factors for international projects
URL:https://dokkan.is/fundur/sucess-factors-for-international-projects/
LOCATION:Dokkan\, Iceland
CATEGORIES:Dokkufundir - fyrir þau sem vita að framtíðin bíður ekki eftir þeim sem bíða...
END:VEVENT
END:VCALENDAR