BEGIN:VCALENDAR
VERSION:2.0
PRODID:-//Dokkan - ECPv6.15.17//NONSGML v1.0//EN
CALSCALE:GREGORIAN
METHOD:PUBLISH
X-ORIGINAL-URL:https://dokkan.is
X-WR-CALDESC:Events for Dokkan
REFRESH-INTERVAL;VALUE=DURATION:PT1H
X-Robots-Tag:noindex
X-PUBLISHED-TTL:PT1H
BEGIN:VTIMEZONE
TZID:Atlantic/Reykjavik
BEGIN:STANDARD
TZOFFSETFROM:+0000
TZOFFSETTO:+0000
TZNAME:GMT
DTSTART:20150101T000000
END:STANDARD
END:VTIMEZONE
BEGIN:VEVENT
DTSTART;TZID=Atlantic/Reykjavik:20161014T100000
DTEND;TZID=Atlantic/Reykjavik:20161014T110000
DTSTAMP:20260425T155853
CREATED:20200815T123303Z
LAST-MODIFIED:20200815T175658Z
UID:3468-1476439200-1476442800@dokkan.is
SUMMARY:Tilraun um styttingu vinnuvikunnar
DESCRIPTION:Tilraun um styttingu vinnuvikunnar
URL:https://dokkan.is/fundur/tilraun-um-styttingu-vinnuvikunnar/
LOCATION:Dokkan\, Iceland
CATEGORIES:Dokkufundir - fyrir þau sem vita að framtíðin bíður ekki eftir þeim sem bíða...
END:VEVENT
END:VCALENDAR