BEGIN:VCALENDAR
VERSION:2.0
PRODID:-//Dokkan - ECPv6.15.17//NONSGML v1.0//EN
CALSCALE:GREGORIAN
METHOD:PUBLISH
X-WR-CALNAME:Dokkan
X-ORIGINAL-URL:https://dokkan.is
X-WR-CALDESC:Events for Dokkan
REFRESH-INTERVAL;VALUE=DURATION:PT1H
X-Robots-Tag:noindex
X-PUBLISHED-TTL:PT1H
BEGIN:VTIMEZONE
TZID:Atlantic/Reykjavik
BEGIN:STANDARD
TZOFFSETFROM:+0000
TZOFFSETTO:+0000
TZNAME:GMT
DTSTART:20150101T000000
END:STANDARD
END:VTIMEZONE
BEGIN:VEVENT
DTSTART;TZID=Atlantic/Reykjavik:20160222T100000
DTEND;TZID=Atlantic/Reykjavik:20160222T110000
DTSTAMP:20260426T044035
CREATED:20200815T123308Z
LAST-MODIFIED:20200815T175719Z
UID:3495-1456135200-1456138800@dokkan.is
SUMMARY:Hvað þarf til að ná árangri – út frá sjónarhorni íþróttasálfræðinnar
DESCRIPTION:Hvað þarf til að ná árangri – út frá sjónarhorni íþróttasálfræðinnar
URL:https://dokkan.is/fundur/hvad-tharf-til-ad-na-arangri-ut-fra-sjonarhorni-ithrottasalfraedinnar/
LOCATION:Dokkan\, Iceland
CATEGORIES:Dokkufundir - fyrir þau sem vita að framtíðin bíður ekki eftir þeim sem bíða...
END:VEVENT
BEGIN:VEVENT
DTSTART;TZID=Atlantic/Reykjavik:20160222T100000
DTEND;TZID=Atlantic/Reykjavik:20160222T110000
DTSTAMP:20260426T044035
CREATED:20200815T123308Z
LAST-MODIFIED:20200815T175719Z
UID:3496-1456135200-1456138800@dokkan.is
SUMMARY:Lean\, ferlar\, fræðsla og þjálfun
DESCRIPTION:Lean\, ferlar\, fræðsla og þjálfun
URL:https://dokkan.is/fundur/lean-ferlar-fraedsla-og-thjalfun/
LOCATION:Dokkan\, Iceland
CATEGORIES:Dokkufundir - fyrir þau sem vita að framtíðin bíður ekki eftir þeim sem bíða...
END:VEVENT
END:VCALENDAR