BEGIN:VCALENDAR
VERSION:2.0
PRODID:-//Dokkan - ECPv6.15.17//NONSGML v1.0//EN
CALSCALE:GREGORIAN
METHOD:PUBLISH
X-WR-CALNAME:Dokkan
X-ORIGINAL-URL:https://dokkan.is
X-WR-CALDESC:Events for Dokkan
REFRESH-INTERVAL;VALUE=DURATION:PT1H
X-Robots-Tag:noindex
X-PUBLISHED-TTL:PT1H
BEGIN:VTIMEZONE
TZID:Atlantic/Reykjavik
BEGIN:STANDARD
TZOFFSETFROM:+0000
TZOFFSETTO:+0000
TZNAME:GMT
DTSTART:20200101T000000
END:STANDARD
END:VTIMEZONE
BEGIN:VEVENT
DTSTART;TZID=Atlantic/Reykjavik:20210202T090000
DTEND;TZID=Atlantic/Reykjavik:20210202T094500
DTSTAMP:20260421T193739
CREATED:20210107T121325Z
LAST-MODIFIED:20210203T095614Z
UID:5303-1612256400-1612259100@dokkan.is
SUMMARY:Stytting vinnuvikunnar – það er til mikils að vinna (minna)
DESCRIPTION:Styttri vinnuvika er liður í að auka starfsánægju\, samþætta betur starf og einkalíf og stuðla að betri lífsgæðum. Fækkun vinnustunda krefst undirbúnings og mikilvægt að vanda til verka. Finna þarf leiðir til að endurskipuleggja vinnuna\, einfalda ferla\, auka skilvirkni og nýta vinnutímann betur\, m.a. með hjálp tækninnar og góðrar skipulagningar. Í fyrirlestrinum verður rætt um leiðir að breyttu skipulagi vinnunnar og fjallað um atriði eins og forgangsröðun\, tölvupóstsamskipti\, skipulag funda\, sóun í nærumhverfinu o.s.frv. \nHvar?\nIngrid Kuhlman\, eigandi og framkvæmdastjóri Þekkingarmiðlunar \nMisstir þú af fundinum?\nSkráðu þig á Dokkufundinn á hefðbundinn hátt og þú færð sendan tengil á upptöku frá fundinum.\nMikilvægt: Ef þú hefur áður skráð þig á fundinn þá þarftu að afskrá þig af fundinum – en það er einfalt – þú smellir á „Skrá mig af þessum fundi“ hér fyrir neðan skráningarformið og skráir þig svo aftur – þá færðu staðfestingarpóst með tengli á upptökuna.
URL:https://dokkan.is/fundur/stytting-vinnuvikunnar-hvad-svo/
LOCATION:Á vefnum
CATEGORIES:Dokkufundir - fyrir þau sem vita að framtíðin bíður ekki eftir þeim sem bíða...
ATTACH;FMTTYPE=image/jpeg:https://dokkan.is/wp-content/uploads/2020/08/ingrid-kuhlman-1-1.jpg
END:VEVENT
BEGIN:VEVENT
DTSTART;TZID=Atlantic/Reykjavik:20210203T130000
DTEND;TZID=Atlantic/Reykjavik:20210203T140000
DTSTAMP:20260421T193739
CREATED:20210106T151546Z
LAST-MODIFIED:20210204T104101Z
UID:5285-1612357200-1612360800@dokkan.is
SUMMARY:Raunvitund - bölsýni\, óskhyggja eða staðreyndir um lífið í heiminum?
DESCRIPTION:Þegar við erum spurð einfaldra spurninga um hvernig ýmsum málum heimsins er háttað; af hverju fjölgar fólki\, hversu hátt hlutfall kvenna í fátækustu löndum heims fær einhverja menntun\, hve mörg okkar lifa í fátækt – svörum við rangt á kerfisbundinn hátt. \nSvörin eru meira að segja svo röng að simpansar sem velja svörin af handahófi svara fleiri spurningum rétt en rannsóknarblaðamenn\, fjárfestar og þeir sem eru tilnefndir til Nóbelsverðlauna. Vandamálið er að við erum blinduð af úreltum upplýsingum og jafnvel ágiskanir okkar eru litaðar af ómeðvituðum en fyrirsjáanlegum fordómum. \nEn hvað þá – hvað er rétt?\nÍ bók sinni Raunvitund rekur Hans Rosling ástæður þessa á róttækan hátt og flettir ofan af tíu hvötum sem afmynda sjónarhorn okkar – allt frá hvernig við skiptum heiminum í tvennt (við og þau)\, hvernig við lesum úr upplýsingum fjölmiðla (þar sem óttinn ræður för) til þess hvernig við skynjum framfarir (trúum að flestir hlutir fari versnandi). \nÍ ljós kemur að ástand heimsins\, þrátt fyrir alla vankanta\, er mun betra en við höldum og á marga mælikvarða að batna. En þegar við höfum stöðugt áhyggjur af öllu í stað þess að vera opin fyrir og taka tillit til staðreynda missum við sjónar á því sem ógnar okkur mest. \nÁ Dokkufundinum fáum við að vita miera um þatta. \nHver?\nGunnar Dorfi Ólafsson\, þýðandi bókarinnar Raunvitund – Gunnar er einnig sérfræðingur í samskiptum og samfélagsvirkni hjá Sorpu bs. \nHvar?\nÍ beinni á vefnum  – þú færð sendan tengil á fundinn ca. 30 mín. áður en hann hefst. Til að fá örugglega sendan tengil er best að skrá sig á fundinn í síðasta lagi einni klukkustund áður en hann hefst. \n 
URL:https://dokkan.is/fundur/raunvitund-oskhyggja-eda-stadreyndir/
LOCATION:Á vefnum
CATEGORIES:Dokkufundir - fyrir þau sem vita að framtíðin bíður ekki eftir þeim sem bíða...
ATTACH;FMTTYPE=image/jpeg:https://dokkan.is/wp-content/uploads/2021/01/97977181_10159897643499126_1412978394240385024_n-1-1-1.jpg
END:VEVENT
BEGIN:VEVENT
DTSTART;TZID=Atlantic/Reykjavik:20210210T090000
DTEND;TZID=Atlantic/Reykjavik:20210210T094500
DTSTAMP:20260421T193739
CREATED:20210107T120647Z
LAST-MODIFIED:20210218T160851Z
UID:5297-1612947600-1612950300@dokkan.is
SUMMARY:Upplýsingatækni – að láta öll brotin koma saman og mynda eina heild
DESCRIPTION:Upplýsingatækni umlykur allt okkar líf\, bæði í vinnu og einkalífi. Mikið er fjallað um stafræna þróun þar sem áhersla er fyrst og fremst á viðskiptavinina\, að þekkja þá og færa þeim virðisaukandi stafræna þjónustu. En til þess að það sé hægt er í mörg horn að líta það eru mörg brot sem þurfa að koma saman til að allt gangi upp. Það þarf nefnilega líka að halda ljósunum kveiktum og jafnvægi verður að vera á milli reksturs\, þjónustu og þróunar í UT. Og allt þarf að gera með sem hagkvæmum hætti. Í erindinu mun Birna Íris fara vítt og breytt yfir UT sviðið og fjalla um nokkur af þeim brotum sem þarf að huga að í stjórnun á UT. \nHver?\nBirna Íris Jónsdóttir\, sérfræðingur og ráðgjafi hjá Fractal UT ráðgjöf \nBirna er reynslumikill leiðtogi í upplýsingatækni með B.Sc. gráðu í tölvunarfræði frá HÍ og MBA frá HR. Hún hefur yfirgripsmikla þekkingu á stjórnun upplýsingatæknimála\, allt frá þjónustuborði og rekstri til hugbúnaðarþróunar og gagnavinnslu\, hjá Sjóvá og Högum með góðum árangri. Þar áður var hún deildarstjóri UT útlána hjá Landsbankanum. Gildi Birnu Írisar eru heilindi\, fagmennska og eldmóður og hefur hún þessi gildi að leiðarljósi í lífi og starfi. Birna trúir því að með vel útfærðri stjórnun í UT sé hægt að bæta rekstur fyrirtækja og stofnana\, styrkja stoðir og þróast hraðar í hinum stafræna frumskógi og leggur áherslu á virðisaukandi og praktíska vinnu sem hluta af heldarárangri fyrirtækisins. \nMisstir þú af fundinum?\nSkráðu þig á Dokkufundinn á hefðbundinn hátt og þú færð sendan tengil á upptöku frá fundinum.\nMikilvægt: Ef þú hefur áður skráð þig á fundinn þá þarftu að afskrá þig af fundinum – en það er einfalt – þú smellir á „Skrá mig af þessum fundi“ hér fyrir neðan skráningarformið og skráir þig svo aftur – þá færðu staðfestingarpóst með tengli á upptökuna.
URL:https://dokkan.is/fundur/5297/
LOCATION:Á vefnum
CATEGORIES:Dokkufundir - fyrir þau sem vita að framtíðin bíður ekki eftir þeim sem bíða...
ATTACH;FMTTYPE=image/jpeg:https://dokkan.is/wp-content/uploads/2021/01/20210113_135755-1.jpg
END:VEVENT
BEGIN:VEVENT
DTSTART;TZID=Atlantic/Reykjavik:20210211T090000
DTEND;TZID=Atlantic/Reykjavik:20210211T094500
DTSTAMP:20260421T193739
CREATED:20210127T123301Z
LAST-MODIFIED:20210215T115204Z
UID:5435-1613034000-1613036700@dokkan.is
SUMMARY:Algengar innbyggðar hugsanaskekkjur og áhrif þeirra á samskipti fólks á vinnustöðum
DESCRIPTION:Við tökum 35 þúsund ákvarðanir á hverjum degi. Aðeins örfáar þeirra eru meðvitaðar og enn færri eru úthugsaðar. Flestar þeirra hafa samt áhrif á störf okkar og samstarfsfólk með einhverjum hætti. Á fundinum verður veitt innsýn í áhrif ómeðvitaðrar hlutdrægni á vinnustaðarmenningu út frá jafnréttis- og fjölbreytileikasjónarmiðum og þær aðferðir sem hægt er að nota til að draga úr áhrifunum.\n\n\nTil að fá sem mest út úr fundinum eru þátttakendur hvattir til að taka eitt eða fleiri próf í ómeðvitaðri hlutdrægni á eftirfarandi slóð:\nhttps://implicit.harvard.edu/implicit/takeatest.html\n\n\nHver?\nSóley Tómasdóttir er kynja- og fjölbreytileikafræðingur og eigandi Just Consulting. Sérfræðiþekking Sóleyjar samanstendur af áratuga reynslu af stjórnun\, stjórnmálum og samfélagsrýni í bland við akademískar rannsóknir á stöðu kvenna og jaðarsettra hópa á vinnustöðum.\n\nHvar?\nFundurinn verður endurtekin þ. 23.mars kl. 9.00Skráning hér:\nSkráning hér\n 
URL:https://dokkan.is/fundur/jafnretti-i-nyju-ljosi/
LOCATION:Á vefnum
CATEGORIES:Dokkufundir - fyrir þau sem vita að framtíðin bíður ekki eftir þeim sem bíða...
ATTACH;FMTTYPE=image/jpeg:https://dokkan.is/wp-content/uploads/2021/01/unnamed-1-1-1-scaled.jpg
END:VEVENT
BEGIN:VEVENT
DTSTART;TZID=Atlantic/Reykjavik:20210216T090000
DTEND;TZID=Atlantic/Reykjavik:20210216T094500
DTSTAMP:20260421T193739
CREATED:20210120T123237Z
LAST-MODIFIED:20220108T103321Z
UID:5422-1613466000-1613468700@dokkan.is
SUMMARY:Stefnumiðaðir stjórnarhættir: Stýrt með sýn og markmiðum
DESCRIPTION:Á Dokkufundinum verður fjallað um það hvernig unnið er að innleiðingu stefnu í samstæðu OR. Samstæðan starfar innan ramma eigendastefnu sem mótar stjórnarhætti hennar og ferli við innleiðingu stefnu. Með sérstöku verklagi við rýni\, mótun og eftirfylgni stefnu er stuðlað að því að stjórnir samstæðunnar hafi nauðsynlega yfirsýn til að sinna stefnutengdu hlutverki sínu og stjórnendur og starfsfólk hafi það veganesti sem þarf til að stýra með sýn og markmiðum. \nHver?\nGuðrún Erla Jónsdóttir\, Stefnustjóri OR og doktorsnemi á sviði stjórnhátta og stefnu. \nMisstir þú af fundinum?\nSkráðu þig á Dokkufundinn á hefðbundinn hátt og þú færð sendan tengil á upptöku frá fundinum.\nMikilvægt: Ef þú hefur áður skráð þig á fundinn þá þarftu að afskrá þig af fundinum – en það er einfalt – þú smellir á „Skrá mig af þessum fundi“ hér fyrir neðan skráningarformið og skráir þig svo aftur – þá færðu staðfestingarpóst með tengli á upptökuna.
URL:https://dokkan.is/fundur/stefnumotun-er-svaka-party-stefnuinnleiding-er-eins-og-uppvaskid-eftir-partyid/
LOCATION:Á vefnum
CATEGORIES:Dokkufundir - fyrir þau sem vita að framtíðin bíður ekki eftir þeim sem bíða...
ATTACH;FMTTYPE=image/jpeg:https://dokkan.is/wp-content/uploads/2021/01/142691501_171225714762428_8540270843200303213_n.jpg
END:VEVENT
BEGIN:VEVENT
DTSTART;TZID=Atlantic/Reykjavik:20210218T090000
DTEND;TZID=Atlantic/Reykjavik:20210218T094500
DTSTAMP:20260421T193739
CREATED:20210119T115337Z
LAST-MODIFIED:20210411T160225Z
UID:5408-1613638800-1613641500@dokkan.is
SUMMARY:Þegar karlar stranda – og leiðin í land
DESCRIPTION:Kulnun\, örmögnun\, streita og alvarleg áföll hafa á undanförnum árum gert það að verkum að æ fleiri lenda í ógöngum og hrekjast jafnvel af vinnumarkaði. Og þetta á bæði við um karla og konur. \nKarlar tala síður en konur um það hvernig þeim líður. Þeir velja margir hverjir að bíta á jaxlinn og bera harm sinn í hljóði. Sirrý hefur tekið viðtöl við karlmenn á ólíkum aldri\, úr ólíkum áttum og með mismunandi stöðu í samfélaginu og veita þau einstaka innsýn í líf þeirra og líðan. Þeir eiga það allir sameiginlegt að hafa strandað og upplifað verulega vanlíðan. Þeir gátu ekki unnið og voru við það að sökkva. En þeir gripu til aðgerða\, fóru að vinna í sínum málum og komust í land. \nÁ Dokkufundinum fáum innsýn í ferðalag þessara karla – hver var staðan og hvað gerðu þeir til að komast í land. \nÍ bókinni hennar Sirrýar\, Þegar karlar stranda og leiðin í land\, sem kom út 2020\, er einnig fjallað um það hvernig karlmenn fyrri tíma brugðust við örmögnun og áföllum og rætt við sálfræðing og félagsráðgjafa um veruleika þeirra sem stranda í lífinu. \nHver?\nSirrý Arnardóttir stjórnendaþjálfari\, rithöfundur og kennari við Háskólann á Bifröst \n  \nÞví miður þá er upptakan ekki aðgegnileg lengur
URL:https://dokkan.is/fundur/sirry-arnardottir/
LOCATION:Á vefnum
CATEGORIES:Dokkufundir - fyrir þau sem vita að framtíðin bíður ekki eftir þeim sem bíða...
ATTACH;FMTTYPE=image/jpeg:https://dokkan.is/wp-content/uploads/2021/01/100020SirrC3BD-1-1.jpg
END:VEVENT
BEGIN:VEVENT
DTSTART;TZID=Atlantic/Reykjavik:20210224T090000
DTEND;TZID=Atlantic/Reykjavik:20210224T093000
DTSTAMP:20260421T193739
CREATED:20210114T110214Z
LAST-MODIFIED:20210225T231427Z
UID:5380-1614157200-1614159000@dokkan.is
SUMMARY:Bitcoin - raunveruleikinn og mýtan\, við förum í saumana á bitcoin
DESCRIPTION:Bitcoin er til umræðu nær alla daga. Bæði er rætt um þetta fyrirbæri sem framtíð fjármálakerfisins og sem pýramídasvindl. En áður en hægt er að komast að því er rétt að spyrja fyrst: Hvað er bitcoin? \nÁ Dokkufundinum förum við í saumana á Bitcoin með einum fremsta sérfræðingi okkar á sviði rafmynta. \nHvar?\nKristján Ingi Mikaelsson\, Managing Director at Rafmyntaráð – Icelandic Blockchain Foundation \nMisstir þú af fundinum?\nSkráðu þig á Dokkufundinn á hefðbundinn hátt og þú færð sendan tengil á upptöku frá fundinum.\nMikilvægt: Ef þú hefur áður skráð þig á fundinn þá þarftu að afskrá þig af fundinum – en það er einfalt – þú smellir á „Skrá mig af þessum fundi“ hér fyrir neðan skráningarformið og skráir þig svo aftur – þá færðu staðfestingarpóst með tengli á upptökuna.
URL:https://dokkan.is/fundur/bitcoin-raunveruleikinn-og-mytan/
LOCATION:Á vefnum
CATEGORIES:Dokkufundir - fyrir þau sem vita að framtíðin bíður ekki eftir þeim sem bíða...
ATTACH;FMTTYPE=image/jpeg:https://dokkan.is/wp-content/uploads/2021/01/95684561_3246087352069628_5754428459132649472_o-1-1-1-1.jpg
END:VEVENT
BEGIN:VEVENT
DTSTART;TZID=Atlantic/Reykjavik:20210226T090000
DTEND;TZID=Atlantic/Reykjavik:20210226T094500
DTSTAMP:20260421T193739
CREATED:20210118T163240Z
LAST-MODIFIED:20210119T153838Z
UID:5405-1614330000-1614332700@dokkan.is
SUMMARY:Erfðaréttur - hver erfir þig?
DESCRIPTION:Vilt þú vita hvert eignir þínar renna eftir þinn dag? Hvaða reglur gilda og hverju er hægt að breyta? \nÁ Dokkufundinum verður farið yfir meginreglur erfðalaga og leitast verður við að svara helstu spurningum sem vakna varðandi erfðamál og hvaða reglur gilda um erfðaskrár og kaupmála. \nHver?\nElín Sigrún Jónsdóttir\, lögmaður er stofnandi fyrirtækisins BÚUM VEL sem er sérhæfð lögfræðiþjónusta vegna búsetuskipta. Þá veitir hún viðskiptavinum stuðning og ráðgjöf við dánarbússkipti og ýmsa löggerninga á sviði erfðaréttar. Fyrirtækið veitir nýja tegund þjónustu á íslenskum fasteignamarkaði\, sjá nánar á www.buumvel.is \nHvar?\nÍ beinni á vefnum  – þú færð sendan tengil á fundinn ca. 30 mín. áður en hann hefst. Til að fá örugglega sendan tengil er best að skrá sig á fundinn í síðasta lagi einni klukkustund áður en hann hefst. \n  \n  \n 
URL:https://dokkan.is/fundur/erfdarettur-thad-sem-vid-thurfum-oll-vita/
LOCATION:Á vefnum
CATEGORIES:Dokkufundir - fyrir þau sem vita að framtíðin bíður ekki eftir þeim sem bíða...
ATTACH;FMTTYPE=image/jpeg:https://dokkan.is/wp-content/uploads/2021/01/Elin-1-1-1.jpeg
END:VEVENT
END:VCALENDAR