BEGIN:VCALENDAR
VERSION:2.0
PRODID:-//Dokkan - ECPv6.15.17//NONSGML v1.0//EN
CALSCALE:GREGORIAN
METHOD:PUBLISH
X-WR-CALNAME:Dokkan
X-ORIGINAL-URL:https://dokkan.is
X-WR-CALDESC:Events for Dokkan
REFRESH-INTERVAL;VALUE=DURATION:PT1H
X-Robots-Tag:noindex
X-PUBLISHED-TTL:PT1H
BEGIN:VTIMEZONE
TZID:Atlantic/Reykjavik
BEGIN:STANDARD
TZOFFSETFROM:+0000
TZOFFSETTO:+0000
TZNAME:GMT
DTSTART:20190101T000000
END:STANDARD
END:VTIMEZONE
BEGIN:VEVENT
DTSTART;TZID=Atlantic/Reykjavik:20201102T083000
DTEND;TZID=Atlantic/Reykjavik:20201102T091500
DTSTAMP:20260422T005206
CREATED:20201026T091636Z
LAST-MODIFIED:20201104T114443Z
UID:5115-1604305800-1604308500@dokkan.is
SUMMARY:Liðsheild gegn Covid 19
DESCRIPTION:Við ætlum aðeins að styrkja okkur í baráttunni gegn Covid 19 með því að skoða hvernig við getum elft liðsheildina á vinnustaðnum í baráttunni gegn þessari skæðu veiru. \nTökum höndum saman og stöndum vörð um vinnustaðinn okkar í sameiginlegu átaki gegn Covid 19\, styðjum hvert annað með viðhorfum sem hjálpa okkur að vera heima ef við finnum smávægileg einkenni\, hjálpa okkur að koma til baka eftir að hafa veikst af Covid 19\, útrýma smitskömm og leggja niður hetjukúltúrinn sem einkennist af að “mæta veikur í vinnuna”\, taka sóttkví alvarlega og styðja þá sem eru veikir heima. \nHver?\nAnna Steinsen og kannski fl. frá Kvan\nMisstir þú af fundinum?\nSkráðu þig á Dokkufundinn á hefðbundinn hátt og þú færð sendan tengil á upptöku frá fundinum.\nMikilvægt: Ef þú hefur áður skráð þig á fundinn þá þarftu að afskrá þig af fundinum – en það er einfalt – þú smellir á „Skrá mig af þessum fundi“ hér fyrir neðan skráningarformið og skráir þig svo aftur – þá færðu staðfestingarpóst með tengli á upptökuna.
URL:https://dokkan.is/fundur/lidsheild-gegn-covid-19/
CATEGORIES:Dokkufundir - fyrir þau sem vita að framtíðin bíður ekki eftir þeim sem bíða...
ATTACH;FMTTYPE=image/jpeg:https://dokkan.is/wp-content/uploads/2020/10/anna-steinsen-n-1-1.jpg
END:VEVENT
BEGIN:VEVENT
DTSTART;TZID=Atlantic/Reykjavik:20201103T083000
DTEND;TZID=Atlantic/Reykjavik:20201103T091500
DTSTAMP:20260422T005206
CREATED:20200928T092828Z
LAST-MODIFIED:20201104T080229Z
UID:4891-1604392200-1604394900@dokkan.is
SUMMARY:Umbótaleiðtogar Samskipa
DESCRIPTION:Á Dokkufundinum verður farið stuttlega yfir hvernig Samskip hafa nýtt sér stöðugar umbætur til að ná meiri árangri en aðal áherslan verður á þjálfunarprógram sem verið er að keyra innan fyrirtækisins: „Umbótaleiðtogar Samskipa“.\n\n\n\n\n\n\n\n\n\n\n\n\n\n\n\n\n\n\n\n\n\n\n\n\n\n\nHver?\n\n\n\n\nAðalheiður María Vigfúsdóttir\, sérfræðingur í umbótum í rekstri\nAðalheiður er hugmyndarík og metnaðargjörn keppnismanneskja með ástríðu fyrir nýsköpun\, stafrænni þróun og stöðugum umbótum og þá sérstaklega hvernig mismunandi stefnur og stjórnendastílar hafa áhrif á þessa þætti. Aðalheiður María starfar nú sem sérfræðingur í umbótum í rekstri hjá Samskipum en starfaði áður sem framleiðslustjóri hjá Marel og ferilseigandi hjá Össur. Í störfum sínum hefur hún komið sér upp þeim góða ávana að vera sífellt að greina núverandi stöðu og leita uppi tækifæri til að gera betur en hennar helsti styrkileiki er hæfni hennar til að vekja áhuga annarra á stöðugum umbótum og að deila af reynslu sinni.\n\n\n\n\n\n\n\n\n\n\n\n\n\n\n\n\n\n\n\n\n\nMisstir þú af fundinum?\nSkráðu þig á Dokkufundinn á hefðbundinn hátt og þú færð sendan tengil á upptöku frá fundinum.\nMikilvægt: Ef þú hefur áður skráð þig á fundinn þá þarftu að afskrá þig af fundinum – en það er einfalt – þú smellir á „Skrá mig af þessum fundi“ hér fyrir neðan skráningarformið og skráir þig svo aftur – þá færðu staðfestingarpóst með tengli á upptökuna.
URL:https://dokkan.is/fundur/lean-2/
CATEGORIES:Dokkufundir - fyrir þau sem vita að framtíðin bíður ekki eftir þeim sem bíða...
ATTACH;FMTTYPE=image/jpeg:https://dokkan.is/wp-content/uploads/2020/09/121175170_385368736181591_5690490937602499442_n.jpg
END:VEVENT
BEGIN:VEVENT
DTSTART;TZID=Atlantic/Reykjavik:20201105T083000
DTEND;TZID=Atlantic/Reykjavik:20201105T091500
DTSTAMP:20260422T005206
CREATED:20201012T122051Z
LAST-MODIFIED:20201105T130918Z
UID:4978-1604565000-1604567700@dokkan.is
SUMMARY:Þjálfun og starfsþróun hjá Spotify (L&D)
DESCRIPTION:Á Dokkufundinum ætlar Ingibjörg að segja okkur frá uppbyggingu og framkvæmd nýliðaþjálfunar hjá Spotify og þeirri hugmyndafræði sem hún hafði að leiðarljósi í því verkefni. Ingibjörg telur að góð og öflug nýliðaþjálfun sé hornsteinn þess að byggja og viðhalda góðum kúltúr\, nýsköpun og ástríðu starfsmanna til þess að skara framúr.  \nIngibjörg segir þetta nýja nálgun á mjög veigamikil atriði sem snerta nánast öll fyrirtæki í vexti og mun einnig gefa okkur góð ráð svona almennt um L&D. \nHver?\nIngibjörg Lilja Þórmundsdóttir\, fyrrverandi learning and development specialist hjá Spotify\nIngibjörg starfaði hjá fyrirtækinu um 4 ára skeið eða frá 2014 til 2018 en Ingibjörg starfaði lengst sem aðstoðarmaður framvæmdarstjóra þróunar og hönnunarsviðs. Ingibjörg hefur einnig unnið ótal verkefni sem verkefnastjóri á mannauðssviði og leiddi meðal annars nýliðaþjálfun fyrir R&D á árunum 2016-2018 þegar Spotify óx úr rúmlega 2000 í 4000 starfsmenn\, lang flestir innan R&D. Í dag starfar Ingibjörg sem mannauðsstjóri hjá Rafal\, einu stærsta rafvertakafyrirtæki á Íslandi ásamt því að vinna náið með dóttirfyrirtækjum félagsins\, Verkfræðistofunni Afl og Orku og Lýsir ehf. \nMisstir þú af fundinum?\nSkráðu þig á Dokkufundinn á hefðbundinn hátt og þú færð sendan tengil á upptöku frá fundinum.\nMikilvægt: Ef þú hefur áður skráð þig á fundinn þá þarftu að afskrá þig af fundinum – en það er einfalt – þú smellir á „Skrá mig af þessum fundi“ hér fyrir neðan skráningarformið og skráir þig svo aftur – þá færðu staðfestingarpóst með tengli á upptökuna.
URL:https://dokkan.is/fundur/thjalfun-og-starfsthroun-hja-spotify-2/
CATEGORIES:Dokkufundir - fyrir þau sem vita að framtíðin bíður ekki eftir þeim sem bíða...
ATTACH;FMTTYPE=image/jpeg:https://dokkan.is/wp-content/uploads/2020/10/IMG_1618-1-1.jpeg
END:VEVENT
BEGIN:VEVENT
DTSTART;TZID=Atlantic/Reykjavik:20201111T090000
DTEND;TZID=Atlantic/Reykjavik:20201111T094500
DTSTAMP:20260422T005206
CREATED:20200314T142532Z
LAST-MODIFIED:20201112T114853Z
UID:230-1605085200-1605087900@dokkan.is
SUMMARY:Hvaða máli skiptir skjalastjórn fyrir innleiðingu jafnlaunastaðals? Um samspil staðla og hlutverk skjalastjórnar í tengslum við jafnlaunastaðalinn
DESCRIPTION:Fjöldi fyrirtækja og stofnana standa frammi fyrir innleiðingu jafnlaunastaðals 85/2012 um þessar mundir. Í mörgum tilfellum er lítil eða engin reynsla af innleiðingu gæðastaðals fyrir hendi á meðan kröfur jafnlaunastaðalsins til kerfisbundinnar skráningar eru umtalsverðar. Í staðlinum er m.a. gerð krafa um skráningu á þekkingu og hæfni starfsfólks auk þess sem öll gæðaskjöl og skrár er varða innleiðingu\, jafnlaunakerfið sjálft og ákvarðanir stjórnenda varðandi launasetningu skulu skráðar ásamt fjölda annarra skráa. Upplýsingar um þekkingu starfsfólks eiga samkvæmt staðlinum að fela í sér leitarbæra skráningu menntunar\, þjálfunar og reynslu starfsfólks. Í þessu erindi er fjallað um þær áskoranir sem innleiðing jafnlaunastaðals hefur í för með sér og reynt að tengja efnið sem best við raunverulega reynslu og dæmi svo það nýtist beint í starfi. \nHver?\nRagna Kemp\, lektor í upplýsingafræði við Háskóla Íslands\nMisstir þú af fundinum?\nSkráðu þig á Dokkufundinn á hefðbundinn hátt og þú færð sendan tengil á upptöku frá fundinum.\nMikilvægt: Ef þú hefur áður skráð þig á fundinn þá þarftu að afskrá þig af fundinum – en það er einfalt – þú smellir á „Skrá mig af þessum fundi“ hér fyrir neðan skráningarformið og skráir þig svo aftur – þá færðu staðfestingarpóst með tengli á upptökuna.
URL:https://dokkan.is/fundur/hvada-mali-skiptir-skjalastjorn-fyrir-innleidingu-jafnlaunastadals/
LOCATION:Nýsköpunarmiðstöð Íslands\, Árleyni 8\, Reykjavík\, 112\, Iceland
CATEGORIES:Dokkufundir - fyrir þau sem vita að framtíðin bíður ekki eftir þeim sem bíða...
ATTACH;FMTTYPE=image/jpeg:https://dokkan.is/wp-content/uploads/2020/03/KRI_ragna_kemp_190502_ferningur_smamynd.jpg
END:VEVENT
BEGIN:VEVENT
DTSTART;TZID=Atlantic/Reykjavik:20201112T083000
DTEND;TZID=Atlantic/Reykjavik:20201112T091500
DTSTAMP:20260422T005206
CREATED:20200828T141835Z
LAST-MODIFIED:20201110T204708Z
UID:4741-1605169800-1605172500@dokkan.is
SUMMARY:Straumar og stefnur: Markaðssetning á samfélagsmiðlum
DESCRIPTION:Síðustu misserin hafa verið viðburðarík í heimi samfélagsmiðla. Við höfum séð umtalsverðar uppfærslur á einum vinsælasta samfélagsmiðli heims\, Instagram. Notkun Íslendinga á LinkedIn virðist vera að aukast jafnt og þétt auk þess sem spjallmenni (e.Chatbots) virðast vera ryðja sér til rúms hjá íslenskum fyrirtækjum. Svo má auðvitað ekki gleyma Facebook\, risanum á markaðnum! Facebook trónir enn á toppnum sem vinsælasti samfélagsmiðill landsins\, þó að hegðun neytandans þar inni sé að taka töluverðum breytingum\, þar sem hann er farinn að hallast meira að persónulegum samskiptum inni í lokuðum hópum. \nVið skoðum þetta allt og leitum svara við fjölmörgum spurningum. \nHver?\nSigurður Svansson\, Head of Digital hjá Sahara\, stafrænni auglýsingastofu \nHvar?\nÍ beinni á Teams  – þú færð sendan tengil á fundinn ca. 30 mín. áður en hann hefst.\nTil að fá örugglega sendan tengil er best að skrá sig á fundinn í síðasta lagi einni klukkustund áður en hann hefst.
URL:https://dokkan.is/fundur/straumar-og-stefnur-markadsseting-a-samfelagsmidlum-og-chatbots/
LOCATION:Á vefnum
CATEGORIES:Dokkufundir - fyrir þau sem vita að framtíðin bíður ekki eftir þeim sem bíða...
ATTACH;FMTTYPE=image/jpeg:https://dokkan.is/wp-content/uploads/2020/08/86fc45b7566edd17e41b6273c0dbc0ad.jpg
END:VEVENT
BEGIN:VEVENT
DTSTART;TZID=Atlantic/Reykjavik:20201118T083000
DTEND;TZID=Atlantic/Reykjavik:20201118T090000
DTSTAMP:20260422T005206
CREATED:20201002T142516Z
LAST-MODIFIED:20201121T113811Z
UID:4915-1605688200-1605690000@dokkan.is
SUMMARY:“You know nothing\, Jon Snow”
DESCRIPTION:Á Dokkufundinum ætlar Viktoría að segja okkur frá stóru verkefni sem hún leiddi fyrir hönd Össurar í miðríkjum Bandaríkjanna. Verkefnið fólst í að loka verksmiðju og færa vörur til Mexíkó. Verkefni sem við fyrstu sýn gat orðið mjög erfitt en varð í raun eitt það skemmtilegasta sem Viktoría hefur leitt. Á Dokkufundinum mun hún fara yfir hvernig hún notfærði sér hugmyndafræði verkefnastjórnunar\, lean og þjónandi forystu sem gerði það að verkum að verkefnið kláraðist á undan áætlun\, undir kostnaðaráætlun og með góðum teymisanda. Þess má geta að verkefnið spannaði 18 mánuði og var á síðustu metrunum þegar covid19 faraldurinn hófst. Teymið samanstóð af starfsmönnum úr framleiðslu-\, þróunar-\, innkaupa-\, fjármála- og gæðadeildum Össurar í Bandaríkjunum\, Mexikó\, Íslandi og Þýskalandi. \n\nHver?\nViktoría Jensdóttir\, Global Project Manager M&O hjá Össuri \nMisstir þú af fundinum?\nSkráðu þig á Dokkufundinn á hefðbundinn hátt og þú færð sendan tengil á upptöku frá fundinum.\nMikilvægt: Ef þú hefur áður skráð þig á fundinn þá þarftu að afskrá þig af fundinum – en það er einfalt – þú smellir á „Skrá mig af þessum fundi“ hér fyrir neðan skráningarformið og skráir þig svo aftur – þá færðu staðfestingarpóst með tengli á upptökuna. \n 
URL:https://dokkan.is/fundur/verkefnastjornun-lean-og-thjonandi-forysta/
CATEGORIES:Dokkufundir - fyrir þau sem vita að framtíðin bíður ekki eftir þeim sem bíða...
ATTACH;FMTTYPE=image/jpeg:https://dokkan.is/wp-content/uploads/2020/10/121129629_273535947114223_1692806896373104368_n-1-1-1-1.jpg
END:VEVENT
BEGIN:VEVENT
DTSTART;TZID=Atlantic/Reykjavik:20201119T083000
DTEND;TZID=Atlantic/Reykjavik:20201119T091500
DTSTAMP:20260422T005206
CREATED:20201012T142521Z
LAST-MODIFIED:20201121T152027Z
UID:4984-1605774600-1605777300@dokkan.is
SUMMARY:Hvernig er menningin á þínum vinnustað?
DESCRIPTION:Á Dokkufundinum verður farið yfir helstu áskoranir í jafnréttismálum sem birtast í fyrirtækjamenningu byggt á vinnu ráðgjafa Empower í verkefninu Jafnréttisvísir. Þau hafa tekið yfir 250 viðtöl og haldið vinnustofur með yfir 2400 manns þar sem áskoranir í jafnréttismálum fyrirtækja og stofnana eru rædd. Þórey ætlar að deila þessum áskorunum og einnig að fara yfir hvaða leiðir eru færar til þess að takast á við þessar áskoranir. Einnig mun hún fara yfir það hvernig Covid 19 gæti verið bakslag í jafnréttismálum og mikilvægi þess að vera á varðbergi á þessum víðsjárverðu tímum. Við ætlum líka að skoða það að Í öllum áskorunum felast tækifæri og það á einnig við um jafnrétti! \nHver?\nÞórey Vilhjálmsdóttir Proppé\nÞórey er stofnandi og eigandi EMPOWER\, alþjóðlegs ráðgjafafyrirtækis á sviði jafnréttismála. Þar áður var hún partner og ráðgjafi í stefnumótun og stjórnun hjá Capacent. Hún sérhæfði sig þar í jafnréttismálum og í aðferðafræði Design Thinking sem hún kenndi einnig við Opna Háskólann í HR ásamt því að halda fjölda námskeiða og fyrirlestra.\nÞórey býr yfir 20 ára reynslu af fyrirtækjarekstri\, stjórnun og stefnumótun. Hún situr í stjórn Íslandsnefndar UNwomen og er einn af stofnendum V-dagsins á Íslandi (V-day)\, samtök sem berjast gegn kynbundnu ofbeldi. Hún hefur einnig reynslu úr stjórnsýslu og stjórnmálum sem fyrrverandi aðstoðarmaður innanríkisráðherra. Hún er með Bs. í viðskiptafræði frá HÍ með áherslu á alþjóðaviðskipti og MBA frá HR og CEIBS viðskiptaháskóla Sjanghæ í Kína. Hún er einnig mikil útivistarkona og hefur ma. synt yfir Ermasundið með Marglyttunum og þverað Vatnajökul með Snjódrífunum.\nMisstir þú af fundinum?\nSkráðu þig á Dokkufundinn á hefðbundinn hátt og þú færð sendan tengil á upptöku frá fundinum.\nMikilvægt: Ef þú hefur áður skráð þig á fundinn þá þarftu að afskrá þig af fundinum – en það er einfalt – þú smellir á „Skrá mig af þessum fundi“ hér fyrir neðan skráningarformið og skráir þig svo aftur – þá færðu staðfestingarpóst með tengli á upptökuna. \n 
URL:https://dokkan.is/fundur/heilbrigd-menning/
CATEGORIES:Dokkufundir - fyrir þau sem vita að framtíðin bíður ekki eftir þeim sem bíða...
ATTACH;FMTTYPE=image/jpeg:https://dokkan.is/wp-content/uploads/2020/10/empower-kjarval0559-web-w1000-o-1.jpg
END:VEVENT
END:VCALENDAR