BEGIN:VCALENDAR
VERSION:2.0
PRODID:-//Dokkan - ECPv6.15.17//NONSGML v1.0//EN
CALSCALE:GREGORIAN
METHOD:PUBLISH
X-WR-CALNAME:Dokkan
X-ORIGINAL-URL:https://dokkan.is
X-WR-CALDESC:Events for Dokkan
REFRESH-INTERVAL;VALUE=DURATION:PT1H
X-Robots-Tag:noindex
X-PUBLISHED-TTL:PT1H
BEGIN:VTIMEZONE
TZID:Atlantic/Reykjavik
BEGIN:STANDARD
TZOFFSETFROM:+0000
TZOFFSETTO:+0000
TZNAME:GMT
DTSTART:20190101T000000
END:STANDARD
END:VTIMEZONE
BEGIN:VEVENT
DTSTART;TZID=Atlantic/Reykjavik:20200910T083000
DTEND;TZID=Atlantic/Reykjavik:20200910T091500
DTSTAMP:20260422T040853
CREATED:20200824T101929Z
LAST-MODIFIED:20201007T130717Z
UID:4696-1599726600-1599729300@dokkan.is
SUMMARY:Að auka vellíðan á öllum tímum
DESCRIPTION:Rafrænn fyrirlestur byggður á jákvæðri sálfræði þar sem farið er yfir góð ráð og hagnýtar leiðir til að stuðla að jákvæðum tilfinningum\, jákvæðri hegðun og jákvæðum hugsunum. \nAð loknum fyrirlestri eru umræður um hvernig hægt er að auka vellíðan og vægi jákvæðra tilfinninga til að bæta lífsgæði. \nHver verður með okkur?\nIngrid Kuhlman hjá Þekkingarmiðlun. Ingrid er með meistaragráðu í hagnýtri jákvæðri sálfræði. \nMisstir þú af fundinum?\nSkráðu þig á Dokkufundinn á hefðbundinn hátt og þú færð sendan tengil á upptöku frá fundinum. \nMikilvægt: Ef þú hefur áður skráð þig á fundinn þá þarftu að afskrá þig af fundinum – en það er einfalt – þú smellir á „Skrá mig af þessum fundi“ hér fyrir neðan skráningarformið og skráir þig svo aftur – þá færðu staðfestingarpóst með tengli á upptökuna. \n 
URL:https://dokkan.is/fundur/i-gegnum-covidid/
CATEGORIES:Dokkufundir - fyrir þau sem vita að framtíðin bíður ekki eftir þeim sem bíða...
ATTACH;FMTTYPE=image/jpeg:https://dokkan.is/wp-content/uploads/2020/08/ingrid-kuhlman-1-1.jpg
END:VEVENT
BEGIN:VEVENT
DTSTART;TZID=Atlantic/Reykjavik:20200915T110000
DTEND;TZID=Atlantic/Reykjavik:20200915T120000
DTSTAMP:20260422T040853
CREATED:20200826T095730Z
LAST-MODIFIED:20200922T095657Z
UID:4730-1600167600-1600171200@dokkan.is
SUMMARY:Allt er í mynstrum - mynstrið ræður!
DESCRIPTION:Hugsanir\, tilfinningar\, athafnir og viðbrögð eru í mynstrum. Heilinn sjálfur er í mynsturm\, alheimurinn er í mynstrum\, við ferðumst í mynstrum\, tökum ákvarðanir í mynstrum.\nMeð því að skilja máttinn sem felst í mynstrum getum við valið að byggja þau upp eða sprengja þau upp á meðvitaðan hátt. \nBjartur mun hjálpa okkur að koma auga eigin mynstur bæði þau góðu og slæmu og kenna okkur skemmtilegar aðferðir til að fást við þau – styrka þau góðu og henda þeim sem eru eyðileggjandi og hindra okkur í því sem við viljum gera. \nHver?\nBjartur Guðmundsson – auðvitað 💛 \nMisstir þú af fundinum?\nSkráðu þig á Dokkufundinn á hefðbundinn hátt og þú færð sendan tengil á upptöku frá fundinum. \nMikilvægt: Ef þú hefur áður skráð þig á fundinn þá þarftu að afskrá þig af fundinum – en það er einfalt – þú smellir á „Skrá mig af þessum fundi“ hér fyrir neðan skráningarformið og skráir þig svo aftur – þá færðu staðfestingarpóst með tengli á upptökuna.
URL:https://dokkan.is/fundur/mynstur/
CATEGORIES:Dokkufundir - fyrir þau sem vita að framtíðin bíður ekki eftir þeim sem bíða...
ATTACH;FMTTYPE=image/jpeg:https://dokkan.is/wp-content/uploads/2020/08/Bjartur-Guðmunds-1170x569-1.jpg
END:VEVENT
BEGIN:VEVENT
DTSTART;TZID=Atlantic/Reykjavik:20200917T083000
DTEND;TZID=Atlantic/Reykjavik:20200917T094500
DTSTAMP:20260422T040853
CREATED:20200314T142642Z
LAST-MODIFIED:20201026T112806Z
UID:232-1600331400-1600335900@dokkan.is
SUMMARY:Tengslanetsgreiningar – Bættu frammistöðuna með því að sjá hið ósýnilega!
DESCRIPTION:Á Dokkufundinum verður fjallað um hvernig nota má tengslanetsgreiningar til að greina möguleika sem styrkja stjórnun og breyta menningu í íslenskum og erlendum fyrirtækjum. \nTengslanetsgreining (e. Organisational Network Analysis™) byggir á þeirri hugmyndafræði að til að skilja ákvarðanir\, hegðun og frammistöðu einstaklinga sé nauðsynlegt að skilja félagslegt umhverfi og tengslanetið sem þeir starfa í. Tengslanetsgreining hjálpar okkur að brúa bilið milli þess að skilja einstaklinginn og skilja skipulagsheildina. Leiðtogar ná árangri með því að tengja við og hafa áhrif á annað fólk. Hins vegar eru tengingar milli stjórnenda og starfsfólks\, deilda og teyma sjaldnast skoðaðar af einhverri alvöru. \nÁ síðastliðnum árum hafa komið fram þróaðar greiningaraðferðir til að leggja mat á tegund og styrk tengsla innan skipulagsheilda. Tengslanetsgreiningin okkar byggir á rannsóknum með það að markmiði að hjálpa til við að sýna\, mæla og meta tengslin milli leiðtoga\, stjórnendateyma og starfsfólks. Það gefur leiðtogum fyrirtækja færi á að skilja hin síbreytilegu undirliggjandi tengslanet innan fyrirtækja\, finna ónýtta hæfileika meðal starfsfólksins og stýra breytingum með markvissari hætti. Hvort sem þú vilt bera kennsl á þá sem þú mátt ekki missa\, þá sem keyra nýsköpun í fyrirtækinu\, þá sem eru í mestri hættu á kulnun\, teymin sem virka best\, deildirnar sem eiga að tengjast en gera það ekki og margt margt fleira er tengslanetsgreining leiðin að markmiðinu. \nHver verður með okkur?\nGestur K. Pálmason markþjálfi hjá Complete \nHvar verðum við?\nSkráðu þig á Dokkufundinn á hefðbundinn hátt og þú færð sendan tengil á upptöku frá fundinum. \nMikilvægt: Ef þú hefur áður skráð þig á fundinn þá þarftu að afskrá þig af fundinum – en það er einfalt – þú smellir á „Skrá mig af þessum fundi“ hér fyrir neðan skráningarformið og skráir þig svo aftur – þá færðu staðfestingarpóst með tengli á upptökuna.
URL:https://dokkan.is/fundur/tengslanetsgreiningar/
LOCATION:Auglýst síðar
CATEGORIES:Dokkufundir - fyrir þau sem vita að framtíðin bíður ekki eftir þeim sem bíða...
ATTACH;FMTTYPE=image/jpeg:https://dokkan.is/wp-content/uploads/2020/04/Gestur_mynd-minni.jpg
END:VEVENT
BEGIN:VEVENT
DTSTART;TZID=Atlantic/Reykjavik:20200921T110000
DTEND;TZID=Atlantic/Reykjavik:20200921T114000
DTSTAMP:20260422T040853
CREATED:20200917T140938Z
LAST-MODIFIED:20200922T095811Z
UID:4857-1600686000-1600688400@dokkan.is
SUMMARY:Við endurtökum: Tengslanetsgreiningar – Bættu frammistöðuna með því að sjá hið ósýnilega!
DESCRIPTION:Á Dokkufundinum verður fjallað um hvernig nota má tengslanetsgreiningar til að greina möguleika sem styrkja stjórnun og breyta menningu í íslenskum og erlendum fyrirtækjum. \nTengslanetsgreining (e. Organisational Network Analysis™) byggir á þeirri hugmyndafræði að til að skilja ákvarðanir\, hegðun og frammistöðu einstaklinga sé nauðsynlegt að skilja félagslegt umhverfi og tengslanetið sem þeir starfa í. Tengslanetsgreining hjálpar okkur að brúa bilið milli þess að skilja einstaklinginn og skilja skipulagsheildina. Leiðtogar ná árangri með því að tengja við og hafa áhrif á annað fólk. Hins vegar eru tengingar milli stjórnenda og starfsfólks\, deilda og teyma sjaldnast skoðaðar af einhverri alvöru. \nÁ síðastliðnum árum hafa komið fram þróaðar greiningaraðferðir til að leggja mat á tegund og styrk tengsla innan skipulagsheilda. Tengslanetsgreiningin okkar byggir á rannsóknum með það að markmiði að hjálpa til við að sýna\, mæla og meta tengslin milli leiðtoga\, stjórnendateyma og starfsfólks. Það gefur leiðtogum fyrirtækja færi á að skilja hin síbreytilegu undirliggjandi tengslanet innan fyrirtækja\, finna ónýtta hæfileika meðal starfsfólksins og stýra breytingum með markvissari hætti. Hvort sem þú vilt bera kennsl á þá sem þú mátt ekki missa\, þá sem keyra nýsköpun í fyrirtækinu\, þá sem eru í mestri hættu á kulnun\, teymin sem virka best\, deildirnar sem eiga að tengjast en gera það ekki og margt margt fleira er tengslanetsgreining leiðin að markmiðinu. \nHver verður með okkur?\nGestur K. Pálmason markþjálfi hjá Complete \nHvar verðum við?\nSkráðu þig á Dokkufundinn á hefðbundinn hátt og þú færð sendan tengil á upptöku frá fundinum. \nMikilvægt: Ef þú hefur áður skráð þig á fundinn þá þarftu að afskrá þig af fundinum – en það er einfalt – þú smellir á „Skrá mig af þessum fundi“ hér fyrir neðan skráningarformið og skráir þig svo aftur – þá færðu staðfestingarpóst með tengli á upptökuna.
URL:https://dokkan.is/fundur/tengslanetsgreiningar-baettu-frammistoduna-med-thvi-ad-sja-hid-osynilega/
CATEGORIES:Dokkufundir - fyrir þau sem vita að framtíðin bíður ekki eftir þeim sem bíða...
ATTACH;FMTTYPE=image/jpeg:https://dokkan.is/wp-content/uploads/2020/04/Gestur_mynd-minni.jpg
END:VEVENT
BEGIN:VEVENT
DTSTART;TZID=Atlantic/Reykjavik:20200922T083000
DTEND;TZID=Atlantic/Reykjavik:20200922T093000
DTSTAMP:20260422T040853
CREATED:20200826T095609Z
LAST-MODIFIED:20201026T112902Z
UID:4728-1600763400-1600767000@dokkan.is
SUMMARY:Verður fyrirtækið þitt hluti af framtíðinni? Tækifæri á tímum breytinga
DESCRIPTION:Margrét og Ásdís hjá Gemba ásamt Birnu hjá Befirst fara yfir það hvernig fyrirtæki hérlendis og erlendis eru að tækla breyttar aðstæður eftir að Covid-19 heimsfaraldurinn umbylti starfsumhverfi og skipulagi nánast á einni nóttu. Þær velta upp þeim tækifærum sem í breytingunum felast og hvaða tól og aðferðir geta nýst vel við að halda fókus\, efla liðsheildir og halda starfsfólki virku. \nHverjir verða með okkur?\nÁsdís og Margrét\, sérhæfa sig í umbótamenningu\, ferlastjórnun\, stefnumótun og teymiseflingu. \nBirna Bragadóttir\, sérfræðingur á sviði mannauðsstjórnunar\, vinnustaðamenningar\, teymiseflingar og þjónustustjórnunar. \nHvar?\nSkráðu þig á Dokkufundinn á hefðbundinn hátt og þú færð sendan tengil á upptöku frá fundinum. \nMikilvægt: Ef þú hefur áður skráð þig á fundinn þá þarftu að afskrá þig af fundinum – en það er einfalt – þú smellir á „Skrá mig af þessum fundi“ hér fyrir neðan skráningarformið og skráir þig svo aftur – þá færðu staðfestingarpóst með tengli á upptökuna.
URL:https://dokkan.is/fundur/lean/
CATEGORIES:Dokkufundir - fyrir þau sem vita að framtíðin bíður ekki eftir þeim sem bíða...
ATTACH;FMTTYPE=image/jpeg:https://dokkan.is/wp-content/uploads/2020/08/IMG_2317_agrasi_svarthvit_lokaxx-13.jpg
END:VEVENT
END:VCALENDAR