BEGIN:VCALENDAR
VERSION:2.0
PRODID:-//Dokkan - ECPv6.15.17//NONSGML v1.0//EN
CALSCALE:GREGORIAN
METHOD:PUBLISH
X-ORIGINAL-URL:https://dokkan.is
X-WR-CALDESC:Events for Dokkan
REFRESH-INTERVAL;VALUE=DURATION:PT1H
X-Robots-Tag:noindex
X-PUBLISHED-TTL:PT1H
BEGIN:VTIMEZONE
TZID:Atlantic/Reykjavik
BEGIN:STANDARD
TZOFFSETFROM:+0000
TZOFFSETTO:+0000
TZNAME:GMT
DTSTART:20190101T000000
END:STANDARD
END:VTIMEZONE
BEGIN:VEVENT
DTSTART;TZID=Atlantic/Reykjavik:20200514T083000
DTEND;TZID=Atlantic/Reykjavik:20200514T093000
DTSTAMP:20260422T104342
CREATED:20200508T131950Z
LAST-MODIFIED:20201026T112543Z
UID:1624-1589445000-1589448600@dokkan.is
SUMMARY:Ekki afsaka þig í atvinnuviðtalinu! Hægt að nálgast upptöku til 1. júní 2020.
DESCRIPTION:Uppsagnir á tímum Covid 19 eru fordæmalausar og því örugglega margir í þeirri stöðu að finna sér eitthvað að gera hvort sem það er freelance verkefni\, fast starf í fyrirtækjaumhverfinu eða hjá hinu opinbera. \nEdda\, sem nýlega hefur gefið út bókina Framkoma\, ætlar á Dokkufundinum að fara yfir nokkur mikilvæg atriði þegar kemur að framkomu í atvinnuviðtali en einnig mun Edda koma inn á fjölmargar aðrar aðstæður þar sem framkoma getur skipt sköpum um árangur. \nHver verður með okkur?\nEdda Hermannsdóttir\, hagfræðingur og yfirmaður markaðs- og samskiptasviðs Íslandsbanka \nHvar?\nÁ vefnum auðvitað.\nSkráðu þig á Dokkufundinn á hefðbundinn hátt og þú færð sendan tengil til að horfa og hlusta á Eddu. \nMikilvægt: Ef þú hefur áður skráð þig á fundinn þá þarftu að afskrá þig af fundinum – en það er einfalt – smellir á “Afskrá mig af þessum fundi” hér fyrir neðan skráningarformið. \nSjáumst í Dokkunni  💛
URL:https://dokkan.is/fundur/ekki-afsaka-thig-i-atvinnuvidtalinu/
CATEGORIES:Dokkufundir - fyrir þau sem vita að framtíðin bíður ekki eftir þeim sem bíða...
ATTACH;FMTTYPE=image/jpeg:https://dokkan.is/wp-content/uploads/2020/05/85238157_10158078453535097_1022349014135209984_o-1minni.jpg
END:VEVENT
END:VCALENDAR