BEGIN:VCALENDAR
VERSION:2.0
PRODID:-//Dokkan - ECPv6.15.17//NONSGML v1.0//EN
CALSCALE:GREGORIAN
METHOD:PUBLISH
X-ORIGINAL-URL:https://dokkan.is
X-WR-CALDESC:Events for Dokkan
REFRESH-INTERVAL;VALUE=DURATION:PT1H
X-Robots-Tag:noindex
X-PUBLISHED-TTL:PT1H
BEGIN:VTIMEZONE
TZID:Atlantic/Reykjavik
BEGIN:STANDARD
TZOFFSETFROM:+0000
TZOFFSETTO:+0000
TZNAME:GMT
DTSTART:20190101T000000
END:STANDARD
END:VTIMEZONE
BEGIN:VEVENT
DTSTART;TZID=Atlantic/Reykjavik:20200303T100000
DTEND;TZID=Atlantic/Reykjavik:20200303T110000
DTSTAMP:20260422T140103
CREATED:20200815T123226Z
LAST-MODIFIED:20200815T123226Z
UID:3286-1583229600-1583233200@dokkan.is
SUMMARY:DOKKUFUNDUR: Tengslanetsgreiningar – Bættu frammistöðuna með því að sjá hið ósýnilega!
DESCRIPTION:Á Dokkufundinum mun Gestur fjalla um hvernig hann hefur notað tengslanetsgreiningar til greina möguleika til að styrkja stjórnun og breyta menningu í íslenskum og erlendum fyrirtækjum.Tengslanetsgreining (e. Organisational Network Analysis™) byggir á þeirri hugmyndafræði að til að skilja ákvarðanir\, hegðun og frammistöðu einstaklinga sé nauðsynlegt að skilja félagslegt umhverfi og tengslanetið sem þeir starfa í. Tengslanetsgreining hjálpar okkur að brúa bilið milli þess að skilja
URL:https://dokkan.is/fundur/dokkufundur-tengslanetsgreiningar-baettu-frammistoduna-med-thvi-ad-sja-hid-osynilega/
LOCATION:Dokkan\, Iceland
CATEGORIES:Dokkufundir - fyrir þau sem vita að framtíðin bíður ekki eftir þeim sem bíða...
END:VEVENT
BEGIN:VEVENT
DTSTART;TZID=Atlantic/Reykjavik:20200310T080000
DTEND;TZID=Atlantic/Reykjavik:20200310T093000
DTSTAMP:20260422T140103
CREATED:20200304T134017Z
LAST-MODIFIED:20200330T091733Z
UID:11-1583827200-1583832600@dokkan.is
SUMMARY:Betri kynningar ná til fólks
DESCRIPTION:Hvernig geri ég kynningarnar mínar betri?\nHvort sem það er kallað kynning\, ræða\, fyrirlestur\, viðtal eða ráðstefna – þú vilt koma þér og þínum skilaboðum þannig á framfæri að fólk verði fyrir áhrifum. Þessi fyrirlestur snýst vissulega um glærur – en meira um þig\, því þú ert kjarninn í því sem þú kynnir. Farið verður yfir hagnýtar aðferðir við skipulagningu kynninga\, punkta um framsetningu efnis og ekki síst samspil glærunotkunar og „ræðumennsku“ þinnar. \nHver verður með okkur?\nFjalar Sigurðarson\nFjalar er markaðsstjóri hjá Nýsköpunarmiðstöð Íslands og hefur áralanga reynslu í markaðs- og kynningarmálum og sömuleiðis sem fjölmiðlamaður. \nHvar verðum við?\nHjá Nýsköpunarmiðstöð Íslands\, Árleyni 8\, 112 Reykjavík – engin umferð upp eftir á morgnana og næg bílastæði.
URL:https://dokkan.is/fundur/betri-kynningar-na-til-folks/
LOCATION:Nýsköpunarmiðstöð Íslands\, Árleyni 8\, Reykjavík\, 112\, Iceland
CATEGORIES:Dokkufundir - fyrir þau sem vita að framtíðin bíður ekki eftir þeim sem bíða...
END:VEVENT
BEGIN:VEVENT
DTSTART;TZID=Atlantic/Reykjavik:20200310T100000
DTEND;TZID=Atlantic/Reykjavik:20200310T110000
DTSTAMP:20260422T140103
CREATED:20200815T123226Z
LAST-MODIFIED:20200815T123226Z
UID:3285-1583834400-1583838000@dokkan.is
SUMMARY:SVÞ bjóða Dokkunni á stafrænu ráðstefnuna Kveikjum á okkur!
DESCRIPTION:Íslenskt atvinnulíf stendur frammi fyrir hröðustu umbreytingum sem við höfum nokkru sinni séð – og við munum líklegast aldrei sjá fyrir endann á þeim. Aðeins fólk sem býr undir steini hefur ekki heyrt talað um fjórðu iðnbyltinguna\, stafræna umbreytingu\, stafræna vegferð\, stafræna tækni o.s.frv.Stærsta áskorunin er hinsvegar ekki tæknin\, heldur fólkið og geta okkar til að aðlagast\, þróast\, breytast\, læra og vaxa.Hvað þarf til að þrífast á tímum gríðarlegra umbreytinga? Hvernig
URL:https://dokkan.is/fundur/svth-bjoda-dokkunni-a-stafraenu-radstefnuna-kveikjum-a-okkur/
LOCATION:Dokkan\, Iceland
CATEGORIES:Dokkufundir - fyrir þau sem vita að framtíðin bíður ekki eftir þeim sem bíða...
END:VEVENT
BEGIN:VEVENT
DTSTART;TZID=Atlantic/Reykjavik:20200324T090000
DTEND;TZID=Atlantic/Reykjavik:20200324T100000
DTSTAMP:20260422T140103
CREATED:20200318T092825Z
LAST-MODIFIED:20200318T135055Z
UID:1167-1585040400-1585044000@dokkan.is
SUMMARY:Stýring í ólgusjó
DESCRIPTION:Stýring í ólgusjó – Veffundur um mikilvægi tafarlausra aðgerða til að takmarka neikvæð áhrif COVID-19 á rekstur\nKPMG og Dokkan taka saman höndum og bjóða til veffundar þriðjudaginn 24. mars frá kl. 9:00-10:00. \nÓvæntar utanaðkomandi aðstæður geta leitt til mikillar óvissu. Þá er mikilvægt að ná tökum á stöðunni og gera viðeigandi ráðstafanir til þess að marka stefnu í gegnum áskoranirnar fram undan. \nÞegar tekjur dragast skyndilega saman\, fjárstreymi þornar upp og erfitt er að gera áreiðanlegar áætlanir er mikilvægt að ná tökum á stöðunni fljótt. Þá þarf að gera viðeigandi ráðstafanir og eiga skipulögð samskipti við alla sem hafa hagsmuna að gæta í því að reksturinn verði varinn. \nÁ fundinum fjalla ráðgjafar KPMG um hagnýt atriði er varða stýringu á rekstri í ólgusjó. Áhersla verður lögð á þætti er snúa að lausafé\, sjóðstreymi\, kostnaði og mikilvægum þáttum í ferlinu við að ná árangri. \nSkráðu þig á hefðbundinn hátt á fundinn og þú færð svo sendan tengill til að horfa á fundinn
URL:https://dokkan.is/fundur/veffundur-kpmg-og-dokkunnar/
CATEGORIES:Dokkufundir - fyrir þau sem vita að framtíðin bíður ekki eftir þeim sem bíða...
ATTACH;FMTTYPE=image/jpeg:https://dokkan.is/wp-content/uploads/2020/03/KPMG-Dokkan.jpg
END:VEVENT
END:VCALENDAR