BEGIN:VCALENDAR
VERSION:2.0
PRODID:-//Dokkan - ECPv6.15.17//NONSGML v1.0//EN
CALSCALE:GREGORIAN
METHOD:PUBLISH
X-WR-CALNAME:Dokkan
X-ORIGINAL-URL:https://dokkan.is
X-WR-CALDESC:Events for Dokkan
REFRESH-INTERVAL;VALUE=DURATION:PT1H
X-Robots-Tag:noindex
X-PUBLISHED-TTL:PT1H
BEGIN:VTIMEZONE
TZID:Atlantic/Reykjavik
BEGIN:STANDARD
TZOFFSETFROM:+0000
TZOFFSETTO:+0000
TZNAME:GMT
DTSTART:20190101T000000
END:STANDARD
END:VTIMEZONE
BEGIN:VEVENT
DTSTART;TZID=Atlantic/Reykjavik:20200203T100000
DTEND;TZID=Atlantic/Reykjavik:20200203T110000
DTSTAMP:20260422T154321
CREATED:20200815T123226Z
LAST-MODIFIED:20200815T175239Z
UID:3288-1580724000-1580727600@dokkan.is
SUMMARY:BEZTA: Verkefna- og breytingastjórnun með BPM áherslum
DESCRIPTION:EKKI er hægt að skrá sig á námskeiðið á þessari síðu.Smelltu hér til að skrá þig á námskeiðið – opnað verður fljótlega fyrir skráningar.
URL:https://dokkan.is/fundur/bezta-verkefna-og-breytingastjornun-med-bpm-aherslum/
LOCATION:Dokkan\, Iceland
CATEGORIES:Dokkufundir - fyrir þau sem vita að framtíðin bíður ekki eftir þeim sem bíða...
END:VEVENT
BEGIN:VEVENT
DTSTART;TZID=Atlantic/Reykjavik:20200203T100000
DTEND;TZID=Atlantic/Reykjavik:20200203T110000
DTSTAMP:20260422T154321
CREATED:20200815T123227Z
LAST-MODIFIED:20200815T175232Z
UID:3289-1580724000-1580727600@dokkan.is
SUMMARY:DOKKUFUNDUR: Á mannauðsmáli
DESCRIPTION:Þessum Dokkufundi hefur verið frestað um óákveðin tíma vegna varúðarráðstafanna gegn COVID – 19. Við finnum nýja dagss. þegar betur horfir með framvindu þessa vágestar.Við ætlum að velta upp nokkrum mikilvægum punktum um mannauðsmálin.Hverjir verða með okkur?Sigríður Elín Guðlaugsdóttir\, mannauðsstjóri EFLU verkfræðistofuUnnur Helgadóttir\, eigandi hlaðvarpsins Á mannamáliHvar
URL:https://dokkan.is/fundur/dokkufundur-a-mannaudsmali/
LOCATION:Dokkan\, Iceland
CATEGORIES:Dokkufundir - fyrir þau sem vita að framtíðin bíður ekki eftir þeim sem bíða...
END:VEVENT
BEGIN:VEVENT
DTSTART;TZID=Atlantic/Reykjavik:20200228T100000
DTEND;TZID=Atlantic/Reykjavik:20200228T110000
DTSTAMP:20260422T154321
CREATED:20200815T123226Z
LAST-MODIFIED:20200815T123226Z
UID:3287-1582884000-1582887600@dokkan.is
SUMMARY:DOKKUFUNDUR: Betri kynningar ná til fólks
DESCRIPTION:Hvernig geri ég kynningarnar mínar betri?Hvort sem það er kallað kynning\, ræða\, fyrirlestur\, viðtal eða ráðstefna – þú vilt koma þér og þínum skilaboðum þannig á framfæri að fólk verði fyrir áhrifum. Þessi fyrirlestur snýst vissulega um glærur – en meira um þig\, því þú ert kjarninn í því sem þú kynnir. Farið verður yfir hagnýtar aðferðir við skipulagningu kynninga\, punkta um framsetningu efnis og ekki síst samspil glærunotkunar og „ræðumennsku  þinnar.Hver verður með
URL:https://dokkan.is/fundur/dokkufundur-betri-kynningar-na-til-folks/
LOCATION:Dokkan\, Iceland
CATEGORIES:Dokkufundir - fyrir þau sem vita að framtíðin bíður ekki eftir þeim sem bíða...
END:VEVENT
END:VCALENDAR