BEGIN:VCALENDAR
VERSION:2.0
PRODID:-//Dokkan - ECPv6.15.17//NONSGML v1.0//EN
CALSCALE:GREGORIAN
METHOD:PUBLISH
X-ORIGINAL-URL:https://dokkan.is
X-WR-CALDESC:Events for Dokkan
REFRESH-INTERVAL;VALUE=DURATION:PT1H
X-Robots-Tag:noindex
X-PUBLISHED-TTL:PT1H
BEGIN:VTIMEZONE
TZID:Atlantic/Reykjavik
BEGIN:STANDARD
TZOFFSETFROM:+0000
TZOFFSETTO:+0000
TZNAME:GMT
DTSTART:20180101T000000
END:STANDARD
END:VTIMEZONE
BEGIN:VEVENT
DTSTART;TZID=Atlantic/Reykjavik:20191003T100000
DTEND;TZID=Atlantic/Reykjavik:20191003T110000
DTSTAMP:20260422T222348
CREATED:20200815T123233Z
LAST-MODIFIED:20200815T175357Z
UID:3318-1570096800-1570100400@dokkan.is
SUMMARY:DOKKUFUNDUR: Hvað brennur á vörum þeirra sem hafa stundað Lean í áratugi?
DESCRIPTION:Hvað hafa reynsluboltarnir lært og eru að miðla áfram?Pétur og Marianna fóru til Hartford\, Connecticut í október til að vera með erindi á ráðstefnunni The Northeast Lean Conference\, sem haldin er af þekkingar- og ráðgjafafyrirtækinu GBMP. Þessi ráðstefna er ein af virtustu Lean ráðstefnum sem haldin er í Ameríku og mörg erindi voru áhugaverð. Þema ráðstefnunnar var  Total employee engagement – engaging hearts and minds” en eins og heitið gefur til kynna þá snýst Lean um að þróa ||
URL:https://dokkan.is/fundur/dokkufundur-hvad-brennur-a-vorum-theirra-sem-hafa-stundad-lean-i-aratugi/
LOCATION:Dokkan\, Iceland
CATEGORIES:Dokkufundir - fyrir þau sem vita að framtíðin bíður ekki eftir þeim sem bíða...
END:VEVENT
BEGIN:VEVENT
DTSTART;TZID=Atlantic/Reykjavik:20191007T100000
DTEND;TZID=Atlantic/Reykjavik:20191007T110000
DTSTAMP:20260422T222348
CREATED:20200815T123233Z
LAST-MODIFIED:20200815T175355Z
UID:3317-1570442400-1570446000@dokkan.is
SUMMARY:Dokkufundur: Lean Office: Úr framleiðslu á skrifstofuna
DESCRIPTION:Lean aðferðafræðin er vel þekkt í framleiðslu enda á hún uppruna sinn að rekja til framleiðslulínunnar hjá Toyota.Þrátt fyrir að uppruninn sé úr framleiðslu hafa mörg fyrirtæki og stofnanir yfirfært aðferðirnar yfir á skrifstofuumhverfið og ferlana með góðum árangri. Á þessum fræðslufundi munu Margrét og Ásdís frá Gemba ráðgjöf og þjálfun fjalla um hvernig hægt er að yfirfæra aðferðirnar frá framleiðslu yfir á skrifstofuna á einfaldan hátt.Hverja hittum við?Þær Gemba
URL:https://dokkan.is/fundur/dokkufundur-lean-office-ur-framleidslu-a-skrifstofuna/
LOCATION:Dokkan\, Iceland
CATEGORIES:Dokkufundir - fyrir þau sem vita að framtíðin bíður ekki eftir þeim sem bíða...
END:VEVENT
BEGIN:VEVENT
DTSTART;TZID=Atlantic/Reykjavik:20191017T100000
DTEND;TZID=Atlantic/Reykjavik:20191017T110000
DTSTAMP:20260422T222348
CREATED:20200815T123233Z
LAST-MODIFIED:20200815T175353Z
UID:3316-1571306400-1571310000@dokkan.is
SUMMARY:BEZTA: Grunnnámskeið í Stjórnun viðskiptaferla BPM
DESCRIPTION:BEZTA námskeið þarf að greiða sérstaklega fyrir og þú getur ekki skráð þig á námskeiðið á þessari síðu.Allar nánari upplýsingar og skráning hér 
URL:https://dokkan.is/fundur/bezta-grunnnamskeid-i-stjornun-vidskiptaferla-bpm/
LOCATION:Dokkan\, Iceland
CATEGORIES:BEZTA námskeið,Dokkufundir - fyrir þau sem vita að framtíðin bíður ekki eftir þeim sem bíða...
END:VEVENT
BEGIN:VEVENT
DTSTART;TZID=Atlantic/Reykjavik:20191023T100000
DTEND;TZID=Atlantic/Reykjavik:20191023T110000
DTSTAMP:20260422T222348
CREATED:20200815T123233Z
LAST-MODIFIED:20200815T175351Z
UID:3315-1571824800-1571828400@dokkan.is
SUMMARY:DOKKAN / BRENNIDEPILL: Auditing Methodology: Out of Date or Up to Date?
DESCRIPTION:Stórviðburður á sviði úttekta\, einstakt tækifæri\, skoðaðu máliðSKRÁNING HÉRATH – ekki er hægt að skrá sig hér – eins og á venjulega Dokkufundi.
URL:https://dokkan.is/fundur/dokkan-brennidepill-auditing-methodology-out-of-date-or-up-to-date/
LOCATION:Dokkan\, Iceland
CATEGORIES:Dokkufundir - fyrir þau sem vita að framtíðin bíður ekki eftir þeim sem bíða...
END:VEVENT
BEGIN:VEVENT
DTSTART;TZID=Atlantic/Reykjavik:20191028T100000
DTEND;TZID=Atlantic/Reykjavik:20191028T110000
DTSTAMP:20260422T222348
CREATED:20200815T123232Z
LAST-MODIFIED:20200815T175350Z
UID:3314-1572256800-1572260400@dokkan.is
SUMMARY:DOKKUFUNDUR: ISO 14001\, ISO 45001 og  OHSAS 18001. Umhverfis- og öryggisstjórnunarkerfi
DESCRIPTION:Á Dokkufundinum fáum við innsýn í innleiðingu ISO 14001\, ISO 45001 og OHSAS 18001 hjá malbikunarstöðinni Colas og vinkill vottunarstofu við móttöku fyrirspurnar frá fyrirtæki um vottunarúttekt.Árið 2017 fékk Malbikunarstöðin Hlaðbær Colas ISO 14001 og OHSAS 18001 vottanir á umhverfis- og öryggisstjórnkerfi sitt og vinnur nú að því að uppfæra öryggisstjórnkerfið upp í ISO 45001. Á fundinum verður farið yfir ferlið við innleiðingarnar og þær áskoranir og tækifæri sem komið hafa upp í
URL:https://dokkan.is/fundur/dokkufundur-iso-14001-iso-45001-og-ohsas-18001-umhverfis-og-oryggisstjornunarkerfi/
LOCATION:Dokkan\, Iceland
CATEGORIES:Dokkufundir - fyrir þau sem vita að framtíðin bíður ekki eftir þeim sem bíða...
END:VEVENT
BEGIN:VEVENT
DTSTART;TZID=Atlantic/Reykjavik:20191029T100000
DTEND;TZID=Atlantic/Reykjavik:20191029T110000
DTSTAMP:20260422T222348
CREATED:20200815T123232Z
LAST-MODIFIED:20200815T175348Z
UID:3313-1572343200-1572346800@dokkan.is
SUMMARY:Dokkufundur: Hvernig getum við nýtt okkur framtíðarfræðin í hagnýtum tilgangi?
DESCRIPTION:Að nýta sér tækifærin við ystu sjónarröndÁ Dokkufundinum verður fjallað um hagnýtar aðferðir framtíðarfræða til að takast á við framtíðaráskorandir\, tækifæri og ógn\, á ólíkum sviðum stjórnunnar og reksturs. Rætt verður sérstaklega um þær umbreytingar sem væntanlegar eru í umhverfi fyrirtækja og stofnanna\, og hvernig hægt sé að greinar þær á nýstárlegan máta.Hver verður með okkur?Karl FriðrikssonKarl er forstöðumaður frumkvöðla og fyrirtækja hjá
URL:https://dokkan.is/fundur/dokkufundur-hvernig-getum-vid-nytt-okkur-framtidarfraedin-i-hagnytum-tilgangi/
LOCATION:Dokkan\, Iceland
CATEGORIES:Dokkufundir - fyrir þau sem vita að framtíðin bíður ekki eftir þeim sem bíða...
END:VEVENT
BEGIN:VEVENT
DTSTART;TZID=Atlantic/Reykjavik:20191031T100000
DTEND;TZID=Atlantic/Reykjavik:20191031T110000
DTSTAMP:20260422T222348
CREATED:20200815T123232Z
LAST-MODIFIED:20200815T175346Z
UID:3312-1572516000-1572519600@dokkan.is
SUMMARY:DOKKUFUNDUR: Leiðarvísir um vellíðan\, einbeitingu og jafnvægi á aðventunni (og alla hina dagana líka)
DESCRIPTION:Nú í aðdraganda aðventunar er gott að huga að sálartetrinu og setja stefnuna á að njóta þess sem framundan er. Á þessum tíma breytist andinn oft bæði á vinnustaðnum og heimilinu\, tilhlökkun og gleði en stundum líka stress og streita. Þá er gott að geta gripið til verkfæra eins og núvitundar og vera meira til staðar í lífinu\, bæði í leik og starfi. Á vinnustöðum má t.d. byrja vinnudaginn á 5 mínútna núvitundarhugleiðslu og fara einbeitt inn í verkefni dagsins.Við fáum góðan leiðarvísir\,
URL:https://dokkan.is/fundur/dokkufundur-leidarvisir-um-vellidan-einbeitingu-og-jafnvaegi-a-adventunni-og-alla-hina-dagana-lika/
LOCATION:Dokkan\, Iceland
CATEGORIES:Dokkufundir - fyrir þau sem vita að framtíðin bíður ekki eftir þeim sem bíða...
END:VEVENT
END:VCALENDAR