BEGIN:VCALENDAR
VERSION:2.0
PRODID:-//Dokkan - ECPv6.15.17//NONSGML v1.0//EN
CALSCALE:GREGORIAN
METHOD:PUBLISH
X-ORIGINAL-URL:https://dokkan.is
X-WR-CALDESC:Events for Dokkan
REFRESH-INTERVAL;VALUE=DURATION:PT1H
X-Robots-Tag:noindex
X-PUBLISHED-TTL:PT1H
BEGIN:VTIMEZONE
TZID:Atlantic/Reykjavik
BEGIN:STANDARD
TZOFFSETFROM:+0000
TZOFFSETTO:+0000
TZNAME:GMT
DTSTART:20180101T000000
END:STANDARD
END:VTIMEZONE
BEGIN:VEVENT
DTSTART;TZID=Atlantic/Reykjavik:20190409T100000
DTEND;TZID=Atlantic/Reykjavik:20190409T110000
DTSTAMP:20260423T092606
CREATED:20200815T123238Z
LAST-MODIFIED:20200815T175509Z
UID:3341-1554804000-1554807600@dokkan.is
SUMMARY:Nýsköpun og vélahönnun: Varmaendurvinnsla í Fjarðaáli nýtt til húshitunar í Fjarðabyggð
DESCRIPTION:Álframleiðsla krefst mikillar orku og um helmingur orkunnar tapast með ýmsu móti í framleiðsluferlinu. Sem dæmi þá tapast 40% af tapaðri orku með heitu kergasi út í andrúmsloftið. Orkustig (Enthalpy) kergassins er frekar hátt með tillit til umhverfishita og/eða hýbílahita á Íslandi. Það sama gildir raunar um reiðu (Entropy) orkunnar en hún er það há að mögulega mætti nýta hana til framleiðslu á vélrænni orku með hagnaði.Viðfangsefni þessa fyrirlesturs er afrakstur samstarfs Háskólans í
URL:https://dokkan.is/fundur/nyskopun-og-velahonnun-varmaendurvinnsla-i-fjardaali-nytt-til-hushitunar-i-fjardabyggd/
LOCATION:Dokkan\, Iceland
CATEGORIES:Dokkufundir - fyrir þau sem vita að framtíðin bíður ekki eftir þeim sem bíða...
END:VEVENT
BEGIN:VEVENT
DTSTART;TZID=Atlantic/Reykjavik:20190411T100000
DTEND;TZID=Atlantic/Reykjavik:20190411T110000
DTSTAMP:20260423T092606
CREATED:20200815T123238Z
LAST-MODIFIED:20200815T175444Z
UID:3339-1554976800-1554980400@dokkan.is
SUMMARY:Eru Evrópuverkefni eitthvað sem þú eða þinn vinnustaður ættuð að taka átt í?
DESCRIPTION:Við frestum þessum Dokkufundi til haustsins – hlökkum til að sjá ykkur þá.Menntaverkefnin eru að mati Bjargar Árnadóttur það fallegasta við Evrópusambandið. Hún hefur í tíu ár tekið þátt í grasrótarstarfi um þróun fullorðinsfræðslu og verkefnin eru nú orðin tíu.Á Dokkufundinum segir hún frá því hvernig hún lenti í fyrsta verkefninu og hvernig eitt hefur leitt af öðru\, frá öllum þeim vinum og vinnufélögum sem hún hefur
URL:https://dokkan.is/fundur/eru-evropuverkefni-eitthvad-sem-thu-eda-thinn-vinnustadur-aettud-ad-taka-att-i/
LOCATION:Dokkan\, Iceland
CATEGORIES:Dokkufundir - fyrir þau sem vita að framtíðin bíður ekki eftir þeim sem bíða...
END:VEVENT
BEGIN:VEVENT
DTSTART;TZID=Atlantic/Reykjavik:20190411T100000
DTEND;TZID=Atlantic/Reykjavik:20190411T110000
DTSTAMP:20260423T092606
CREATED:20200815T123238Z
LAST-MODIFIED:20200815T175506Z
UID:3340-1554976800-1554980400@dokkan.is
SUMMARY:Sjálfvirknivæðing viðskiptaferla - lög og reglugerðir\, persónuvernd
DESCRIPTION:Mikilvægt er að íslensk fyrirtæki sem hafa eða eru að sjálfvirknivæða ýmsa ákvarðanatöku hjá sér hugi að reglugerðum.Lítill vafi leikur á því að helsta keppikeflið á markaði í dag er að finna út hvernig megi sjálfvirknivæða viðskiptaferla\, þannig að vöru og þjónustu verði komið fljótar og hagkvæmar til viðskiptavina. Fyrirmyndirnar eru alls staðar\, allt frá leigubílaþjónustu til bankalána og annarrar fjármálaþjónustu\, þ.m.t. fjárfestingaráðgjöf. Og í ansi mörgum geirum má búast við því
URL:https://dokkan.is/fundur/sjalfvirknivaeding-vidskiptaferla-log-og-reglugerdir-personuvernd/
LOCATION:Dokkan\, Iceland
CATEGORIES:Dokkufundir - fyrir þau sem vita að framtíðin bíður ekki eftir þeim sem bíða...
END:VEVENT
END:VCALENDAR