BEGIN:VCALENDAR
VERSION:2.0
PRODID:-//Dokkan - ECPv6.15.17//NONSGML v1.0//EN
CALSCALE:GREGORIAN
METHOD:PUBLISH
X-WR-CALNAME:Dokkan
X-ORIGINAL-URL:https://dokkan.is
X-WR-CALDESC:Events for Dokkan
REFRESH-INTERVAL;VALUE=DURATION:PT1H
X-Robots-Tag:noindex
X-PUBLISHED-TTL:PT1H
BEGIN:VTIMEZONE
TZID:Atlantic/Reykjavik
BEGIN:STANDARD
TZOFFSETFROM:+0000
TZOFFSETTO:+0000
TZNAME:GMT
DTSTART:20170101T000000
END:STANDARD
END:VTIMEZONE
BEGIN:VEVENT
DTSTART;TZID=Atlantic/Reykjavik:20181002T100000
DTEND;TZID=Atlantic/Reykjavik:20181002T110000
DTSTAMP:20260423T192414
CREATED:20200815T123244Z
LAST-MODIFIED:20200815T175641Z
UID:3370-1538474400-1538478000@dokkan.is
SUMMARY:Að byggja upp vinsæla blogg- og vefsíðu
DESCRIPTION:Gulur\, rauður\, grænn og salt  (www.grgs.is) – sagan af uppbyggingunni.Á Dokkufundinum fáum við innsýn í bloggheiminn\, þann merkilega heim. Farið verður yfir ferlið alveg frá því að hugmyndin fæðist og þar til hún varð að einni af vinsælustu uppskriftarsíðum landsins.Fjallað verður um markaðssetningu\, leiðir til tekjuöflurnar\, ásamt hlutverki samfélagsmiðla og hvernig þeir hafa breyst milli ára\, ásamt því að við fáum innsýn í tölunar á bak við síðuna; heimsóknir og
URL:https://dokkan.is/fundur/ad-byggja-upp-vinsaela-blogg-og-vefsidu/
LOCATION:Dokkan\, Iceland
CATEGORIES:Dokkufundir - fyrir þau sem vita að framtíðin bíður ekki eftir þeim sem bíða...
END:VEVENT
END:VCALENDAR