BEGIN:VCALENDAR
VERSION:2.0
PRODID:-//Dokkan - ECPv6.15.17//NONSGML v1.0//EN
CALSCALE:GREGORIAN
METHOD:PUBLISH
X-WR-CALNAME:Dokkan
X-ORIGINAL-URL:https://dokkan.is
X-WR-CALDESC:Events for Dokkan
REFRESH-INTERVAL;VALUE=DURATION:PT1H
X-Robots-Tag:noindex
X-PUBLISHED-TTL:PT1H
BEGIN:VTIMEZONE
TZID:Atlantic/Reykjavik
BEGIN:STANDARD
TZOFFSETFROM:+0000
TZOFFSETTO:+0000
TZNAME:GMT
DTSTART:20170101T000000
END:STANDARD
END:VTIMEZONE
BEGIN:VEVENT
DTSTART;TZID=Atlantic/Reykjavik:20180202T100000
DTEND;TZID=Atlantic/Reykjavik:20180202T110000
DTSTAMP:20260424T084943
CREATED:20200815T123250Z
LAST-MODIFIED:20200815T175642Z
UID:3397-1517565600-1517569200@dokkan.is
SUMMARY:Innri endurskoðun - kynningarfundur um vottanir
DESCRIPTION:Á fundinum verða kynningar þær vottanir / faggildingar\, sem eru í boði hjá alþjóðasamtökunum IIA og ISACA\, sem tengjast innri endurskoðun og tölvuendurskoðun. Helstu gráður sem kynntar verða eru m.a.: CIA\, QIAL\, CFE\, CISA.Fundurinn er haldinn í samstarfi Dokkunnar og Félags um innri endurskoðun.Hverjir verða með okkur?Sérfræðingar PwC og fl.Hvar verðum við?Hjá PwC í Skógarhlíð 12\, 105 Reykjavík 
URL:https://dokkan.is/fundur/innri-endurskodun-kynningarfundur-um-vottanir/
LOCATION:Dokkan\, Iceland
CATEGORIES:Dokkufundir - fyrir þau sem vita að framtíðin bíður ekki eftir þeim sem bíða...
END:VEVENT
BEGIN:VEVENT
DTSTART;TZID=Atlantic/Reykjavik:20180212T100000
DTEND;TZID=Atlantic/Reykjavik:20180212T110000
DTSTAMP:20260424T084943
CREATED:20200815T123249Z
LAST-MODIFIED:20200815T175642Z
UID:3396-1518429600-1518433200@dokkan.is
SUMMARY:Lean: Þetta er ekki hægt!
DESCRIPTION:Því miður þá er fullbókað á fundinn\, ekkert lát er á vinsældum lean! Heiti Dokkufundarins er „Þetta er ekki hægt  og sýnir hversu öflug aðferðafræði straumlínustjórnunar (LEAN) er til aukinna afkasta og umbóta án yfirvinnutíma eða aukins mannafla. Á fundinum verður tekið fyrir dæmi um viðsnúning stórs verkefnis\, sem var orðið óstöðugt með of langan biðtíma umsókna og
URL:https://dokkan.is/fundur/lean-thetta-er-ekki-haegt/
LOCATION:Dokkan\, Iceland
CATEGORIES:Dokkufundir - fyrir þau sem vita að framtíðin bíður ekki eftir þeim sem bíða...
END:VEVENT
BEGIN:VEVENT
DTSTART;TZID=Atlantic/Reykjavik:20180219T100000
DTEND;TZID=Atlantic/Reykjavik:20180219T110000
DTSTAMP:20260424T084943
CREATED:20200815T123249Z
LAST-MODIFIED:20200815T175642Z
UID:3395-1519034400-1519038000@dokkan.is
SUMMARY:Að koma til baka eftir starfsþrot - hvernig?
DESCRIPTION:Eitt mikilvægasta málefni samfélagsins í dag!Á fundinum munum við leita svara við nokkrum mikilvægum spurningum sem fyrirtæki og stofnanir standa frammi fyrir þegar starfsfólk þarf að hverfa tímabundið eða alfarið úr starfi vegna starfsþrots eða kulnunar. Þarfir starfsmanna sem lenda í starfsþroti geta verið ólíkar\, sumir eru frá í styttri tíma og koma til baka í sama starf\, aðrir eru frá í lengri tíma og þurfa að koma til baka í hlutastarf eða annað starf með aðrar hæfnikröfur.
URL:https://dokkan.is/fundur/ad-koma-til-baka-eftir-starfsthrot-hvernig/
LOCATION:Dokkan\, Iceland
CATEGORIES:Dokkufundir - fyrir þau sem vita að framtíðin bíður ekki eftir þeim sem bíða...
END:VEVENT
BEGIN:VEVENT
DTSTART;TZID=Atlantic/Reykjavik:20180221T100000
DTEND;TZID=Atlantic/Reykjavik:20180221T110000
DTSTAMP:20260424T084943
CREATED:20200815T123249Z
LAST-MODIFIED:20200815T175642Z
UID:3394-1519207200-1519210800@dokkan.is
SUMMARY:Jafnlaunaferlið hjá Olís
DESCRIPTION:Vinna vegna jafnlaunavottunar skv jafnlaunastaðlinum ÍST 85:2012 hófst formlega hjá Olís í lok janúar á þessu ári. Samhliða var ákveðið að taka til endurskoðunar frammistöðumat\, einföldun starfslýsinga\, endurskoðun ferla og ýmsar stefnur tengdar mannauðsmálum. Áður hafði Olís fengið gullmerki PWC vegna jafnlaunaúttektar.Olís gekk til samstarfs við ráðgjafafyrirtækið Strategíu varðandi þetta verkefni og hefur Margrét Sanders ráðgjafi leitt það í samvinnu við Ragnheiði Björk
URL:https://dokkan.is/fundur/jafnlaunaferlid-hja-olis/
LOCATION:Dokkan\, Iceland
CATEGORIES:Dokkufundir - fyrir þau sem vita að framtíðin bíður ekki eftir þeim sem bíða...
END:VEVENT
BEGIN:VEVENT
DTSTART;TZID=Atlantic/Reykjavik:20180226T100000
DTEND;TZID=Atlantic/Reykjavik:20180226T110000
DTSTAMP:20260424T084943
CREATED:20200815T123249Z
LAST-MODIFIED:20200815T175642Z
UID:3393-1519639200-1519642800@dokkan.is
SUMMARY:Innivist: Flest okkar erum inni í allt að 280 daga á ári
DESCRIPTION:Já\, við erum innandyra allt að 280 daga á ári – þess vegna skiptir innivistin svo miklu máli fyrir heilsu starfsfólks\, vellíðan á vinnustaðnum\, árangur og afköst.Hvernig getum við gert innivistina betri\, heilnæmari\, verðmætari og skemmtilegri? Við vitum að líðan\, frammistaða og framleiðni starfsfólks felst meðal annars í góðri innivist á vinnustað.Við hugsum mikið um líkamsrækt\, upphækkanleg skrifborð\, hollan mat og þar fram eftir götunum – en hvað með aðra þætti sem eru
URL:https://dokkan.is/fundur/innivist-flest-okkar-erum-inni-i-allt-ad-280-daga-a-ari/
LOCATION:Dokkan\, Iceland
CATEGORIES:Dokkufundir - fyrir þau sem vita að framtíðin bíður ekki eftir þeim sem bíða...
END:VEVENT
END:VCALENDAR