BEGIN:VCALENDAR
VERSION:2.0
PRODID:-//Dokkan - ECPv6.15.17//NONSGML v1.0//EN
CALSCALE:GREGORIAN
METHOD:PUBLISH
X-ORIGINAL-URL:https://dokkan.is
X-WR-CALDESC:Events for Dokkan
REFRESH-INTERVAL;VALUE=DURATION:PT1H
X-Robots-Tag:noindex
X-PUBLISHED-TTL:PT1H
BEGIN:VTIMEZONE
TZID:Atlantic/Reykjavik
BEGIN:STANDARD
TZOFFSETFROM:+0000
TZOFFSETTO:+0000
TZNAME:GMT
DTSTART:20160101T000000
END:STANDARD
END:VTIMEZONE
BEGIN:VEVENT
DTSTART;TZID=Atlantic/Reykjavik:20171002T100000
DTEND;TZID=Atlantic/Reykjavik:20171002T110000
DTSTAMP:20260424T153547
CREATED:20200815T123253Z
LAST-MODIFIED:20200815T175642Z
UID:3418-1506938400-1506942000@dokkan.is
SUMMARY:Umbótaskóli\, innleiðing umbótataflna og sérstakt lean verkefni í tengslum við biðalista átak á LSH
DESCRIPTION:Eins og við flest vitum hefur lean aðferðafræðin lengi verið notuð á Landspítala háskólasjúkrahúsi og alveg komin tími á á nýjustu lean fréttir hjá LSH.Fundarefnið og hverjir verða með okkur? Viktoría Jensdóttir verkefnastjóri\, mun fjalla um umbótaþjálfun og umbótaskóla LSH. Hann skiptist upp í lean01 og lean 02 sem eru fyrir alla starfsmenn. Lean 03 sem eru fyrir þá sem vilja verða lean þjálfarar\, lean 04 fyrir stjórnendur. Vigdís
URL:https://dokkan.is/fundur/umbotaskoli-innleiding-umbotataflna-og-serstakt-lean-verkefni-i-tengslum-vid-bidalista-atak-a-lsh/
LOCATION:Dokkan\, Iceland
CATEGORIES:Dokkufundir - fyrir þau sem vita að framtíðin bíður ekki eftir þeim sem bíða...
END:VEVENT
BEGIN:VEVENT
DTSTART;TZID=Atlantic/Reykjavik:20171010T100000
DTEND;TZID=Atlantic/Reykjavik:20171010T110000
DTSTAMP:20260424T153547
CREATED:20200815T123253Z
LAST-MODIFIED:20200815T175642Z
UID:3416-1507629600-1507633200@dokkan.is
SUMMARY:Þau hættu með árleg starfsmannasamtöl - en hvað svo?
DESCRIPTION:Fullbókað er a fundinn – því miður!Athugið að fundurinn hefst kl. 8.45.Reynsla CCP og Sjóvá af örsamtölumCCP og Sjóvá ákváðu að hætta með hefðbundin árleg starfsmannasamtöl og færðu sig yfir í svokölluð 1:1 samtöl eða örsamtöl. Á þessum fundi munu Albert Arnarson\, talent management specialist hjá CCP og Ágústa Bjarnadóttir\, mannauðsstjóri hjá Sjóvá\, fara
URL:https://dokkan.is/fundur/thau-haettu-med-arleg-starfsmannasamtol-en-hvad-svo/
LOCATION:Dokkan\, Iceland
CATEGORIES:Dokkufundir - fyrir þau sem vita að framtíðin bíður ekki eftir þeim sem bíða...
END:VEVENT
BEGIN:VEVENT
DTSTART;TZID=Atlantic/Reykjavik:20171010T100000
DTEND;TZID=Atlantic/Reykjavik:20171010T110000
DTSTAMP:20260424T153547
CREATED:20200815T123253Z
LAST-MODIFIED:20200815T175642Z
UID:3417-1507629600-1507633200@dokkan.is
SUMMARY:Verkefnastjórnun hjá Vegagerðinni - Agile og framkvæmdir
DESCRIPTION:Hjá Vegagerðinni eru fjölmörg og stór verkefni í gangi hversu sinni en verkefni Vegagerðarinnar teljast til allra stærstu og dýrustu verkefna\, sem unnin eru á íslandi á hverju ári. Hjá Vegagerðinni er því gríðarlega mikil og verðmæt reynsla á sviði verkefnastjórnunar\, sem við fáum aðeins að kynnast á fundinum.Við fáum innsýn í beitingu Agile hugmyndafræðinar í verkefnum Vegagerðarinnar og hvernig má nýta hana almennt í verkefnadrifnum fyrirtækjum og stofnunum.Við fáum einnig
URL:https://dokkan.is/fundur/verkefnastjornun-hja-vegagerdinni-agile-og-framkvaemdir/
LOCATION:Dokkan\, Iceland
CATEGORIES:Dokkufundir - fyrir þau sem vita að framtíðin bíður ekki eftir þeim sem bíða...
END:VEVENT
BEGIN:VEVENT
DTSTART;TZID=Atlantic/Reykjavik:20171027T100000
DTEND;TZID=Atlantic/Reykjavik:20171027T110000
DTSTAMP:20260424T153547
CREATED:20200815T123253Z
LAST-MODIFIED:20200815T175642Z
UID:3415-1509098400-1509102000@dokkan.is
SUMMARY:Verkefnastjórnun: Breytingar á IT sviði Arion banka
DESCRIPTION:22. nóvember 2017\, kl. 8.30 – 9.45 Fyrr á þessu ári var ráðist í umfangsmiklar breytingar á verkefnastjórnun hjá upplýsingatæknisviði Arion banka. Á fundinum verður farið yfir hver hvatinn að breytingunum var\, hvernig gekk og hvaða lærdóm má draga af árinu.Boðið verður uppá morgunhressingu frá kl. 8.15.Hver verður með okkur?Guðrún Helga Hamar\, forstöðumaður verkefnastofu Arion bankaHvar verðum við?Hjá Arion banka\, Borgartúni 19\, 105
URL:https://dokkan.is/fundur/verkefnastjornun-breytingar-a-it-svidi-arion-banka/
LOCATION:Dokkan\, Iceland
CATEGORIES:Dokkufundir - fyrir þau sem vita að framtíðin bíður ekki eftir þeim sem bíða...
END:VEVENT
BEGIN:VEVENT
DTSTART;TZID=Atlantic/Reykjavik:20171030T100000
DTEND;TZID=Atlantic/Reykjavik:20171030T110000
DTSTAMP:20260424T153547
CREATED:20200815T123252Z
LAST-MODIFIED:20200815T175642Z
UID:3414-1509357600-1509361200@dokkan.is
SUMMARY:Hagfræði 101: Hugtökin sem við þurfum að skilja í betra samhengi
DESCRIPTION:Við fáum sérfræðinga hjá Samtökum atvinnulífsins til að útskýra fyrir okkur merkingu helstu hagfræðihugtaka sem við heyrum fjallað um næstum daglega. Hvaða þýðingu hafa þessi hugtök fyrir okkur\, vinnustaðinn okkar og samfélagið? Líka hvers vegna er mikilvægt fyrir okkur að þekkja og skilja þessi hugtök (fyrirbæri)?.Hverjir verða með okkur? (annar eða báðir) Óttar Snædal\, hagfræðingur á efnahagssviði SA Tryggvi Másson\, hagfræðingur á efnahagssviði
URL:https://dokkan.is/fundur/hagfraedi-101-hugtokin-sem-vid-thurfum-ad-skilja-i-betra-samhengi/
LOCATION:Dokkan\, Iceland
CATEGORIES:Dokkufundir - fyrir þau sem vita að framtíðin bíður ekki eftir þeim sem bíða...
END:VEVENT
BEGIN:VEVENT
DTSTART;TZID=Atlantic/Reykjavik:20171031T100000
DTEND;TZID=Atlantic/Reykjavik:20171031T110000
DTSTAMP:20260424T153547
CREATED:20200815T123252Z
LAST-MODIFIED:20200815T175642Z
UID:3413-1509444000-1509447600@dokkan.is
SUMMARY:Síðasta „tabúið  á vinnumarkaði: Uppbygging geðheilbrigðs vinnustaðar
DESCRIPTION:Síðasta „tabúið  á vinnumarkaðiHvernig birtast geðsjúkdómar á vinnustaðnum? Er kvíði fyrir verkefnum eða daglegum störfum? Er kvíði fyrir að mæta í vinnuna? Hvernig getum við hjálpað hvert öðru\, hvað geta stjórnendur gert og hvernig getum við öll byggt upp geðheilbrigða vinnustaði?Við fáum sérfræðinga frá Geðhjálp til að fjalla um þetta viðkvæma en mikilvæga málefni.Áherslur fundarins: Um Geðhjálp og hvernig þau geta aðstoðað (mjög stutt)
URL:https://dokkan.is/fundur/sidasta-tabuid-a-vinnumarkadi-uppbygging-gedheilbrigds-vinnustadar/
LOCATION:Dokkan\, Iceland
CATEGORIES:Dokkufundir - fyrir þau sem vita að framtíðin bíður ekki eftir þeim sem bíða...
END:VEVENT
BEGIN:VEVENT
DTSTART;TZID=Atlantic/Reykjavik:20171031T100000
DTEND;TZID=Atlantic/Reykjavik:20171031T110000
DTSTAMP:20260424T153547
CREATED:20200815T123252Z
LAST-MODIFIED:20200815T175642Z
UID:3412-1509444000-1509447600@dokkan.is
SUMMARY:Öryggismálin hjá Landsneti: Persónuöryggi\, rekstraröryggi\, neyðarstjórn og neyðarsamstarf innan raforkugeirans NSR
DESCRIPTION:Landsnet leggur mikla áherslu á að fyllsta öryggis sé gætt í allri starfsemi fyrirtækisins. Settar hafa verið reglur sem stuðla að öruggu og heilsusamlegu starfsumhverfi og engar málamiðlanir gerðar þegar kemur að öryggmálum.”Okkar sýn er að ekkert slys verði í starfseminni og því eru öryggismál mikilvæg í okkar augum og ávallt í forgangi\, enda ekkert mikilvægara en að starfsmenn komist heilir heim frá vinnu”.Á fundinum mun öryggisstjóri Landsnets kynna áherslur varðandi
URL:https://dokkan.is/fundur/oryggismalin-hja-landsneti-personuoryggi-rekstraroryggi-neydarstjorn-og-neydarsamstarf-innan-raforkugeirans-nsr/
LOCATION:Dokkan\, Iceland
CATEGORIES:Dokkufundir - fyrir þau sem vita að framtíðin bíður ekki eftir þeim sem bíða...
END:VEVENT
END:VCALENDAR