BEGIN:VCALENDAR
VERSION:2.0
PRODID:-//Dokkan - ECPv6.15.17//NONSGML v1.0//EN
CALSCALE:GREGORIAN
METHOD:PUBLISH
X-WR-CALNAME:Dokkan
X-ORIGINAL-URL:https://dokkan.is
X-WR-CALDESC:Events for Dokkan
REFRESH-INTERVAL;VALUE=DURATION:PT1H
X-Robots-Tag:noindex
X-PUBLISHED-TTL:PT1H
BEGIN:VTIMEZONE
TZID:Atlantic/Reykjavik
BEGIN:STANDARD
TZOFFSETFROM:+0000
TZOFFSETTO:+0000
TZNAME:GMT
DTSTART:20160101T000000
END:STANDARD
END:VTIMEZONE
BEGIN:VEVENT
DTSTART;TZID=Atlantic/Reykjavik:20170901T100000
DTEND;TZID=Atlantic/Reykjavik:20170901T110000
DTSTAMP:20260424T172332
CREATED:20200815T123254Z
LAST-MODIFIED:20200815T175658Z
UID:3424-1504260000-1504263600@dokkan.is
SUMMARY:Er verið að spá í Workplace by Facebook á þínum vinnustað?
DESCRIPTION:Er verið er að spá í Workplace by Facebook á þínum vinnustað ættir þú ekki að missa af þessum fundi.Við fáum góðan gest\, sem er mikill samfélagsmiðlahugsuður\, til að ræða nokkur atriði sem vert er að skoða áður en haldið er af stað í innleiðingu á Facebook fyrir vinnustaðinn. Hægt er að ná fram mörgum jákvæðum breytingum\, ef rétt er staðið að undirbúningi þess að taka í gangið Facebook fyrir vinnustaðinn. Upplýsingaflæði innanhúss verður auðveldara\, starfsfólk er betur upplýst og
URL:https://dokkan.is/fundur/er-verid-ad-spa-i-workplace-by-facebook-a-thinum-vinnustad/
LOCATION:Dokkan\, Iceland
CATEGORIES:Dokkufundir - fyrir þau sem vita að framtíðin bíður ekki eftir þeim sem bíða...
END:VEVENT
BEGIN:VEVENT
DTSTART;TZID=Atlantic/Reykjavik:20170903T100000
DTEND;TZID=Atlantic/Reykjavik:20170903T110000
DTSTAMP:20260424T172332
CREATED:20200815T123254Z
LAST-MODIFIED:20200815T175658Z
UID:3423-1504432800-1504436400@dokkan.is
SUMMARY:Hamingjan sanna! Heimildarmynd og jákvæð sálfræði
DESCRIPTION:Eins og sjá má á dagssetningunni þurftum við færa fundinn til 28. sept. Við biðjumst velvirðingar á því og vonum að það komi ekki að sök.Leitin að hamingjunni – fyrirlestur og heimildarmyndHugtakið hamingja hefur verið viðfangsefni heimspekinga í aldaraðir. Fræðimenn á sviði félagsvísinda hafa lagt sig fram í seinni tíð til að finna hina sönnu uppskrift að hamingjuríku lífi. Hamingjan hefur einnig verið mörgum söngskáldum og rithöfundum hugleikin og verið
URL:https://dokkan.is/fundur/hamingjan-sanna-heimildarmynd-og-jakvaed-salfraedi/
LOCATION:Dokkan\, Iceland
CATEGORIES:Dokkufundir - fyrir þau sem vita að framtíðin bíður ekki eftir þeim sem bíða...
END:VEVENT
BEGIN:VEVENT
DTSTART;TZID=Atlantic/Reykjavik:20170912T100000
DTEND;TZID=Atlantic/Reykjavik:20170912T110000
DTSTAMP:20260424T172332
CREATED:20200815T123254Z
LAST-MODIFIED:20200815T175658Z
UID:3422-1505210400-1505214000@dokkan.is
SUMMARY:Innleiðing jafnlaunastaðals hjá Hafnarfjarðarbæ\, áskoranir og áfangasigrar
DESCRIPTION:Markmið jafnlaunastaðalsins (ÍST 85:2012) er að auðvelda atvinnurekendum að koma á og viðhalda launajafnrétti kynja á sínum vinnustað. Staðallinn nýtist öllum fyrirtækjum og stofnunum óháð stærð\, starfsemi\, hlutverki og kynjahlutfalli. Hann á að tryggja fagleg vinnubrögð sem fyrirbyggja beina og óbeina mismunun vegna kyns. Þegar ákvörðun hefur verið tekin um að innleiða staðalinn þarf að setja upp verkáætlun\, gera stöðumat og fara yfir það hverjir af þeim þáttum sem gerðar eru kröfur
URL:https://dokkan.is/fundur/innleiding-jafnlaunastadals-hja-hafnarfjardarbae-askoranir-og-afangasigrar/
LOCATION:Dokkan\, Iceland
CATEGORIES:Dokkufundir - fyrir þau sem vita að framtíðin bíður ekki eftir þeim sem bíða...
END:VEVENT
BEGIN:VEVENT
DTSTART;TZID=Atlantic/Reykjavik:20170921T100000
DTEND;TZID=Atlantic/Reykjavik:20170921T110000
DTSTAMP:20260424T172332
CREATED:20200815T123254Z
LAST-MODIFIED:20200815T175658Z
UID:3421-1505988000-1505991600@dokkan.is
SUMMARY:Sjálfvirknivæðing á skrifstofum (Robotics Process Automatisation (RPA))
DESCRIPTION:Aukin sjálfvirknivæðing í skrifstofuumhverfinu hefur fengið mikinn meðbyr að undanförnu. Um er að ræða tækni sem nefnist “Robotics Process Automatisation (RPA)” og gengur í stuttu máli út á að sjálfvirknivæða ýmsa daglega vinnu í skrifstofuumhverfinu t.d. dæmigerð bakvinnsluverkefni sem eru endurtekin rútínuvinna.Einn aðal styrkur þessarar tækni er að viðskiptaeiningarnar sjálfar geta framkvæmt þessi verkefni í stað þess að UT teymin finni tíma til við að aðstoða við
URL:https://dokkan.is/fundur/sjalfvirknivaeding-a-skrifstofum-robotics-process-automatisation-rpa/
LOCATION:Dokkan\, Iceland
CATEGORIES:Dokkufundir - fyrir þau sem vita að framtíðin bíður ekki eftir þeim sem bíða...
END:VEVENT
BEGIN:VEVENT
DTSTART;TZID=Atlantic/Reykjavik:20170926T100000
DTEND;TZID=Atlantic/Reykjavik:20170926T110000
DTSTAMP:20260424T172332
CREATED:20200815T123254Z
LAST-MODIFIED:20200815T175657Z
UID:3420-1506420000-1506423600@dokkan.is
SUMMARY:Hvaða vinna liggur að baki Samgönguviðurkenningu Reykjavíkurborgar?
DESCRIPTION:Verkís hlaut á dögunum Samgönguviðurkenningu Reykjavíkurborgar og við fáum að skyggnast á bak við tjöldin og mótun og framkvæmd slíkrar verðlaunastefnu. Dómnefnd byggir val sitt á árangri og aðgerðum sem fyrirtæki\, félagasamtök\, stofnanir eða einstaklingar hafa gripið til í þeim tilgangi að t.d. einfalda starfsfólki að nýta sér aðra samgöngumáta en einkabílinn\, draga úr umferð á sínum vegum og/eða stuðla að notkun vistvænna orkugjafa.Nokkur
URL:https://dokkan.is/fundur/hvada-vinna-liggur-ad-baki-samgonguvidurkenningu-reykjavikurborgar/
LOCATION:Dokkan\, Iceland
CATEGORIES:Dokkufundir - fyrir þau sem vita að framtíðin bíður ekki eftir þeim sem bíða...
END:VEVENT
BEGIN:VEVENT
DTSTART;TZID=Atlantic/Reykjavik:20170928T100000
DTEND;TZID=Atlantic/Reykjavik:20170928T110000
DTSTAMP:20260424T172332
CREATED:20200815T123253Z
LAST-MODIFIED:20200815T175642Z
UID:3419-1506592800-1506596400@dokkan.is
SUMMARY:Virkni á vinnustað - hvað get ég gert?
DESCRIPTION:Athugið sérstakan fundartíma – upplagt að kíkja í Kringluna eftir fund!Okkur langar að gera tilraun með fleiri fundartíma og er þetta fyrsta tilraunin. Margar ástæður eru þarna að baki og má þar sérstaklega nefna þunga umferð á höfuðborgarsvæðinu á morgnana\, margir komast aldrei á morgnana og svo er bara gaman að breyta til\, eitthvað skemmtilegt og óvænt getur komið út úr því. Þið megið alveg segja okkur ykkar álit á nýjum
URL:https://dokkan.is/fundur/virkni-a-vinnustad-hvad-get-eg-gert/
LOCATION:Dokkan\, Iceland
CATEGORIES:Dokkufundir - fyrir þau sem vita að framtíðin bíður ekki eftir þeim sem bíða...
END:VEVENT
END:VCALENDAR