BEGIN:VCALENDAR
VERSION:2.0
PRODID:-//Dokkan - ECPv6.15.17//NONSGML v1.0//EN
CALSCALE:GREGORIAN
METHOD:PUBLISH
X-WR-CALNAME:Dokkan
X-ORIGINAL-URL:https://dokkan.is
X-WR-CALDESC:Events for Dokkan
REFRESH-INTERVAL;VALUE=DURATION:PT1H
X-Robots-Tag:noindex
X-PUBLISHED-TTL:PT1H
BEGIN:VTIMEZONE
TZID:Atlantic/Reykjavik
BEGIN:STANDARD
TZOFFSETFROM:+0000
TZOFFSETTO:+0000
TZNAME:GMT
DTSTART:20160101T000000
END:STANDARD
END:VTIMEZONE
BEGIN:VEVENT
DTSTART;TZID=Atlantic/Reykjavik:20170820T100000
DTEND;TZID=Atlantic/Reykjavik:20170820T110000
DTSTAMP:20260424T190429
CREATED:20200815T123255Z
LAST-MODIFIED:20200815T175658Z
UID:3428-1503223200-1503226800@dokkan.is
SUMMARY:Viltu fylla á sjálfstraustið fyrir veturinn?
DESCRIPTION:Dokkan byrjar veturinn með Bjarti Guðmundssyni\, sem farið hefur eins og eldur í sinu um borgina undanfarna mánuði og fyllt á sjálfstraustið okkar!Óstöðvandi – í topp tilfinningalegu ástandi!Hefur þú upplifað stund þar sem þú lékst á als oddi? Jafnvel dag sem þú varst upp á þitt allra besta. Samskipti gengu frábærlega\, hugmyndaauðgi í hámarki\, hugrekki\, orka\, og ástríða alls ráðandi. Þetta tilfinningalega ástand sem sumir kalla „sónið  þar sem við erum óstöðvandi.Getur
URL:https://dokkan.is/fundur/viltu-fylla-a-sjalfstraustid-fyrir-veturinn/
LOCATION:Dokkan\, Iceland
CATEGORIES:Dokkufundir - fyrir þau sem vita að framtíðin bíður ekki eftir þeim sem bíða...
END:VEVENT
BEGIN:VEVENT
DTSTART;TZID=Atlantic/Reykjavik:20170820T100000
DTEND;TZID=Atlantic/Reykjavik:20170820T110000
DTSTAMP:20260424T190429
CREATED:20200815T123255Z
LAST-MODIFIED:20200815T175658Z
UID:3429-1503223200-1503226800@dokkan.is
SUMMARY:Kynningar og framsögur sem skila árangri
DESCRIPTION: Að halda fyrirlestur\, hvort sem það er kynning á vöru eða innblásin ræða er mikil kúnst og margar spurningar sem vakna í undirbúningnum: Hvert er markmiðið með  framkomunni? Á ég að nota glærur – er það kannski úrelt? Skiptir máli hvergir eru að hlusta? Er eitthvað nýtt trend sem “allir” eru að nota? Ofl. ofl.Hver verður með okkur?Lára ÓskarsdóttirHvar verðum við?Á Nýsköpunarmiðstöð Íslands\, Árleyni
URL:https://dokkan.is/fundur/kynningar-og-framsogur-sem-skila-arangri/
LOCATION:Dokkan\, Iceland
CATEGORIES:Dokkufundir - fyrir þau sem vita að framtíðin bíður ekki eftir þeim sem bíða...
END:VEVENT
BEGIN:VEVENT
DTSTART;TZID=Atlantic/Reykjavik:20170821T100000
DTEND;TZID=Atlantic/Reykjavik:20170821T110000
DTSTAMP:20260424T190429
CREATED:20200815T123255Z
LAST-MODIFIED:20200815T175658Z
UID:3427-1503309600-1503313200@dokkan.is
SUMMARY:ISO 9001:2015 - nokkur góð ráð
DESCRIPTION:Ertu að undirbúa vottun fyrir ISO 9001:2015?Þá er þetta Dokkufundur sem þú mátt ekki missa af.Kynntar verða helstu breytingar á ISO 9001:2015\, rætt verður um hvernig fyrirtækjum hefur gengið við uppfærsluna og þjónusta BSI við hana kynnt. Nægur tími til fyrirspurna og samræða.Hverjir verða með okkur?Jenný Dögg Björgvinsdóttir\, verkefnastjóri hjá BSI á Íslandi og Guðjón Kristinsson\, sölu- og markaðsstjóri BSI á Íslandi.Hvar verðum við?Hjá BSI á
URL:https://dokkan.is/fundur/iso-90012015-nokkur-god-rad/
LOCATION:Dokkan\, Iceland
CATEGORIES:Dokkufundir - fyrir þau sem vita að framtíðin bíður ekki eftir þeim sem bíða...
END:VEVENT
BEGIN:VEVENT
DTSTART;TZID=Atlantic/Reykjavik:20170824T100000
DTEND;TZID=Atlantic/Reykjavik:20170824T110000
DTSTAMP:20260424T190429
CREATED:20200815T123255Z
LAST-MODIFIED:20200815T175658Z
UID:3426-1503568800-1503572400@dokkan.is
SUMMARY:Rafræn námskeið hjá Isavia. Viltu taka næstu skref?
DESCRIPTION:Því miður þá er fullbókað í öll 40 sætin hjá Ísavía að þessu sinni.Hvernig er hægt að auka gæði rafræns kennsluefnis? Hjá Isavia hefur notkun rafræns kennsluefnis færst í aukana síðustu ár. Fyrstu árin var efnið aðallega fyrirlestrar þar sem notast var við Power Point glærukynningar og námskeiðin vistuð á Moodle.Fræðsluteymi Isavia hefur nýverið tekið í notkun nýtt námsumsjónarkerfi\, Essens LMS\, sem
URL:https://dokkan.is/fundur/rafraen-namskeid-hja-isavia-viltu-taka-naestu-skref/
LOCATION:Dokkan\, Iceland
CATEGORIES:Dokkufundir - fyrir þau sem vita að framtíðin bíður ekki eftir þeim sem bíða...
END:VEVENT
BEGIN:VEVENT
DTSTART;TZID=Atlantic/Reykjavik:20170828T100000
DTEND;TZID=Atlantic/Reykjavik:20170828T110000
DTSTAMP:20260424T190429
CREATED:20200815T123255Z
LAST-MODIFIED:20200815T175658Z
UID:3425-1503914400-1503918000@dokkan.is
SUMMARY:Laun og launatengd gjöl - hvað er að frétta?
DESCRIPTION:Eins og önnur skattalög og reglur eru reglurnar um laun og launatengd gjöld flóknar og sífellt ð breytast. Á Dokkufundinum fáum við að frétta af nýjustu breytingunum ásamt að farið verður yfir allt það klassíska sem tengist þessum málaflokki í skattalegu tilliti ásamt öðrum reglum þessu tengdum.Nægur tími mun gefast til fyrirspurna og spjalls.Hver verður með okkur?Inga Jóna Óskarsdóttir\, viðurkenndur bókari hjá Bókhald og kennslaHvar verðum við?Á
URL:https://dokkan.is/fundur/laun-og-launatengd-gjol-hvad-er-ad-fretta/
LOCATION:Dokkan\, Iceland
CATEGORIES:Dokkufundir - fyrir þau sem vita að framtíðin bíður ekki eftir þeim sem bíða...
END:VEVENT
END:VCALENDAR