BEGIN:VCALENDAR
VERSION:2.0
PRODID:-//Dokkan - ECPv6.15.17//NONSGML v1.0//EN
CALSCALE:GREGORIAN
METHOD:PUBLISH
X-ORIGINAL-URL:https://dokkan.is
X-WR-CALDESC:Events for Dokkan
REFRESH-INTERVAL;VALUE=DURATION:PT1H
X-Robots-Tag:noindex
X-PUBLISHED-TTL:PT1H
BEGIN:VTIMEZONE
TZID:Atlantic/Reykjavik
BEGIN:STANDARD
TZOFFSETFROM:+0000
TZOFFSETTO:+0000
TZNAME:GMT
DTSTART:20160101T000000
END:STANDARD
END:VTIMEZONE
BEGIN:VEVENT
DTSTART;TZID=Atlantic/Reykjavik:20170505T100000
DTEND;TZID=Atlantic/Reykjavik:20170505T110000
DTSTAMP:20260425T014538
CREATED:20200815T123256Z
LAST-MODIFIED:20200815T175658Z
UID:3433-1493978400-1493982000@dokkan.is
SUMMARY:Hvaða hindranir standa í vegi fyrir fræðslu og þjálfun á þínum vinnustað?
DESCRIPTION:Hvaða hindranir standa í vegi fyrir fræðslu og þjálfun á þínum vinnustað?
URL:https://dokkan.is/fundur/hvada-hindranir-standa-i-vegi-fyrir-fraedslu-og-thjalfun-a-thinum-vinnustad/
LOCATION:Dokkan\, Iceland
CATEGORIES:Dokkufundir - fyrir þau sem vita að framtíðin bíður ekki eftir þeim sem bíða...
END:VEVENT
BEGIN:VEVENT
DTSTART;TZID=Atlantic/Reykjavik:20170508T100000
DTEND;TZID=Atlantic/Reykjavik:20170508T110000
DTSTAMP:20260425T014538
CREATED:20200815T123256Z
LAST-MODIFIED:20200815T175658Z
UID:3432-1494237600-1494241200@dokkan.is
SUMMARY:Ánægja viðskiptavina - ánægja starfsmanna
DESCRIPTION:Ánægja viðskiptavina – ánægja starfsmanna
URL:https://dokkan.is/fundur/anaegja-vidskiptavina-anaegja-starfsmanna/
LOCATION:Dokkan\, Iceland
CATEGORIES:Dokkufundir - fyrir þau sem vita að framtíðin bíður ekki eftir þeim sem bíða...
END:VEVENT
BEGIN:VEVENT
DTSTART;TZID=Atlantic/Reykjavik:20170511T100000
DTEND;TZID=Atlantic/Reykjavik:20170511T110000
DTSTAMP:20260425T014538
CREATED:20200815T123256Z
LAST-MODIFIED:20200815T175658Z
UID:3431-1494496800-1494500400@dokkan.is
SUMMARY:Regluvarsla og hugmyndafræði verkefnamiðaðrar vinnuaðstöðu
DESCRIPTION:Á Dokkufundinum verður m.a. fjallað um nýtt ákvæði tilmæla FME um hlítingaráættu (compliance risk) og við heimsækjum nýjar höfuðstöðvar Íslandsbanka
URL:https://dokkan.is/fundur/regluvarsla-og-hugmyndafraedi-verkefnamidadrar-vinnuadstodu/
LOCATION:Dokkan\, Iceland
CATEGORIES:Dokkufundir - fyrir þau sem vita að framtíðin bíður ekki eftir þeim sem bíða...
END:VEVENT
BEGIN:VEVENT
DTSTART;TZID=Atlantic/Reykjavik:20170516T100000
DTEND;TZID=Atlantic/Reykjavik:20170516T110000
DTSTAMP:20260425T014538
CREATED:20200815T123256Z
LAST-MODIFIED:20200815T175658Z
UID:3430-1494928800-1494932400@dokkan.is
SUMMARY:Lean: End-to-End value stream transformation - Valcon
DESCRIPTION:Lean: End-to-End value stream transformation – Valcon
URL:https://dokkan.is/fundur/lean-end-to-end-value-stream-transformation-valcon/
LOCATION:Dokkan\, Iceland
CATEGORIES:Dokkufundir - fyrir þau sem vita að framtíðin bíður ekki eftir þeim sem bíða...
END:VEVENT
END:VCALENDAR