BEGIN:VCALENDAR
VERSION:2.0
PRODID:-//Dokkan - ECPv6.15.17//NONSGML v1.0//EN
CALSCALE:GREGORIAN
METHOD:PUBLISH
X-ORIGINAL-URL:https://dokkan.is
X-WR-CALDESC:Events for Dokkan
REFRESH-INTERVAL;VALUE=DURATION:PT1H
X-Robots-Tag:noindex
X-PUBLISHED-TTL:PT1H
BEGIN:VTIMEZONE
TZID:Atlantic/Reykjavik
BEGIN:STANDARD
TZOFFSETFROM:+0000
TZOFFSETTO:+0000
TZNAME:GMT
DTSTART:20160101T000000
END:STANDARD
END:VTIMEZONE
BEGIN:VEVENT
DTSTART;TZID=Atlantic/Reykjavik:20170405T100000
DTEND;TZID=Atlantic/Reykjavik:20170405T110000
DTSTAMP:20260425T031830
CREATED:20200815T123257Z
LAST-MODIFIED:20200815T175658Z
UID:3436-1491386400-1491390000@dokkan.is
SUMMARY:Núvitund í teymum og á vinnustaðnum
DESCRIPTION:Núvitund í teymum og á vinnustaðnum
URL:https://dokkan.is/fundur/nuvitund-i-teymum-og-a-vinnustadnum/
LOCATION:Dokkan\, Iceland
CATEGORIES:Dokkufundir - fyrir þau sem vita að framtíðin bíður ekki eftir þeim sem bíða...
END:VEVENT
BEGIN:VEVENT
DTSTART;TZID=Atlantic/Reykjavik:20170409T100000
DTEND;TZID=Atlantic/Reykjavik:20170409T110000
DTSTAMP:20260425T031830
CREATED:20200815T123257Z
LAST-MODIFIED:20200815T175658Z
UID:3435-1491732000-1491735600@dokkan.is
SUMMARY:Betri svefn - grunnstoð heilsu
DESCRIPTION:Betri svefn – grunnstoð heilsu
URL:https://dokkan.is/fundur/betri-svefn-grunnstod-heilsu/
LOCATION:Dokkan\, Iceland
CATEGORIES:Dokkufundir - fyrir þau sem vita að framtíðin bíður ekki eftir þeim sem bíða...
END:VEVENT
BEGIN:VEVENT
DTSTART;TZID=Atlantic/Reykjavik:20170417T100000
DTEND;TZID=Atlantic/Reykjavik:20170417T110000
DTSTAMP:20260425T031830
CREATED:20200815T123256Z
LAST-MODIFIED:20200815T175658Z
UID:3434-1492423200-1492426800@dokkan.is
SUMMARY:Starfsþrot; orsakir\, einkenni og lausnir
DESCRIPTION:Starfsþrot; orsakir\, einkenni og lausnir
URL:https://dokkan.is/fundur/starfsthrot-orsakir-einkenni-og-lausnir/
LOCATION:Dokkan\, Iceland
CATEGORIES:Dokkufundir - fyrir þau sem vita að framtíðin bíður ekki eftir þeim sem bíða...
END:VEVENT
END:VCALENDAR