BEGIN:VCALENDAR
VERSION:2.0
PRODID:-//Dokkan - ECPv6.15.17//NONSGML v1.0//EN
CALSCALE:GREGORIAN
METHOD:PUBLISH
X-ORIGINAL-URL:https://dokkan.is
X-WR-CALDESC:Events for Dokkan
REFRESH-INTERVAL;VALUE=DURATION:PT1H
X-Robots-Tag:noindex
X-PUBLISHED-TTL:PT1H
BEGIN:VTIMEZONE
TZID:Atlantic/Reykjavik
BEGIN:STANDARD
TZOFFSETFROM:+0000
TZOFFSETTO:+0000
TZNAME:GMT
DTSTART:20150101T000000
END:STANDARD
END:VTIMEZONE
BEGIN:VEVENT
DTSTART;TZID=Atlantic/Reykjavik:20161103T100000
DTEND;TZID=Atlantic/Reykjavik:20161103T110000
DTSTAMP:20260425T123540
CREATED:20200815T123302Z
LAST-MODIFIED:20200815T175658Z
UID:3465-1478167200-1478170800@dokkan.is
SUMMARY:Áhættugreiningar á vinnuumhverfi hjá Össur
DESCRIPTION:Áhættugreiningar á vinnuumhverfi hjá Össur
URL:https://dokkan.is/fundur/ahaettugreiningar-a-vinnuumhverfi-hja-ossur/
LOCATION:Dokkan\, Iceland
CATEGORIES:Dokkufundir - fyrir þau sem vita að framtíðin bíður ekki eftir þeim sem bíða...
END:VEVENT
BEGIN:VEVENT
DTSTART;TZID=Atlantic/Reykjavik:20161110T100000
DTEND;TZID=Atlantic/Reykjavik:20161110T110000
DTSTAMP:20260425T123540
CREATED:20200815T123302Z
LAST-MODIFIED:20200815T175658Z
UID:3464-1478772000-1478775600@dokkan.is
SUMMARY:2 sekúndna Lean og Beyond Budgeting
DESCRIPTION:2 sekúndna Lean og Beyond Budgeting
URL:https://dokkan.is/fundur/2-sekundna-lean-og-beyond-budgeting/
LOCATION:Dokkan\, Iceland
CATEGORIES:Dokkufundir - fyrir þau sem vita að framtíðin bíður ekki eftir þeim sem bíða...
END:VEVENT
BEGIN:VEVENT
DTSTART;TZID=Atlantic/Reykjavik:20161113T100000
DTEND;TZID=Atlantic/Reykjavik:20161113T110000
DTSTAMP:20260425T123540
CREATED:20200815T123302Z
LAST-MODIFIED:20200815T175658Z
UID:3462-1479031200-1479034800@dokkan.is
SUMMARY:The Testing Model at GTE\, Sabre & Managing Test Environments
DESCRIPTION:The Testing Model at GTE\, Sabre & Managing Test Environments
URL:https://dokkan.is/fundur/the-testing-model-at-gte-sabre-managing-test-environments/
LOCATION:Dokkan\, Iceland
CATEGORIES:Dokkufundir - fyrir þau sem vita að framtíðin bíður ekki eftir þeim sem bíða...
END:VEVENT
BEGIN:VEVENT
DTSTART;TZID=Atlantic/Reykjavik:20161113T100000
DTEND;TZID=Atlantic/Reykjavik:20161113T110000
DTSTAMP:20260425T123540
CREATED:20200815T123302Z
LAST-MODIFIED:20200815T175658Z
UID:3463-1479031200-1479034800@dokkan.is
SUMMARY:Sucess factors for international projects
DESCRIPTION:Sucess factors for international projects
URL:https://dokkan.is/fundur/sucess-factors-for-international-projects/
LOCATION:Dokkan\, Iceland
CATEGORIES:Dokkufundir - fyrir þau sem vita að framtíðin bíður ekki eftir þeim sem bíða...
END:VEVENT
BEGIN:VEVENT
DTSTART;TZID=Atlantic/Reykjavik:20161116T100000
DTEND;TZID=Atlantic/Reykjavik:20161116T110000
DTSTAMP:20260425T123540
CREATED:20200815T123301Z
LAST-MODIFIED:20200815T175658Z
UID:3461-1479290400-1479294000@dokkan.is
SUMMARY:Viðverustefnur og viðverusamtöl
DESCRIPTION:Viðverustefnur og viðverusamtöl
URL:https://dokkan.is/fundur/vidverustefnur-og-vidverusamtol/
LOCATION:Dokkan\, Iceland
CATEGORIES:Dokkufundir - fyrir þau sem vita að framtíðin bíður ekki eftir þeim sem bíða...
END:VEVENT
BEGIN:VEVENT
DTSTART;TZID=Atlantic/Reykjavik:20161128T100000
DTEND;TZID=Atlantic/Reykjavik:20161128T110000
DTSTAMP:20260425T123540
CREATED:20200815T123301Z
LAST-MODIFIED:20200815T175658Z
UID:3458-1480327200-1480330800@dokkan.is
SUMMARY:Innri endurskoðun á upplýsingatækni Landsbankans
DESCRIPTION:Innri endurskoðun á upplýsingatækni Landsbankans
URL:https://dokkan.is/fundur/innri-endurskodun-a-upplysingataekni-landsbankans/
LOCATION:Dokkan\, Iceland
CATEGORIES:Dokkufundir - fyrir þau sem vita að framtíðin bíður ekki eftir þeim sem bíða...
END:VEVENT
BEGIN:VEVENT
DTSTART;TZID=Atlantic/Reykjavik:20161128T100000
DTEND;TZID=Atlantic/Reykjavik:20161128T110000
DTSTAMP:20260425T123540
CREATED:20200815T123301Z
LAST-MODIFIED:20200815T175658Z
UID:3459-1480327200-1480330800@dokkan.is
SUMMARY:Stress\, langvarandi streita og kulnun
DESCRIPTION:Stress\, langvarandi streita og kulnun
URL:https://dokkan.is/fundur/stress-langvarandi-streita-og-kulnun/
LOCATION:Dokkan\, Iceland
CATEGORIES:Dokkufundir - fyrir þau sem vita að framtíðin bíður ekki eftir þeim sem bíða...
END:VEVENT
BEGIN:VEVENT
DTSTART;TZID=Atlantic/Reykjavik:20161128T100000
DTEND;TZID=Atlantic/Reykjavik:20161128T110000
DTSTAMP:20260425T123540
CREATED:20200815T123301Z
LAST-MODIFIED:20200815T175658Z
UID:3460-1480327200-1480330800@dokkan.is
SUMMARY:Upplýsinga- og skjalstefna hjá Rvk. og Sjóvá
DESCRIPTION:Upplýsinga- og skjalstefna hjá Rvk. og Sjóvá
URL:https://dokkan.is/fundur/upplysinga-og-skjalstefna-hja-rvk-og-sjova/
LOCATION:Dokkan\, Iceland
CATEGORIES:Dokkufundir - fyrir þau sem vita að framtíðin bíður ekki eftir þeim sem bíða...
END:VEVENT
BEGIN:VEVENT
DTSTART;TZID=Atlantic/Reykjavik:20161129T100000
DTEND;TZID=Atlantic/Reykjavik:20161129T110000
DTSTAMP:20260425T123540
CREATED:20200815T123301Z
LAST-MODIFIED:20200815T175658Z
UID:3457-1480413600-1480417200@dokkan.is
SUMMARY:Stýring verkefnaskráar (PPM) í vöruþróun
DESCRIPTION:Stýring verkefnaskráar (PPM) í vöruþróun
URL:https://dokkan.is/fundur/styring-verkefnaskraar-ppm-i-voruthroun/
LOCATION:Dokkan\, Iceland
CATEGORIES:Dokkufundir - fyrir þau sem vita að framtíðin bíður ekki eftir þeim sem bíða...
END:VEVENT
END:VCALENDAR