BEGIN:VCALENDAR
VERSION:2.0
PRODID:-//Dokkan - ECPv6.15.17//NONSGML v1.0//EN
CALSCALE:GREGORIAN
METHOD:PUBLISH
X-WR-CALNAME:Dokkan
X-ORIGINAL-URL:https://dokkan.is
X-WR-CALDESC:Events for Dokkan
REFRESH-INTERVAL;VALUE=DURATION:PT1H
X-Robots-Tag:noindex
X-PUBLISHED-TTL:PT1H
BEGIN:VTIMEZONE
TZID:Atlantic/Reykjavik
BEGIN:STANDARD
TZOFFSETFROM:+0000
TZOFFSETTO:+0000
TZNAME:GMT
DTSTART:20150101T000000
END:STANDARD
END:VTIMEZONE
BEGIN:VEVENT
DTSTART;TZID=Atlantic/Reykjavik:20161003T100000
DTEND;TZID=Atlantic/Reykjavik:20161003T110000
DTSTAMP:20260425T141444
CREATED:20200815T123303Z
LAST-MODIFIED:20200815T175719Z
UID:3470-1475488800-1475492400@dokkan.is
SUMMARY:Helstu ágreinings- og deilumál á vinnumarkaði
DESCRIPTION:Helstu ágreinings- og deilumál á vinnumarkaði
URL:https://dokkan.is/fundur/helstu-agreinings-og-deilumal-a-vinnumarkadi/
LOCATION:Dokkan\, Iceland
CATEGORIES:Dokkufundir - fyrir þau sem vita að framtíðin bíður ekki eftir þeim sem bíða...
END:VEVENT
BEGIN:VEVENT
DTSTART;TZID=Atlantic/Reykjavik:20161010T100000
DTEND;TZID=Atlantic/Reykjavik:20161010T110000
DTSTAMP:20260425T141444
CREATED:20200815T123303Z
LAST-MODIFIED:20200815T175658Z
UID:3469-1476093600-1476097200@dokkan.is
SUMMARY:Fb@work
DESCRIPTION:Fb@work
URL:https://dokkan.is/fundur/fbwork/
LOCATION:Dokkan\, Iceland
CATEGORIES:Dokkufundir - fyrir þau sem vita að framtíðin bíður ekki eftir þeim sem bíða...
END:VEVENT
BEGIN:VEVENT
DTSTART;TZID=Atlantic/Reykjavik:20161014T100000
DTEND;TZID=Atlantic/Reykjavik:20161014T110000
DTSTAMP:20260425T141444
CREATED:20200815T123303Z
LAST-MODIFIED:20200815T175658Z
UID:3468-1476439200-1476442800@dokkan.is
SUMMARY:Tilraun um styttingu vinnuvikunnar
DESCRIPTION:Tilraun um styttingu vinnuvikunnar
URL:https://dokkan.is/fundur/tilraun-um-styttingu-vinnuvikunnar/
LOCATION:Dokkan\, Iceland
CATEGORIES:Dokkufundir - fyrir þau sem vita að framtíðin bíður ekki eftir þeim sem bíða...
END:VEVENT
BEGIN:VEVENT
DTSTART;TZID=Atlantic/Reykjavik:20161026T100000
DTEND;TZID=Atlantic/Reykjavik:20161026T110000
DTSTAMP:20260425T141444
CREATED:20200815T123302Z
LAST-MODIFIED:20200815T175658Z
UID:3466-1477476000-1477479600@dokkan.is
SUMMARY:Ábyrgð á eigin þekkingu - nýjar víddir
DESCRIPTION:Ábyrgð á eigin þekkingu – nýjar víddir
URL:https://dokkan.is/fundur/abyrgd-a-eigin-thekkingu-nyjar-viddir/
LOCATION:Dokkan\, Iceland
CATEGORIES:Dokkufundir - fyrir þau sem vita að framtíðin bíður ekki eftir þeim sem bíða...
END:VEVENT
BEGIN:VEVENT
DTSTART;TZID=Atlantic/Reykjavik:20161026T100000
DTEND;TZID=Atlantic/Reykjavik:20161026T110000
DTSTAMP:20260425T141444
CREATED:20200815T123302Z
LAST-MODIFIED:20200815T175658Z
UID:3467-1477476000-1477479600@dokkan.is
SUMMARY:Hagnýt beiting núvitunar í teymum og í samskiptum á vinnustað
DESCRIPTION:Hagnýt beiting núvitunar í teymum og í samskiptum á vinnustað
URL:https://dokkan.is/fundur/hagnyt-beiting-nuvitunar-i-teymum-og-i-samskiptum-a-vinnustad/
LOCATION:Dokkan\, Iceland
CATEGORIES:Dokkufundir - fyrir þau sem vita að framtíðin bíður ekki eftir þeim sem bíða...
END:VEVENT
END:VCALENDAR