BEGIN:VCALENDAR
VERSION:2.0
PRODID:-//Dokkan - ECPv6.15.17//NONSGML v1.0//EN
CALSCALE:GREGORIAN
METHOD:PUBLISH
X-WR-CALNAME:Dokkan
X-ORIGINAL-URL:https://dokkan.is
X-WR-CALDESC:Events for Dokkan
REFRESH-INTERVAL;VALUE=DURATION:PT1H
X-Robots-Tag:noindex
X-PUBLISHED-TTL:PT1H
BEGIN:VTIMEZONE
TZID:Atlantic/Reykjavik
BEGIN:STANDARD
TZOFFSETFROM:+0000
TZOFFSETTO:+0000
TZNAME:GMT
DTSTART:20150101T000000
END:STANDARD
END:VTIMEZONE
BEGIN:VEVENT
DTSTART;TZID=Atlantic/Reykjavik:20160404T100000
DTEND;TZID=Atlantic/Reykjavik:20160404T110000
DTSTAMP:20260425T234741
CREATED:20200815T123307Z
LAST-MODIFIED:20200815T175719Z
UID:3489-1459764000-1459767600@dokkan.is
SUMMARY:Agile forritun: Teams at the Heart of Development/ Service Leadership
DESCRIPTION:Agile forritun: Teams at the Heart of Development/ Service Leadership
URL:https://dokkan.is/fundur/agile-forritun-teams-at-the-heart-of-development-service-leadership/
LOCATION:Dokkan\, Iceland
CATEGORIES:Dokkufundir - fyrir þau sem vita að framtíðin bíður ekki eftir þeim sem bíða...
END:VEVENT
BEGIN:VEVENT
DTSTART;TZID=Atlantic/Reykjavik:20160404T100000
DTEND;TZID=Atlantic/Reykjavik:20160404T110000
DTSTAMP:20260425T234741
CREATED:20200815T123307Z
LAST-MODIFIED:20200815T175719Z
UID:3490-1459764000-1459767600@dokkan.is
SUMMARY:Efnastjórnun: Öryggisblöð (SDS)\, lestur og skilningur
DESCRIPTION:Efnastjórnun: Öryggisblöð (SDS)\, lestur og skilningur
URL:https://dokkan.is/fundur/efnastjornun-oryggisblod-sds-lestur-og-skilningur/
LOCATION:Dokkan\, Iceland
CATEGORIES:Dokkufundir - fyrir þau sem vita að framtíðin bíður ekki eftir þeim sem bíða...
END:VEVENT
BEGIN:VEVENT
DTSTART;TZID=Atlantic/Reykjavik:20160408T100000
DTEND;TZID=Atlantic/Reykjavik:20160408T110000
DTSTAMP:20260425T234741
CREATED:20200815T123307Z
LAST-MODIFIED:20200815T175719Z
UID:3487-1460109600-1460113200@dokkan.is
SUMMARY:Ábyrgð stjórnenda / verkstjóra með mannaforráð
DESCRIPTION:Ábyrgð stjórnenda / verkstjóra með mannaforráð
URL:https://dokkan.is/fundur/abyrgd-stjornenda-verkstjora-med-mannaforrad/
LOCATION:Dokkan\, Iceland
CATEGORIES:Dokkufundir - fyrir þau sem vita að framtíðin bíður ekki eftir þeim sem bíða...
END:VEVENT
BEGIN:VEVENT
DTSTART;TZID=Atlantic/Reykjavik:20160408T100000
DTEND;TZID=Atlantic/Reykjavik:20160408T110000
DTSTAMP:20260425T234741
CREATED:20200815T123307Z
LAST-MODIFIED:20200815T175719Z
UID:3488-1460109600-1460113200@dokkan.is
SUMMARY:Hugprófanir - tæki og tól
DESCRIPTION:Hugprófanir – tæki og tól
URL:https://dokkan.is/fundur/hugprofanir-taeki-og-tol/
LOCATION:Dokkan\, Iceland
CATEGORIES:Dokkufundir - fyrir þau sem vita að framtíðin bíður ekki eftir þeim sem bíða...
END:VEVENT
BEGIN:VEVENT
DTSTART;TZID=Atlantic/Reykjavik:20160413T100000
DTEND;TZID=Atlantic/Reykjavik:20160413T110000
DTSTAMP:20260425T234741
CREATED:20200815T123306Z
LAST-MODIFIED:20200815T175719Z
UID:3486-1460541600-1460545200@dokkan.is
SUMMARY:Heildarkostnaður eignarhalds”\, (e. Total Cost of Ownership/TCO)
DESCRIPTION:Heildarkostnaður eignarhalds”\, (e. Total Cost of Ownership/TCO)
URL:https://dokkan.is/fundur/heildarkostnadur-eignarhalds-e-total-cost-of-ownership-tco/
LOCATION:Dokkan\, Iceland
CATEGORIES:Dokkufundir - fyrir þau sem vita að framtíðin bíður ekki eftir þeim sem bíða...
END:VEVENT
BEGIN:VEVENT
DTSTART;TZID=Atlantic/Reykjavik:20160414T100000
DTEND;TZID=Atlantic/Reykjavik:20160414T110000
DTSTAMP:20260425T234741
CREATED:20200815T123306Z
LAST-MODIFIED:20200815T175719Z
UID:3485-1460628000-1460631600@dokkan.is
SUMMARY:Nýting agile aðferða við daglega stjórnun
DESCRIPTION:Nýting agile aðferða við daglega stjórnun
URL:https://dokkan.is/fundur/nyting-agile-adferda-vid-daglega-stjornun/
LOCATION:Dokkan\, Iceland
CATEGORIES:Dokkufundir - fyrir þau sem vita að framtíðin bíður ekki eftir þeim sem bíða...
END:VEVENT
BEGIN:VEVENT
DTSTART;TZID=Atlantic/Reykjavik:20160425T100000
DTEND;TZID=Atlantic/Reykjavik:20160425T110000
DTSTAMP:20260425T234741
CREATED:20200815T123306Z
LAST-MODIFIED:20200815T175719Z
UID:3484-1461578400-1461582000@dokkan.is
SUMMARY:Lean hjá 66°
DESCRIPTION:Lean hjá 66°
URL:https://dokkan.is/fundur/lean-hja-66/
LOCATION:Dokkan\, Iceland
CATEGORIES:Dokkufundir - fyrir þau sem vita að framtíðin bíður ekki eftir þeim sem bíða...
END:VEVENT
END:VCALENDAR