BEGIN:VCALENDAR
VERSION:2.0
PRODID:-//Dokkan - ECPv6.15.17//NONSGML v1.0//EN
CALSCALE:GREGORIAN
METHOD:PUBLISH
X-WR-CALNAME:Dokkan
X-ORIGINAL-URL:https://dokkan.is
X-WR-CALDESC:Events for Dokkan
REFRESH-INTERVAL;VALUE=DURATION:PT1H
X-Robots-Tag:noindex
X-PUBLISHED-TTL:PT1H
BEGIN:VTIMEZONE
TZID:Atlantic/Reykjavik
BEGIN:STANDARD
TZOFFSETFROM:+0000
TZOFFSETTO:+0000
TZNAME:GMT
DTSTART:20250101T000000
END:STANDARD
END:VTIMEZONE
BEGIN:VEVENT
DTSTART;TZID=Atlantic/Reykjavik:20260422T090000
DTEND;TZID=Atlantic/Reykjavik:20260422T094500
DTSTAMP:20260422T022601
CREATED:20260324T082503Z
LAST-MODIFIED:20260324T185336Z
UID:11563-1776848400-1776851100@dokkan.is
SUMMARY:Handan opinna rýma - Að hanna fyrir starfsorku og menningu
DESCRIPTION:Á þessum Dokkufundi verður fjallað um hönnun vinnurýma fyrir verkefnamiðaða vinnu (e. Activity-Based Working) en áhersla þeirrar hugmyndafræði liggur í því hvernig hönnun getur mætt kröfum nútímans um einbeitingu\, samvinnu og vellíðan\, ásamt því að skapa sveigjanleg rými sem standast tímans tönn. \nÞessi hugmyndafræði leggur einnig ríka áherslu á að byggingar og innviðir geti auðveldlega aðlagast nýjum hlutverkum sem heldur niðri bæði kostnaði og umhverfisáhrifum. \nHver verður með okkur\nHildur Ísdal Þorgeirsdóttir\, en hún er arkitekt og innanhússhönnuður með yfir tíu ára reynslu frá Stokkhólmi\, þar sem hún lærði og starfaði hjá Arkitema\, einni framsæknustu arkitektastofu Norðurlanda. \nÞar sérhæfði hún sig í verkefnamiðuðu vinnuumhverfi (Activity-Based Working) og hönnun lausna fyrir skrifstofur\, skóla og opinberar byggingar. \nHildur er flutt heim til Íslands og hefur nýlega stofnað eigin stofu\, Ísdal – Arkitektúr & innanhússhönnun. \nHæfniþættir\n\nÁ Dokkufundum er lagt upp með að efla hæfni þátttakenda\, til að viðhalda og auka atvinnuhæfni þeirra – og sem styðja þátttakendur almennt við að dafna á vinnumarkaði framtíðarinnar og í samfélagi framtíðarinnar. \nÁ fundunum tengjum við ýmist við þá hæfniþætti sem WEF (World Economic Forum) hefur sagt að verði í mestri eftirspurn til næstu ára\neða þá hæfniþætti sem McKinsey hefur sagt að við þurfum á að halda til að dafna á vinnumarkaði framtíðarinnar og í samfélagi framtíðarinnar. \nÁ þessum fundi fá þátttakendur fróðleik sem tengist eftirfarandi hæfniþáttum: \n\nStjórnunarhæfni\nVitræn hæfni\n\n  \n\nHvar verðum við\nÁ vefnum – í Teams
URL:https://dokkan.is/fundur/honnun-vinnurymis/
LOCATION:Á vefnum
CATEGORIES:Dokkufundir - fyrir þau sem vita að framtíðin bíður ekki eftir þeim sem bíða...
ATTACH;FMTTYPE=image/jpeg:https://dokkan.is/wp-content/uploads/2026/03/Hildur-Isdal2_300.jpg
END:VEVENT
END:VCALENDAR